BEGIN:VCALENDAR
VERSION:2.0
PRODID:-//Unity of the Triangle - ECPv6.15.18//NONSGML v1.0//EN
CALSCALE:GREGORIAN
METHOD:PUBLISH
X-WR-CALNAME:Unity of the Triangle
X-ORIGINAL-URL:https://unitytriangle.org
X-WR-CALDESC:Events for Unity of the Triangle
REFRESH-INTERVAL;VALUE=DURATION:PT1H
X-Robots-Tag:noindex
X-PUBLISHED-TTL:PT1H
BEGIN:VTIMEZONE
TZID:America/New_York
BEGIN:DAYLIGHT
TZOFFSETFROM:-0500
TZOFFSETTO:-0400
TZNAME:EDT
DTSTART:20250309T070000
END:DAYLIGHT
BEGIN:STANDARD
TZOFFSETFROM:-0400
TZOFFSETTO:-0500
TZNAME:EST
DTSTART:20251102T060000
END:STANDARD
BEGIN:DAYLIGHT
TZOFFSETFROM:-0500
TZOFFSETTO:-0400
TZNAME:EDT
DTSTART:20260308T070000
END:DAYLIGHT
BEGIN:STANDARD
TZOFFSETFROM:-0400
TZOFFSETTO:-0500
TZNAME:EST
DTSTART:20261101T060000
END:STANDARD
BEGIN:DAYLIGHT
TZOFFSETFROM:-0500
TZOFFSETTO:-0400
TZNAME:EDT
DTSTART:20270314T070000
END:DAYLIGHT
BEGIN:STANDARD
TZOFFSETFROM:-0400
TZOFFSETTO:-0500
TZNAME:EST
DTSTART:20271107T060000
END:STANDARD
END:VTIMEZONE
BEGIN:VEVENT
DTSTART;TZID=America/New_York:20260422T100000
DTEND;TZID=America/New_York:20260422T130000
DTSTAMP:20260422T085103
CREATED:20260407T183445Z
LAST-MODIFIED:20260407T183445Z
UID:10012596-1776852000-1776862800@unitytriangle.org
SUMMARY:Spring Art Exhibit | Submissions Due
DESCRIPTION:Connecting Through Creative Expression\nSpring Art Exhibit |Submit Your Work\n🗓️ Wednesday\, April 22\, 2026 \n10:00 – 1:00pm \nFellowship Hall \n Unity of the Triangle \n📍5570 Munford Road\, Raleigh \nWhat’s the theme of the Spring 2026 Art Exhibit?\nThe theme of the Spring Art Exhibit is “Imagine That!” Creativity is one of the deepest ways we touch the Divine within us. Our Spring 2026 Unity art show is a chance for our community to celebrate that spark together – to fill our fellowship hall with beauty\, inspiration\, and connection. Whether you are an experienced artist or simply interested in sharing something new\, your participation helps our community come alive. Each piece displayed adds warmth and spirit to our space\, reminding us that art and unity truly belong together. \nWhat kind of art is Unity featuring during the Spring 2026 Art Exhibit?\nUnity artists and photographers are invited to deliver their 2-D art and photography to the Unity Fellowship Hall on Wednesday\, April 22nd from 10 A.M.-1P.M.\nAll works should be framed and have wire only on the back (no saw tooth hangers).  Please label works with creators name\, title of work\, email\, and price if desired. Unity has a limited number of 11″x 14″ frames for temporary use during the show for photography when needed.\nFor further information please contact Anne Reese at artistareese@gmail.com
URL:https://unitytriangle.org/event/spring-art-exhibit-submissions/
LOCATION:Unity of the Triangle\, 5570 Munford Road\, Raleigh\, NC\, 27612\, United States
CATEGORIES:Art
ATTACH;FMTTYPE=image/jpeg:https://unitytriangle.org/wp-content/uploads/2026/04/Spring-26-Art-Exhibit_slide.jpg
ORGANIZER;CN="Unity of the Triangle":MAILTO:info@unitytriangle.org
END:VEVENT
BEGIN:VEVENT
DTSTART;TZID=America/New_York:20260422T180000
DTEND;TZID=America/New_York:20260422T183000
DTSTAMP:20260422T085103
CREATED:20260414T020223Z
LAST-MODIFIED:20260414T020223Z
UID:10012655-1776880800-1776882600@unitytriangle.org
SUMMARY:Guided Meditation for Peace & Presence
DESCRIPTION:Guided Meditation for Peace & Presence in Raleigh\nMidweek Meditation at Unity of the Triangle\nWednesdays | 6:00–6:30 PM | Green Room (Next to the Sanctuary)\nJoin us for a welcoming 30-minute guided meditation in Raleigh designed for both beginners and experienced practitioners. On Wednesdays\, we explore a blend of chanting\, mantra practice\, contemplation\, and prayer\, along with other accessible techniques to help quiet the mind and center the spirit. Whether you’re new to meditation or deepening an existing practice\, we invite to to come as you are and participate at your own pace. No prior experience is needed! \nAt Unity of the Triangle\, meditation is part of a larger journey of personal transformation\, spiritual growth\, and living with intention. It’s not about perfection—it’s about presence. This weekly meditation draws from Yogic practices\, using simple\, practical tools to quiet the mind and awaken to the peace within. \nA Guided Meditation Practice for Real Life\nCalm the Mind. Center the Spirit.\nThis weekly meditation class is rooted in Unity’s positive\, practical spirituality\, offering techniques you can carry into your everyday life. Together\, we explore: \n\nGuided meditation for relaxation and clarity\nChanting and mantra for focus and grounding\nContemplative silence and inner awareness\nPrayer as a tool for connection and transformation\n\nWhether you are seeking stress relief\, spiritual growth\, or a consistent meditation practice\, this class supports you in developing a deeper relationship with stillness and presence. \nMeditation Led by Rev. Michael Gadway\nA Welcoming and Inclusive Experience\nRev. Michael Gadway offers a grounded\, compassionate approach to meditation\, making each session approachable and meaningful. This is a space where: \n\nBeginners feel comfortable starting their practice\nExperienced meditators can deepen their awareness\nAll spiritual paths are honored and respected\n\nRev. Michael Gadway is Unity’s Spiritual Education Director\, a minister\, teacher\, poet\, and writer focusing on yoga\, meditation\, common-sense spirituality\, and radical acceptance for emotional and spiritual health. At Unity of the Triangle\, he teaches classes and workshops on meditation\, holistic healing and spiritual growth. \nWhy Meditation Matters\nSupport for Mind\, Body\, and Spirit\nA consistent meditation practice has been shown to support: \n\nReduced stress and anxiety\nGreater emotional balance\nIncreased focus and clarity\nA deeper sense of connection and inner peace\n\nJoin Us for Midweek Meditation in Raleigh\nCome As You Are\nWednesdays | 6:00–6:30 PM\nLocation: Green Room (next to the Sanctuary)\nUnity of the Triangle – Raleigh\, NC \nTake a pause. Breathe deeply. Reconnect with what matters most. All are welcome. \n 
URL:https://unitytriangle.org/event/guided-meditation-for-peace-presence/2026-04-22/
LOCATION:Unity of the Triangle\, 5570 Munford Road\, Raleigh\, NC\, 27612\, United States
CATEGORIES:Meditation,Spiritual Education and Enrichment
ATTACH;FMTTYPE=image/jpeg:https://unitytriangle.org/wp-content/uploads/2026/04/Meditation-Mindfulness-Practice_slide-1.jpg
ORGANIZER;CN="Unity of the Triangle":MAILTO:info@unitytriangle.org
END:VEVENT
BEGIN:VEVENT
DTSTART;TZID=America/New_York:20260422T190000
DTEND;TZID=America/New_York:20260422T203000
DTSTAMP:20260422T085103
CREATED:20251218T173345Z
LAST-MODIFIED:20260205T165540Z
UID:10003209-1776884400-1776889800@unitytriangle.org
SUMMARY:Unity Choir Practice
DESCRIPTION:Join us for choir practice Wednesday nights. Fellowship starts at 6:30 pm; rehearsal is from 7-8:30 pm. To learn more\, contact our Music Director\, Tim Smith\, at (919) 832-8324\, Ext. 107\, or email tim.smith@unitytriangle.org.
URL:https://unitytriangle.org/event/choir-2/2026-04-22/
LOCATION:NC
CATEGORIES:Adult Choir,Music,Virtual Event
ATTACH;FMTTYPE=image/jpeg:https://unitytriangle.org/wp-content/uploads/2019/12/IMG_2388.jpg
END:VEVENT
END:VCALENDAR