BEGIN:VCALENDAR
VERSION:2.0
PRODID:-//Unity of the Triangle - ECPv6.15.18//NONSGML v1.0//EN
CALSCALE:GREGORIAN
METHOD:PUBLISH
X-ORIGINAL-URL:https://unitytriangle.org
X-WR-CALDESC:Events for Unity of the Triangle
REFRESH-INTERVAL;VALUE=DURATION:PT1H
X-Robots-Tag:noindex
X-PUBLISHED-TTL:PT1H
BEGIN:VTIMEZONE
TZID:America/New_York
BEGIN:DAYLIGHT
TZOFFSETFROM:-0500
TZOFFSETTO:-0400
TZNAME:EDT
DTSTART:20250309T070000
END:DAYLIGHT
BEGIN:STANDARD
TZOFFSETFROM:-0400
TZOFFSETTO:-0500
TZNAME:EST
DTSTART:20251102T060000
END:STANDARD
BEGIN:DAYLIGHT
TZOFFSETFROM:-0500
TZOFFSETTO:-0400
TZNAME:EDT
DTSTART:20260308T070000
END:DAYLIGHT
BEGIN:STANDARD
TZOFFSETFROM:-0400
TZOFFSETTO:-0500
TZNAME:EST
DTSTART:20261101T060000
END:STANDARD
BEGIN:DAYLIGHT
TZOFFSETFROM:-0500
TZOFFSETTO:-0400
TZNAME:EDT
DTSTART:20270314T070000
END:DAYLIGHT
BEGIN:STANDARD
TZOFFSETFROM:-0400
TZOFFSETTO:-0500
TZNAME:EST
DTSTART:20271107T060000
END:STANDARD
END:VTIMEZONE
BEGIN:VEVENT
DTSTART;TZID=America/New_York:20260405T103000
DTEND;TZID=America/New_York:20260405T130000
DTSTAMP:20260423T210334
CREATED:20260316T200803Z
LAST-MODIFIED:20260327T114637Z
UID:10012562-1775385000-1775394000@unitytriangle.org
SUMMARY:Easter Sunday Celebration
DESCRIPTION:Easter Sunday Celebration in Raleigh\nCelebrate Easter with inspiration\, music\, community\, and joy. \nSchedule of Easter Events \n10:30a – 10:50a | Pre-service Meditation with Rev. Neusom \n11:00a – 12:00p | Sunday Service \n11:00am | Kids & Teens Easter Egg Hunt \n12:00p – 1:30p | Easter Potluck \nUnity of the Triangle \n5570 Munford Ave.Raleigh\, North Carolina \nAll are welcome! Come celebrate renewal\, hope\, and the light within us all. \nCelebrate Easter at Unity of the Triangle\nCelebrate the spirit of renewal\, joy\, and spiritual awakening this Easter with a welcoming and inclusive community in the Raleigh area. At Unity of the Triangle\, the Easter Sunday Celebration is more than a holiday—it is a celebration of the divine light within each of us and the opportunity to rise into new possibilities. \nJoin us for a joyful Easter Sunday Experience filled with uplifting music\, an inspiring message\, family traditions\, and a vibrant community gathering. \nWhether you are spiritual but not religious\, exploring New Thought spirituality\, or simply searching for an Easter church service in Raleigh\, you will feel welcomed and inspired. \n\n\n\n\n\n\n\n\nPre-Service Meditation\n \nA beautiful way to start the Easter Celebration\, cleansing away the noise and settling in to receive the blessing of being surrounded by friendly people holding the space for love\, light\, rebirth. \nAn Inspiring Easter Sunday Message\n \nSpiritual Renewal with Rev. Neusom Holmes\nOur Easter Sunday Celebration will feature an uplifting message from Rev. Neusom Holmes exploring the deeper spiritual meaning of Easter through the lens of Unity’s positive\, practical Christianity. \nIn the Unity spiritual tradition\, Easter represents awakening to our divine nature\, transformation\, and the power of love to renew our lives. Rev. Neusom will share insights and inspiration to help you carry the message of resurrection into your everyday life. \nUplifting Music from the Unity Choir\n\nA Joyful Easter Musical Celebration\nEaster Sunday is one of the most joyful musical experiences of the year at Unity of the Triangle. The Unity Choir will lead powerful\, heart-opening music that celebrates the spirit of renewal\, hope\, and spiritual awakening. \nMusic is an essential part of the Unity Sunday Experience\, helping create a vibrant atmosphere of celebration and connection. \nA Unity Tradition — The Easter Bonnet Parade\n \nCelebrate with Creativity and Joy\nWear your most festive hat and join in the fun of our Easter Bonnet Parade. This beloved tradition invites people of all ages to express creativity and joy as we celebrate the beauty and playfulness of the Easter season. Men\, you can wear your ‘Easter bonnets\,’ too! \nElegant\, whimsical\, or delightfully over-the-top—every bonnet is welcome. \nEaster Egg Hunt\n \nFamilies are warmly welcomed at Unity of the Triangle. During service\, the kids are sent into the Easter Egg Hunt by age group. The teens do their hunt blindfolded! And there’s a golden egg hidden somewhere with a big prize! Big fun awaits! \nCommunity Potluck\nStay and Connect\nFollowing the Easter service\, stay and enjoy food and community during a shared Easter Potluck in the Fellowship Hall. Unity of the Triangle is known for its warm\, welcoming community where newcomers quickly feel at home. \nContributing to the Potluck\nPlease bring your fully prepared dish to the Fellowship Hall between 10:15 and 11:00 am. If possible\, bring your dish in a disposable container. The church has plenty of serving utensils\, so no need to bring any. If you do use a non-disposable dish\, please label the bottom with your name. Also\, include a card with the name of your dish and any dietary notes (for example\, “contains nuts\, vegan\, gluten free”). A volunteer will be at the door to receive and stage your dish. Because only four volunteers can be in the kitchen\, please bring dishes ready to serve. We can keep items warm or cold\, but we’re not able to do additional preparation\, and there won’t be outlets available for crockpots. Thank you for being part of the Easter Potluck and for sharing your favorite dishes with our community! If you have any questions\, please reach out to Ginny DeCellis. \nA Spiritual Community for Everyone\nUnity of the Triangle is a New Thought church serving Raleigh\, Durham\, Cary\, and Chapel Hill. We welcome people from all spiritual backgrounds who are seeking a deeper connection with themselves\, others\, and the Divine. \nOur teachings emphasize: \n\nPractical spirituality for everyday life\nMeditation\, prayer\, and mindful living\nSpiritual growth and personal transformation\nLove\, unity\, and inclusive community\n\nWe look forward to packing the church with love on Easter Sunday!
URL:https://unitytriangle.org/event/easter-sunday-2026/
LOCATION:Unity of the Triangle\, 5570 Munford Road\, Raleigh\, NC\, 27612\, United States
CATEGORIES:Holiday Events,Holy Week,Services,Special Events
ATTACH;FMTTYPE=image/jpeg:https://unitytriangle.org/wp-content/uploads/2026/03/EASTER-WEEKEND-2026-1.jpg
ORGANIZER;CN="Unity of the Triangle":MAILTO:info@unitytriangle.org
END:VEVENT
BEGIN:VEVENT
DTSTART;TZID=America/New_York:20260403T173000
DTEND;TZID=America/New_York:20260403T181500
DTSTAMP:20260423T210334
CREATED:20260319T235228Z
LAST-MODIFIED:20260319T235229Z
UID:10012571-1775237400-1775240100@unitytriangle.org
SUMMARY:Good Friday Evening Service
DESCRIPTION:Good Friday Service in Raleigh\nA Sacred Evening of Reflection at Unity of the Triangle\nFriday\, April 3\, 2026 | 5:30–6:15 PM\nSanctuary\nIn the Unity tradition\, Good Friday Service is not about suffering\, but about release\, surrender\, and the transformation that leads to new life. Through prayer\, meditation\, and reflective readings\, we create space to let go of what no longer serves and open to the presence of the Divine within – no matter the circumstances that surround us. \nThis brief\, 45-minute service offers a peaceful pause in your day—an opportunity to reconnect with your inner stillness and experience the healing power of spiritual awareness. \nWhat to Expect:\n\nPrayer from Rev. Meemie Lohmueller\nSpecial readings from Unity’s interfaith minister\, Rev. Tami Johns\nRev. Michael Gadway delivers the Good Friday message\nHandwashing ceremony with Rev. Neusom Holmes\nUnity Music co-directors Tim Smith and Jay Wright deliver the perfect music for the occasion\n\nCome as you are and allow this sacred time to prepare your heart and mind for Easter. Together\, we honor the journey of transformation and awaken to the truth of renewal\, hope\, and the ever-present light within. Whether you are part of our community or visiting for the first time\, you are invited to experience Unity’s positive\, practical\, and inclusive approach to spirituality\, where all paths are honored and all are welcome.
URL:https://unitytriangle.org/event/good-friday-evening-service_2026/
LOCATION:Sanctuary\, 5570 Munford Road\, Raleigh\, NC\, 27612
CATEGORIES:Holiday Events,Holy Week,Services
ATTACH;FMTTYPE=image/jpeg:https://unitytriangle.org/wp-content/uploads/2026/03/good-friday_slide-1.jpg
GEO:35.8584704;-78.6998074
X-APPLE-STRUCTURED-LOCATION;VALUE=URI;X-ADDRESS=Sanctuary 5570 Munford Road Raleigh NC 27612;X-APPLE-RADIUS=500;X-TITLE=5570 Munford Road:geo:-78.6998074,35.8584704
END:VEVENT
END:VCALENDAR