BEGIN:VCALENDAR
VERSION:2.0
PRODID:-//Unity of the Triangle - ECPv6.15.18//NONSGML v1.0//EN
CALSCALE:GREGORIAN
METHOD:PUBLISH
X-ORIGINAL-URL:https://unitytriangle.org
X-WR-CALDESC:Events for Unity of the Triangle
REFRESH-INTERVAL;VALUE=DURATION:PT1H
X-Robots-Tag:noindex
X-PUBLISHED-TTL:PT1H
BEGIN:VTIMEZONE
TZID:America/New_York
BEGIN:DAYLIGHT
TZOFFSETFROM:-0500
TZOFFSETTO:-0400
TZNAME:EDT
DTSTART:20240310T070000
END:DAYLIGHT
BEGIN:STANDARD
TZOFFSETFROM:-0400
TZOFFSETTO:-0500
TZNAME:EST
DTSTART:20241103T060000
END:STANDARD
BEGIN:DAYLIGHT
TZOFFSETFROM:-0500
TZOFFSETTO:-0400
TZNAME:EDT
DTSTART:20250309T070000
END:DAYLIGHT
BEGIN:STANDARD
TZOFFSETFROM:-0400
TZOFFSETTO:-0500
TZNAME:EST
DTSTART:20251102T060000
END:STANDARD
BEGIN:DAYLIGHT
TZOFFSETFROM:-0500
TZOFFSETTO:-0400
TZNAME:EDT
DTSTART:20260308T070000
END:DAYLIGHT
BEGIN:STANDARD
TZOFFSETFROM:-0400
TZOFFSETTO:-0500
TZNAME:EST
DTSTART:20261101T060000
END:STANDARD
END:VTIMEZONE
BEGIN:VEVENT
DTSTART;TZID=America/New_York:20251204T113000
DTEND;TZID=America/New_York:20251204T133000
DTSTAMP:20260424T012842
CREATED:20251022T230344Z
LAST-MODIFIED:20251022T230344Z
UID:10012134-1764847800-1764855000@unitytriangle.org
SUMMARY:Book Study: Spiritual Dialogue with Rev. Michael Gadway
DESCRIPTION:Community Book Study: “Don’t Believe Everything You Think” by Joseph Nguyen\nSpecial Spiritual Dialogue Thursdays @ 11:30am:\nNovember 6\, November\, 13\, November 20 and December 4\nThe Spiritual Dialogue group regularly meets every Thursday in-person\, to share\, discuss\, study\, and enjoy all aspects of spirituality together. During the book study month\, this group will focus on the book\, “Don’t Believe Everything You Think” by Joseph Nguyen. \nReverend Michael\, Unity of the Triangle Spiritual Education Director\, has intensely studied the book\, developed a unique study guide\, and will help you expand your understanding of the teachings and how to apply them to your daily life. \nVisit the Book Study Page to read more about this wonderful book and how our community is using it for personal transformation. You can also download the study guide. You don’t have to read the book to participate\, but we think you’ll wish you had! \nSocial time starts at 11:30 in the Fellowship Hall. Bring a bagged lunch. Discussion starts at Noon. \nThe book is available in The Higher Shelf Bookstore & Gift Shop in the lobby of Unity of the Triangle at 5570 Munford Road\, Raleigh.\n\n\n\n\n\n\nLearn More About Spiritual Education At Unity.
URL:https://unitytriangle.org/event/book-study-spiritual-dialogue-with-rev-michael-gadway/2025-12-04/
LOCATION:NC
CATEGORIES:Information Series,Personal Transformation,Small Groups,Social,Spiritual Education and Enrichment
ATTACH;FMTTYPE=image/jpeg:https://unitytriangle.org/wp-content/uploads/2025/10/Book-Study-Spiritual-Dialogue.jpg
END:VEVENT
BEGIN:VEVENT
DTSTART;TZID=America/New_York:20251211T113000
DTEND;TZID=America/New_York:20251211T133000
DTSTAMP:20260424T012842
CREATED:20251104T015047Z
LAST-MODIFIED:20251104T015154Z
UID:10006256-1765452600-1765459800@unitytriangle.org
SUMMARY:Spiritual Dialogue with Rev. Neusom Holmes
DESCRIPTION:Spiritual seekers love this group!\nThis group meets every Thursday in-person\, to share\, discuss\, study\, and enjoy all aspects of spirituality together. The topics are fluid as the group decides what they want to explore next. Led by our Senior Minister Neusom Holmes. \nBring your bagged lunch and join us at 11:30am for a social gathering before the discussion.  \nDiscussion starts at 12:00pm. No need to register to join. All are welcome!
URL:https://unitytriangle.org/event/spiritual-dialogue-with-rev-neusom-holmes-2-2/2025-12-11/
LOCATION:Unity of the Triangle\, 5570 Munford Road\, Raleigh\, NC\, 27612\, United States
CATEGORIES:Groups and Classes,Personal Transformation,Social
ATTACH;FMTTYPE=image/jpeg:https://unitytriangle.org/wp-content/uploads/2025/09/SD-with-Neusom-2025.jpg
END:VEVENT
BEGIN:VEVENT
DTSTART;TZID=America/New_York:20251218T113000
DTEND;TZID=America/New_York:20251218T133000
DTSTAMP:20260424T012842
CREATED:20251218T151044Z
LAST-MODIFIED:20251218T151047Z
UID:10006257-1766057400-1766064600@unitytriangle.org
SUMMARY:Spiritual Dialogue with Rev. Neusom Holmes
DESCRIPTION:Spiritual seekers love this group!\nThis group meets every Thursday in-person\, to share\, discuss\, study\, and enjoy all aspects of spirituality together. The topics are fluid as the group decides what they want to explore next. Led by our Senior Minister Neusom Holmes. \nBring your bagged lunch and join us at 11:30am for a social gathering before the discussion.  \nDiscussion starts at 12:00pm. No need to register to join. All are welcome!
URL:https://unitytriangle.org/event/spiritual-dialogue-with-rev-neusom-holmes-2-2-2/2025-12-18/
LOCATION:Unity of the Triangle\, 5570 Munford Road\, Raleigh\, NC\, 27612\, United States
CATEGORIES:Groups and Classes,Personal Transformation,Social
ATTACH;FMTTYPE=image/jpeg:https://unitytriangle.org/wp-content/uploads/2025/09/SD-with-Neusom-2025.jpg
END:VEVENT
BEGIN:VEVENT
DTSTART;TZID=America/New_York:20251228T103000
DTEND;TZID=America/New_York:20251228T130000
DTSTAMP:20260424T012842
CREATED:20251125T155437Z
LAST-MODIFIED:20251125T161211Z
UID:10012280-1766917800-1766926800@unitytriangle.org
SUMMARY:Burning Bowl Ceremony | Special Sunday Experience
DESCRIPTION:Burning Bowl Ceremony 2025 \nRelease\, Renew & Awaken the Light Within\nSunday\, December 28\, 2025  \nPre-service Meditation 10:30 AM \nSunday Experience Service 11:00 AM \nUnity of the Triangle | Raleigh\, NC \nLet Go of the Old and Open to New Possibilities\nEach year\, Unity communities around the world hold the Burning Bowl Ceremony—a powerful spiritual practice of release and renewal that helps us let go of what no longer serves us and make room for the divine light of new beginnings. Unity of the Triangle invites you to join our warm\, inclusive spiritual community for this sacred ritual as we step into 2026 with clarity\, intention\, and peace. \nRooted in ancient purification traditions and embraced by Unity for over a century\, the Burning Bowl Ceremony offers a safe\, meaningful way to transform limiting thoughts\, habits\, and experiences into wisdom\, freedom\, and inner light. It is one of our most beloved services of the year. \nWhat Is the Burning Bowl Ceremony?\nThe Burning Bowl Ceremony is a time-honored Unity ritual designed to help you release old patterns and open to divine guidance. The ritual uses the cleansing symbolism of fire to let go of whatever you want to leave behind—fear\, stress\, resentment\, outdated stories\, or habits that dim your light. \nYou will be invited to: \n\nWrite down what you wish to release\nPlace that paper in the ceremonial flame\nAllow the fire to symbolize spiritual cleansing and renewal\nCreate space for your highest good to unfold\nWelcome a new intention and renewed consciousness\n\nThis gentle yet powerful practice supports Unity’s path of positive\, practical spirituality\, reconnecting you with your inner wisdom and the truth that your divine light is always ready to shine more brightly. \nA Sacred Morning of Music\, Meditation & Renewal\nThis year’s Burning Bowl Ceremony includes: \nPre-service Guided Meditation \nRev. Neusom Holmes leads a pre-service meditation in the sanctuary before every Sunday service. It’s a beautiful way to wipe away the stresses of the week\, and create a sacred space for the service. There is a short break between meditation and service\, so you can come for one\, either or both events. \nUplifting Music\nSoul-nourishing music from Tim Smith\, Jay Wright and the Unity Band creates a sacred space for reflection and healing. \nGuided Release Ritual\nYou will be led step-by-step to identify what you are ready to release\, and then symbolically surrender it to the flame. \nOpening to Insight & Intention\nFollowing the release\, we will welcome new inspiration\, clarity\, and Divine guidance for the year ahead. \nCommunity Connection \nGather with an inclusive\, compassionate spiritual community committed to living love\, peace\, and oneness. \nWhy This Ceremony Matters\nAt Unity of the Triangle\, we believe in transforming lives through spiritual awakening\, and the Burning Bowl is one of the most accessible tools we offer. It empowers you to: \n\nBreak free from old limitations\nRenew your spiritual path\nMove into the new year with intention\nExperience the peace of letting go\nAwaken the divine light within you\n\nThis ritual is deeply aligned with our mission to offer a positive path for spiritual living\, helping you return to the truth of who you are. \nEvent Details\n➡️ Date & Time\nSunday\, December 28\, 202510:30a | Prepare for service with a guided meditation with Rev. Neusom Holmes (optional) \n11:00a | The Sunday Experience with message\, music\, and the burning bowl ceremony \n12:30p | Post service snacks and hot beverages in the Fellowship Hall \n📍Location\nUnity of the Triangle5570 Munford Road\, Raleigh\, NC \n⭐️ Cost\nFree and open to all. \nWho Is Welcome?\nEveryone. All faiths\, all backgrounds\, all journeys.Unity is an inclusive\, diverse\, welcoming community where you can explore spiritual growth in a supportive environment. \nStart Your New Year With Clarity\, Peace & Purpose\nJoin us for one of the most transformative mornings of the year.Release what’s behind you.Renew what’s within you.Awaken the light of possibilities before you. \nWe look forward to sharing this sacred ceremony with you.
URL:https://unitytriangle.org/event/burning-bowl-2025/
LOCATION:NC
CATEGORIES:Holiday Events,Personal Transformation,Services,Special Events
ATTACH;FMTTYPE=image/jpeg:https://unitytriangle.org/wp-content/uploads/2025/11/Burning-Bowl_calendar.jpg
END:VEVENT
END:VCALENDAR