BEGIN:VCALENDAR
VERSION:2.0
PRODID:-//Unity of the Triangle - ECPv6.15.18//NONSGML v1.0//EN
CALSCALE:GREGORIAN
METHOD:PUBLISH
X-WR-CALNAME:Unity of the Triangle
X-ORIGINAL-URL:https://unitytriangle.org
X-WR-CALDESC:Events for Unity of the Triangle
REFRESH-INTERVAL;VALUE=DURATION:PT1H
X-Robots-Tag:noindex
X-PUBLISHED-TTL:PT1H
BEGIN:VTIMEZONE
TZID:America/New_York
BEGIN:DAYLIGHT
TZOFFSETFROM:-0500
TZOFFSETTO:-0400
TZNAME:EDT
DTSTART:20250309T070000
END:DAYLIGHT
BEGIN:STANDARD
TZOFFSETFROM:-0400
TZOFFSETTO:-0500
TZNAME:EST
DTSTART:20251102T060000
END:STANDARD
BEGIN:DAYLIGHT
TZOFFSETFROM:-0500
TZOFFSETTO:-0400
TZNAME:EDT
DTSTART:20260308T070000
END:DAYLIGHT
BEGIN:STANDARD
TZOFFSETFROM:-0400
TZOFFSETTO:-0500
TZNAME:EST
DTSTART:20261101T060000
END:STANDARD
BEGIN:DAYLIGHT
TZOFFSETFROM:-0500
TZOFFSETTO:-0400
TZNAME:EDT
DTSTART:20270314T070000
END:DAYLIGHT
BEGIN:STANDARD
TZOFFSETFROM:-0400
TZOFFSETTO:-0500
TZNAME:EST
DTSTART:20271107T060000
END:STANDARD
END:VTIMEZONE
BEGIN:VEVENT
DTSTART;TZID=America/New_York:20261001T113000
DTEND;TZID=America/New_York:20261001T133000
DTSTAMP:20260424T043958
CREATED:20251218T151044Z
LAST-MODIFIED:20251218T151047Z
UID:10006298-1790854200-1790861400@unitytriangle.org
SUMMARY:Spiritual Dialogue with Rev. Neusom Holmes
DESCRIPTION:Spiritual seekers love this group!\nThis group meets every Thursday in-person\, to share\, discuss\, study\, and enjoy all aspects of spirituality together. The topics are fluid as the group decides what they want to explore next. Led by our Senior Minister Neusom Holmes. \nBring your bagged lunch and join us at 11:30am for a social gathering before the discussion.  \nDiscussion starts at 12:00pm. No need to register to join. All are welcome!
URL:https://unitytriangle.org/event/spiritual-dialogue-with-rev-neusom-holmes-2-2-2/2026-10-01/
LOCATION:Unity of the Triangle\, 5570 Munford Road\, Raleigh\, NC\, 27612\, United States
CATEGORIES:Groups and Classes,Personal Transformation,Social
ATTACH;FMTTYPE=image/jpeg:https://unitytriangle.org/wp-content/uploads/2025/09/SD-with-Neusom-2025.jpg
END:VEVENT
BEGIN:VEVENT
DTSTART;TZID=America/New_York:20261008T113000
DTEND;TZID=America/New_York:20261008T133000
DTSTAMP:20260424T043958
CREATED:20251218T151044Z
LAST-MODIFIED:20251218T151047Z
UID:10006299-1791459000-1791466200@unitytriangle.org
SUMMARY:Spiritual Dialogue with Rev. Neusom Holmes
DESCRIPTION:Spiritual seekers love this group!\nThis group meets every Thursday in-person\, to share\, discuss\, study\, and enjoy all aspects of spirituality together. The topics are fluid as the group decides what they want to explore next. Led by our Senior Minister Neusom Holmes. \nBring your bagged lunch and join us at 11:30am for a social gathering before the discussion.  \nDiscussion starts at 12:00pm. No need to register to join. All are welcome!
URL:https://unitytriangle.org/event/spiritual-dialogue-with-rev-neusom-holmes-2-2-2/2026-10-08/
LOCATION:Unity of the Triangle\, 5570 Munford Road\, Raleigh\, NC\, 27612\, United States
CATEGORIES:Groups and Classes,Personal Transformation,Social
ATTACH;FMTTYPE=image/jpeg:https://unitytriangle.org/wp-content/uploads/2025/09/SD-with-Neusom-2025.jpg
END:VEVENT
BEGIN:VEVENT
DTSTART;TZID=America/New_York:20261015T113000
DTEND;TZID=America/New_York:20261015T133000
DTSTAMP:20260424T043958
CREATED:20251218T151044Z
LAST-MODIFIED:20251218T151047Z
UID:10006300-1792063800-1792071000@unitytriangle.org
SUMMARY:Spiritual Dialogue with Rev. Neusom Holmes
DESCRIPTION:Spiritual seekers love this group!\nThis group meets every Thursday in-person\, to share\, discuss\, study\, and enjoy all aspects of spirituality together. The topics are fluid as the group decides what they want to explore next. Led by our Senior Minister Neusom Holmes. \nBring your bagged lunch and join us at 11:30am for a social gathering before the discussion.  \nDiscussion starts at 12:00pm. No need to register to join. All are welcome!
URL:https://unitytriangle.org/event/spiritual-dialogue-with-rev-neusom-holmes-2-2-2/2026-10-15/
LOCATION:Unity of the Triangle\, 5570 Munford Road\, Raleigh\, NC\, 27612\, United States
CATEGORIES:Groups and Classes,Personal Transformation,Social
ATTACH;FMTTYPE=image/jpeg:https://unitytriangle.org/wp-content/uploads/2025/09/SD-with-Neusom-2025.jpg
END:VEVENT
BEGIN:VEVENT
DTSTART;TZID=America/New_York:20261022T113000
DTEND;TZID=America/New_York:20261022T133000
DTSTAMP:20260424T043958
CREATED:20251218T151044Z
LAST-MODIFIED:20251218T151047Z
UID:10006301-1792668600-1792675800@unitytriangle.org
SUMMARY:Spiritual Dialogue with Rev. Neusom Holmes
DESCRIPTION:Spiritual seekers love this group!\nThis group meets every Thursday in-person\, to share\, discuss\, study\, and enjoy all aspects of spirituality together. The topics are fluid as the group decides what they want to explore next. Led by our Senior Minister Neusom Holmes. \nBring your bagged lunch and join us at 11:30am for a social gathering before the discussion.  \nDiscussion starts at 12:00pm. No need to register to join. All are welcome!
URL:https://unitytriangle.org/event/spiritual-dialogue-with-rev-neusom-holmes-2-2-2/2026-10-22/
LOCATION:Unity of the Triangle\, 5570 Munford Road\, Raleigh\, NC\, 27612\, United States
CATEGORIES:Groups and Classes,Personal Transformation,Social
ATTACH;FMTTYPE=image/jpeg:https://unitytriangle.org/wp-content/uploads/2025/09/SD-with-Neusom-2025.jpg
END:VEVENT
BEGIN:VEVENT
DTSTART;TZID=America/New_York:20261029T113000
DTEND;TZID=America/New_York:20261029T133000
DTSTAMP:20260424T043958
CREATED:20251218T151044Z
LAST-MODIFIED:20251218T151047Z
UID:10006302-1793273400-1793280600@unitytriangle.org
SUMMARY:Spiritual Dialogue with Rev. Neusom Holmes
DESCRIPTION:Spiritual seekers love this group!\nThis group meets every Thursday in-person\, to share\, discuss\, study\, and enjoy all aspects of spirituality together. The topics are fluid as the group decides what they want to explore next. Led by our Senior Minister Neusom Holmes. \nBring your bagged lunch and join us at 11:30am for a social gathering before the discussion.  \nDiscussion starts at 12:00pm. No need to register to join. All are welcome!
URL:https://unitytriangle.org/event/spiritual-dialogue-with-rev-neusom-holmes-2-2-2/2026-10-29/
LOCATION:Unity of the Triangle\, 5570 Munford Road\, Raleigh\, NC\, 27612\, United States
CATEGORIES:Groups and Classes,Personal Transformation,Social
ATTACH;FMTTYPE=image/jpeg:https://unitytriangle.org/wp-content/uploads/2025/09/SD-with-Neusom-2025.jpg
END:VEVENT
END:VCALENDAR