BEGIN:VCALENDAR
VERSION:2.0
PRODID:-//Unity of the Triangle - ECPv6.15.18//NONSGML v1.0//EN
CALSCALE:GREGORIAN
METHOD:PUBLISH
X-WR-CALNAME:Unity of the Triangle
X-ORIGINAL-URL:https://unitytriangle.org
X-WR-CALDESC:Events for Unity of the Triangle
REFRESH-INTERVAL;VALUE=DURATION:PT1H
X-Robots-Tag:noindex
X-PUBLISHED-TTL:PT1H
BEGIN:VTIMEZONE
TZID:America/New_York
BEGIN:DAYLIGHT
TZOFFSETFROM:-0500
TZOFFSETTO:-0400
TZNAME:EDT
DTSTART:20250309T070000
END:DAYLIGHT
BEGIN:STANDARD
TZOFFSETFROM:-0400
TZOFFSETTO:-0500
TZNAME:EST
DTSTART:20251102T060000
END:STANDARD
BEGIN:DAYLIGHT
TZOFFSETFROM:-0500
TZOFFSETTO:-0400
TZNAME:EDT
DTSTART:20260308T070000
END:DAYLIGHT
BEGIN:STANDARD
TZOFFSETFROM:-0400
TZOFFSETTO:-0500
TZNAME:EST
DTSTART:20261101T060000
END:STANDARD
BEGIN:DAYLIGHT
TZOFFSETFROM:-0500
TZOFFSETTO:-0400
TZNAME:EDT
DTSTART:20270314T070000
END:DAYLIGHT
BEGIN:STANDARD
TZOFFSETFROM:-0400
TZOFFSETTO:-0500
TZNAME:EST
DTSTART:20271107T060000
END:STANDARD
END:VTIMEZONE
BEGIN:VEVENT
DTSTART;TZID=America/New_York:20260502T100000
DTEND;TZID=America/New_York:20260502T113000
DTSTAMP:20260423T180708
CREATED:20260408T193522Z
LAST-MODIFIED:20260408T193959Z
UID:10011836-1777716000-1777721400@unitytriangle.org
SUMMARY:Sisterhood Saturday | "The Let Them Theory" With Rev. Tami Johns
DESCRIPTION:SISTERHOOD SATURDAY\nWith Rev. Tami Johns\n“The Let Them Theory”\n🗓️ May 2\, 2026 \n⌛️ 10:00am – 11:30am \n📍5570 Munford Road\, Raleigh\, 27612 \nHave you ever spent hours worrying about what someone said\, why they did not text back\, why they left you out\, why they misunderstood you\, or why they would not change? So much of our stress comes from trying to hold together things that were never ours to control. \nWhat is this month’s Sisterhood Saturday topic about?\nThis month’s Sisterhood Saturday will focus on some key points of Mel Robbins’ #1 book in the world\, The Let Them Theory\, which centers on a simple idea: you cannot control other people\, their opinions\, their choices\, or their behavior\, but you can control your response. \nYou can let people be who they are\, so you can be free to become who you are meant to be. \nJoin us on May 2 at 10:00 am. Be sure to bring a journal to capture critical personal insights and invite a friend so they don’t miss out. \nWho is Rev. Tami Johns?\nRev. Tami Johns | Interfaith Minister & Community Engagement Director \nSisterhood Saturday is an interactive women’s ministry led by Unity’s Interfaith minister Rev. Tami Johns. Tami is also Unity of the Triangle’s Community Engagement Director\, leading the small group ministry\, Unity for Humanity\, and our Unity in the Community program focused on community outreach. \nWhat is Sisterhood Saturday?\nIt’s becoming the women’s ministry movement in the Raleigh area. A lively\, connected\, sacred space to explore your personal spirituality path. On the first Saturday of each month\, we invite women of all ages to explore your spirituality\, express your authentic self\, and feel the power of being truly seen. \n \nThis circle of women holds space for one another. We recommend bringing a journal to capture insights\, inspiration\, and moments of self-discovery. \nCarrying on The Tradition\nFor generations\, women have gathered with their grandmothers\, aunts\, sisters\, and friends to navigate life’s joys and seasons together. Let’s carry on that tradition! Come as you are. Bring the women in your life—or come to find your new circle of sisterhood. \nHelp Spread The Word About Sisterhood Saturday by Leaving A Google Review!\nThis special women’s ministry is reaching all kinds of women in our community. If you’d love to help spread the word\, we would be most grateful for a Google Review.  \nIf you’d like to offer personal feedback\, or have ideas and suggestions about Sisterhood Saturday\, please email Tami.johns@unitytriangle.org.
URL:https://unitytriangle.org/event/sisterhood-saturday-05-02-2026/
LOCATION:Fellowship Hall
CATEGORIES:Services,Small Groups
ATTACH;FMTTYPE=image/jpeg:https://unitytriangle.org/wp-content/uploads/2025/11/Sisterhood-Sat-May-2.jpg
END:VEVENT
BEGIN:VEVENT
DTSTART;TZID=America/New_York:20260503T123000
DTEND;TZID=America/New_York:20260503T123000
DTSTAMP:20260423T180708
CREATED:20260129T044050Z
LAST-MODIFIED:20260129T044051Z
UID:10008862-1777811400-1777811400@unitytriangle.org
SUMMARY:Power of Eight | Prayer Group
DESCRIPTION:Based on the book: \nThe Power of Eight: Harnessing the Miraculous Energies of a Small Group to Heal Others\, Your Life\, and the World\nWhat we send out into the universe comes back to us\, magnified. Although the power of intention—the energy of positive thoughts—is widely accepted as an influential force in transforming lives\, the exponential power of group intention has never been explored\, until now. In The Power of Eight\, Lynne McTaggart\, an expert on the science of spirituality\, reveals her remarkable findings from ten years of experiments about how group intention can heal our lives—and change the world for the better. Drawing on hundreds of case studies\, the latest brain research\, and dozens of McTaggart’s own university studies\, The Power of Eight provides solid evidence showing that there is such a thing as a collective consciousness. \nUnity of the Triangle’s Power of Eight group is a spiritual community group with a focus on bringing the concept to life! \n\nPower of Eight Prayer Group\nSundays @ 12:30pm \nGreen Room\nContact: Susan Hunter\n\nAnyone interested in exploring the power of prayer\, for others and for themselves\, is welcome to join us.  For more information call/text Susan Hunter at 919-616-6888.
URL:https://unitytriangle.org/event/power-of-eight-group-2-2-2-2/2026-05-03/
LOCATION:Green Room
CATEGORIES:Prayer,Small Groups
ATTACH;FMTTYPE=image/jpeg:https://unitytriangle.org/wp-content/uploads/2024/08/Power-of-Eight-Group-Slide.jpg
END:VEVENT
BEGIN:VEVENT
DTSTART;TZID=America/New_York:20260507T140000
DTEND;TZID=America/New_York:20260507T150000
DTSTAMP:20260423T180708
CREATED:20251218T151426Z
LAST-MODIFIED:20251218T151426Z
UID:10010735-1778162400-1778166000@unitytriangle.org
SUMMARY:A Course of Love | A Course in Miracles: Spiritual Community Group
DESCRIPTION:Most books enter our lives to inform us. A Course of Love enters our lives to transform us.\n“A Course of Love (ACOL) is one of those few: a book that changes lives. ACOL is a complete course on Self-knowledge leading to lasting benefits to your life. It’s not a book of mental concepts\, but one that reaches into your heart and works a transformation.” \n“A Course in Miracles and A Course of Love work hand-in-hand because the change of thinking taught within A Course in Miracles was a change of thinking about yourself. It attempted to dislodge the ego-mind that has provided you with an identity that you but think you are. A Course of Love then followed in order to reveal to you who you truly are.” \nThis Unity Community Group meets every Thursday at 2pm in the Green Room to discuss these two works.
URL:https://unitytriangle.org/event/a-course-of-love-a-course-in-miracles-spiritual-community-group-2/2026-05-07/
CATEGORIES:Small Groups,Social
ATTACH;FMTTYPE=image/jpeg:https://unitytriangle.org/wp-content/uploads/2025/04/ACOL_ACIM-1.jpg
END:VEVENT
BEGIN:VEVENT
DTSTART;TZID=America/New_York:20260510T123000
DTEND;TZID=America/New_York:20260510T123000
DTSTAMP:20260423T180708
CREATED:20260129T044050Z
LAST-MODIFIED:20260129T044051Z
UID:10008863-1778416200-1778416200@unitytriangle.org
SUMMARY:Power of Eight | Prayer Group
DESCRIPTION:Based on the book: \nThe Power of Eight: Harnessing the Miraculous Energies of a Small Group to Heal Others\, Your Life\, and the World\nWhat we send out into the universe comes back to us\, magnified. Although the power of intention—the energy of positive thoughts—is widely accepted as an influential force in transforming lives\, the exponential power of group intention has never been explored\, until now. In The Power of Eight\, Lynne McTaggart\, an expert on the science of spirituality\, reveals her remarkable findings from ten years of experiments about how group intention can heal our lives—and change the world for the better. Drawing on hundreds of case studies\, the latest brain research\, and dozens of McTaggart’s own university studies\, The Power of Eight provides solid evidence showing that there is such a thing as a collective consciousness. \nUnity of the Triangle’s Power of Eight group is a spiritual community group with a focus on bringing the concept to life! \n\nPower of Eight Prayer Group\nSundays @ 12:30pm \nGreen Room\nContact: Susan Hunter\n\nAnyone interested in exploring the power of prayer\, for others and for themselves\, is welcome to join us.  For more information call/text Susan Hunter at 919-616-6888.
URL:https://unitytriangle.org/event/power-of-eight-group-2-2-2-2/2026-05-10/
LOCATION:Green Room
CATEGORIES:Prayer,Small Groups
ATTACH;FMTTYPE=image/jpeg:https://unitytriangle.org/wp-content/uploads/2024/08/Power-of-Eight-Group-Slide.jpg
END:VEVENT
BEGIN:VEVENT
DTSTART;TZID=America/New_York:20260510T123000
DTEND;TZID=America/New_York:20260510T133000
DTSTAMP:20260423T180708
CREATED:20250225T151403Z
LAST-MODIFIED:20251003T142925Z
UID:10007592-1778416200-1778419800@unitytriangle.org
SUMMARY:Unity Women of Color | Spiritual Community Group
DESCRIPTION:Unity Women of Color is a group of African American women who come together to support one another on our spiritual journey\, engage in informative conversations\, gather socially and participate in community service outreach opportunities. Contact group leader Tami Johns at tami.johns@unitytriangle.org to join. \nThe group meets the second Sunday of the month 12:30-2pm in the Conference Room.
URL:https://unitytriangle.org/event/unity-woman-of-color-meeting-2/2026-05-10/
LOCATION:Unity of the Triangle\, 5570 Munford Road\, Raleigh\, NC\, 27612\, United States
CATEGORIES:Small Groups,Social
ATTACH;FMTTYPE=image/jpeg:https://unitytriangle.org/wp-content/uploads/2025/02/UWOCgroup022325-scaled.jpg
END:VEVENT
BEGIN:VEVENT
DTSTART;TZID=America/New_York:20260511T190000
DTEND;TZID=America/New_York:20260511T203000
DTSTAMP:20260423T180708
CREATED:20250508T210546Z
LAST-MODIFIED:20251208T041437Z
UID:10011335-1778526000-1778531400@unitytriangle.org
SUMMARY:Worthy LGBTQ+ | Community Spiritual Group
DESCRIPTION:A Unity group for the LGBTQ+ Community\, Allies and Advocates\nWe share common interests in Faith\, Identity\, Support\, Service\, and Social Engagement. An inclusive\, safe space for all people to see themselves as dynamic expressions of God! All are welcome\, whether you attend Unity of the Triangle or not! \nLeader Quincy Garbutt and Steering Committee. \nMeets the 2nd Monday of the month at 7:00pm in the Multipurpose room.
URL:https://unitytriangle.org/event/worthy-lgbtq-community-spiritual-group/2026-05-11/
LOCATION:Multipurpose Room
CATEGORIES:Small Groups,Social
ATTACH;FMTTYPE=image/jpeg:https://unitytriangle.org/wp-content/uploads/2025/05/Worthy-Calendar_new-logo.jpg
END:VEVENT
BEGIN:VEVENT
DTSTART;TZID=America/New_York:20260514T140000
DTEND;TZID=America/New_York:20260514T150000
DTSTAMP:20260423T180708
CREATED:20251218T151426Z
LAST-MODIFIED:20251218T151426Z
UID:10010736-1778767200-1778770800@unitytriangle.org
SUMMARY:A Course of Love | A Course in Miracles: Spiritual Community Group
DESCRIPTION:Most books enter our lives to inform us. A Course of Love enters our lives to transform us.\n“A Course of Love (ACOL) is one of those few: a book that changes lives. ACOL is a complete course on Self-knowledge leading to lasting benefits to your life. It’s not a book of mental concepts\, but one that reaches into your heart and works a transformation.” \n“A Course in Miracles and A Course of Love work hand-in-hand because the change of thinking taught within A Course in Miracles was a change of thinking about yourself. It attempted to dislodge the ego-mind that has provided you with an identity that you but think you are. A Course of Love then followed in order to reveal to you who you truly are.” \nThis Unity Community Group meets every Thursday at 2pm in the Green Room to discuss these two works.
URL:https://unitytriangle.org/event/a-course-of-love-a-course-in-miracles-spiritual-community-group-2/2026-05-14/
CATEGORIES:Small Groups,Social
ATTACH;FMTTYPE=image/jpeg:https://unitytriangle.org/wp-content/uploads/2025/04/ACOL_ACIM-1.jpg
END:VEVENT
BEGIN:VEVENT
DTSTART;TZID=America/New_York:20260517T123000
DTEND;TZID=America/New_York:20260517T123000
DTSTAMP:20260423T180708
CREATED:20260129T044050Z
LAST-MODIFIED:20260129T044051Z
UID:10008864-1779021000-1779021000@unitytriangle.org
SUMMARY:Power of Eight | Prayer Group
DESCRIPTION:Based on the book: \nThe Power of Eight: Harnessing the Miraculous Energies of a Small Group to Heal Others\, Your Life\, and the World\nWhat we send out into the universe comes back to us\, magnified. Although the power of intention—the energy of positive thoughts—is widely accepted as an influential force in transforming lives\, the exponential power of group intention has never been explored\, until now. In The Power of Eight\, Lynne McTaggart\, an expert on the science of spirituality\, reveals her remarkable findings from ten years of experiments about how group intention can heal our lives—and change the world for the better. Drawing on hundreds of case studies\, the latest brain research\, and dozens of McTaggart’s own university studies\, The Power of Eight provides solid evidence showing that there is such a thing as a collective consciousness. \nUnity of the Triangle’s Power of Eight group is a spiritual community group with a focus on bringing the concept to life! \n\nPower of Eight Prayer Group\nSundays @ 12:30pm \nGreen Room\nContact: Susan Hunter\n\nAnyone interested in exploring the power of prayer\, for others and for themselves\, is welcome to join us.  For more information call/text Susan Hunter at 919-616-6888.
URL:https://unitytriangle.org/event/power-of-eight-group-2-2-2-2/2026-05-17/
LOCATION:Green Room
CATEGORIES:Prayer,Small Groups
ATTACH;FMTTYPE=image/jpeg:https://unitytriangle.org/wp-content/uploads/2024/08/Power-of-Eight-Group-Slide.jpg
END:VEVENT
BEGIN:VEVENT
DTSTART;TZID=America/New_York:20260517T123000
DTEND;TZID=America/New_York:20260517T133000
DTSTAMP:20260423T180708
CREATED:20250408T224246Z
LAST-MODIFIED:20250508T192642Z
UID:10011240-1779021000-1779024600@unitytriangle.org
SUMMARY:Veterans Community Group
DESCRIPTION:Where Veterans Connect\nUnity brings Veterans together with the intention to connect with others who have served\, and discuss spiritual topics. The group meets on the third Sunday of every month at 12:30. Room location will vary. Group leader is Mike Domino. Contact tami.johns@unitytriangle.org to join.\n\nWe invite you to invite veterans from the community to join this group. You do not have to attend Unity of the Triangle to participate\, though we would love to say hello and thank you for your service at church!
URL:https://unitytriangle.org/event/veterans-community-group/2026-05-17/
CATEGORIES:Small Groups
ATTACH;FMTTYPE=image/jpeg:https://unitytriangle.org/wp-content/uploads/2025/04/Veterans-Group-1.jpg
END:VEVENT
BEGIN:VEVENT
DTSTART;TZID=America/New_York:20260517T123000
DTEND;TZID=America/New_York:20260517T133000
DTSTAMP:20260423T180708
CREATED:20260207T154107Z
LAST-MODIFIED:20260207T160805Z
UID:10012492-1779021000-1779024600@unitytriangle.org
SUMMARY:NextGen Unity of the Triangle (NGU)
DESCRIPTION:What is Next Generation of Unity (NGU)?\nNext Generation of Unity (NGU) is a ministry built by and for young adults growing throughout the Unity movement nationwide. NGU of the Triangle is a new small group at Unity of the Triangle that is part of the larger young adult movement. For anyone aged 18-40 seeking spirituality and activism in the Raleigh\, Durham\, Triangle area. This group helps bridge the gap from Y.O.U. and early adulthood\, and is led by Unity of the Triangle Youth Director\, Tia Redman. \nNGU of the Triangle\n🚀 MONTHLY MEETINGS EVERY THIRD SUNDAY! 🚀\n12:30pm – 1:30pm \nMultipurpose Room \n📍5570 Munford Road\, Raleigh\, NC 27612 \nThe NGU movement empowers\, connects\, and leads through: \n🌿 Retreats & service opportunities at Unity Village\n📚 Leadership development & local group support\n🤝 Stronger partnerships within the Unity movement\n🔗 A lasting foundation for future generations \nUnity of the Triangle Youth Director\, Tia Redman\, attended the Fall 2025 NGU Retreat and came back excited to start our chapter! \nPhoto from NGU Retreat at Unity Village\, Fall 2025 Credit: Unity Village \nJoin NGU of the Triangle the third Sunday of every month!
URL:https://unitytriangle.org/event/nextgen-unity-of-the-triangle-ngu/2026-05-17/
LOCATION:Unity of the Triangle\, 5570 Munford Road\, Raleigh\, NC\, 27612\, United States
CATEGORIES:Community Service,Small Groups,Social
ATTACH;FMTTYPE=image/jpeg:https://unitytriangle.org/wp-content/uploads/2026/02/NextGenUnity_calendarV2.jpg
END:VEVENT
BEGIN:VEVENT
DTSTART;TZID=America/New_York:20260521T140000
DTEND;TZID=America/New_York:20260521T150000
DTSTAMP:20260423T180708
CREATED:20251218T151426Z
LAST-MODIFIED:20251218T151426Z
UID:10010737-1779372000-1779375600@unitytriangle.org
SUMMARY:A Course of Love | A Course in Miracles: Spiritual Community Group
DESCRIPTION:Most books enter our lives to inform us. A Course of Love enters our lives to transform us.\n“A Course of Love (ACOL) is one of those few: a book that changes lives. ACOL is a complete course on Self-knowledge leading to lasting benefits to your life. It’s not a book of mental concepts\, but one that reaches into your heart and works a transformation.” \n“A Course in Miracles and A Course of Love work hand-in-hand because the change of thinking taught within A Course in Miracles was a change of thinking about yourself. It attempted to dislodge the ego-mind that has provided you with an identity that you but think you are. A Course of Love then followed in order to reveal to you who you truly are.” \nThis Unity Community Group meets every Thursday at 2pm in the Green Room to discuss these two works.
URL:https://unitytriangle.org/event/a-course-of-love-a-course-in-miracles-spiritual-community-group-2/2026-05-21/
CATEGORIES:Small Groups,Social
ATTACH;FMTTYPE=image/jpeg:https://unitytriangle.org/wp-content/uploads/2025/04/ACOL_ACIM-1.jpg
END:VEVENT
BEGIN:VEVENT
DTSTART;TZID=America/New_York:20260524T100000
DTEND;TZID=America/New_York:20260524T104500
DTSTAMP:20260423T180708
CREATED:20260122T173721Z
LAST-MODIFIED:20260122T173722Z
UID:10011179-1779616800-1779619500@unitytriangle.org
SUMMARY:Silver Circle | Unity Community Group
DESCRIPTION:Everyone who’s aging is welcome! (That’s all of us!)\nSilver Circle is an intentional caring community of Unity-minded people who want to enjoy the aging process together and live our best lives! You’ll mostly find folks over 60 here\, but this group is open to everyone who is aging — all of us!  Silver Circle activities include classes for learning things we are interested in\, building community\, and having fun social gatherings. Silver Circle is an ongoing organization open to new adventures and activities. \nAll are welcome! Leader Kayelilly Middleton and Planning Team. \nMeets 4th Sunday of the month from 10:00-10:45 AM in the multipurpose room.
URL:https://unitytriangle.org/event/silver-circle-unity-community-group-3/2026-05-24/
CATEGORIES:Small Groups,Social
ATTACH;FMTTYPE=image/jpeg:https://unitytriangle.org/wp-content/uploads/2025/05/Silver-Circle-CALENDAR-1.jpg
END:VEVENT
BEGIN:VEVENT
DTSTART;TZID=America/New_York:20260524T123000
DTEND;TZID=America/New_York:20260524T123000
DTSTAMP:20260423T180708
CREATED:20260129T044050Z
LAST-MODIFIED:20260129T044051Z
UID:10008865-1779625800-1779625800@unitytriangle.org
SUMMARY:Power of Eight | Prayer Group
DESCRIPTION:Based on the book: \nThe Power of Eight: Harnessing the Miraculous Energies of a Small Group to Heal Others\, Your Life\, and the World\nWhat we send out into the universe comes back to us\, magnified. Although the power of intention—the energy of positive thoughts—is widely accepted as an influential force in transforming lives\, the exponential power of group intention has never been explored\, until now. In The Power of Eight\, Lynne McTaggart\, an expert on the science of spirituality\, reveals her remarkable findings from ten years of experiments about how group intention can heal our lives—and change the world for the better. Drawing on hundreds of case studies\, the latest brain research\, and dozens of McTaggart’s own university studies\, The Power of Eight provides solid evidence showing that there is such a thing as a collective consciousness. \nUnity of the Triangle’s Power of Eight group is a spiritual community group with a focus on bringing the concept to life! \n\nPower of Eight Prayer Group\nSundays @ 12:30pm \nGreen Room\nContact: Susan Hunter\n\nAnyone interested in exploring the power of prayer\, for others and for themselves\, is welcome to join us.  For more information call/text Susan Hunter at 919-616-6888.
URL:https://unitytriangle.org/event/power-of-eight-group-2-2-2-2/2026-05-24/
LOCATION:Green Room
CATEGORIES:Prayer,Small Groups
ATTACH;FMTTYPE=image/jpeg:https://unitytriangle.org/wp-content/uploads/2024/08/Power-of-Eight-Group-Slide.jpg
END:VEVENT
BEGIN:VEVENT
DTSTART;TZID=America/New_York:20260524T123000
DTEND;TZID=America/New_York:20260524T133000
DTSTAMP:20260423T180708
CREATED:20260122T174623Z
LAST-MODIFIED:20260122T174624Z
UID:10011969-1779625800-1779629400@unitytriangle.org
SUMMARY:Millennials | Gen Y | Unity Community Group
DESCRIPTION:Calling all Millennials | Gen Y looking for more connection!\nCome join this group for lively and informative conversations\, and discussions on how to engage socially. Childcare is provided for meetings. \nContact leaders Elizabeth Chatfield (isabelgreen1@gmail.com) and Artemis Jamison (jamisonartemis@gmail.com) to join. \nMeets every 4th Sunday at 12:30pm in the Meditation Room.
URL:https://unitytriangle.org/event/millennials-gen-y-unity-community-group-2-2/2026-05-24/
CATEGORIES:Small Groups
ATTACH;FMTTYPE=image/jpeg:https://unitytriangle.org/wp-content/uploads/2025/07/Millennials.jpg
END:VEVENT
BEGIN:VEVENT
DTSTART;TZID=America/New_York:20260526T140000
DTEND;TZID=America/New_York:20260526T160000
DTSTAMP:20260423T180708
CREATED:20250820T211918Z
LAST-MODIFIED:20250820T212416Z
UID:10011007-1779804000-1779811200@unitytriangle.org
SUMMARY:Game Day! | Presented by Silver Circle
DESCRIPTION:Looking for a new social activity?\nLet’s play a game! Unity’s Silver Circle group hosts this monthly gathering for laughs and fun times. We’ll play a variety of games and there will be snacks! Remember\, games are good for your brain. Friends are good for your soul! \n 
URL:https://unitytriangle.org/event/game-day-presented-by-silver-circle-2/2026-05-26/
LOCATION:Fellowship Hall
CATEGORIES:Small Groups,Social
ATTACH;FMTTYPE=image/jpeg:https://unitytriangle.org/wp-content/uploads/2025/05/Silver-Circle-CALENDAR.jpg
END:VEVENT
BEGIN:VEVENT
DTSTART;TZID=America/New_York:20260528T140000
DTEND;TZID=America/New_York:20260528T150000
DTSTAMP:20260423T180708
CREATED:20251218T151426Z
LAST-MODIFIED:20251218T151426Z
UID:10010738-1779976800-1779980400@unitytriangle.org
SUMMARY:A Course of Love | A Course in Miracles: Spiritual Community Group
DESCRIPTION:Most books enter our lives to inform us. A Course of Love enters our lives to transform us.\n“A Course of Love (ACOL) is one of those few: a book that changes lives. ACOL is a complete course on Self-knowledge leading to lasting benefits to your life. It’s not a book of mental concepts\, but one that reaches into your heart and works a transformation.” \n“A Course in Miracles and A Course of Love work hand-in-hand because the change of thinking taught within A Course in Miracles was a change of thinking about yourself. It attempted to dislodge the ego-mind that has provided you with an identity that you but think you are. A Course of Love then followed in order to reveal to you who you truly are.” \nThis Unity Community Group meets every Thursday at 2pm in the Green Room to discuss these two works.
URL:https://unitytriangle.org/event/a-course-of-love-a-course-in-miracles-spiritual-community-group-2/2026-05-28/
CATEGORIES:Small Groups,Social
ATTACH;FMTTYPE=image/jpeg:https://unitytriangle.org/wp-content/uploads/2025/04/ACOL_ACIM-1.jpg
END:VEVENT
BEGIN:VEVENT
DTSTART;TZID=America/New_York:20260531T123000
DTEND;TZID=America/New_York:20260531T123000
DTSTAMP:20260423T180708
CREATED:20260129T044050Z
LAST-MODIFIED:20260129T044051Z
UID:10008866-1780230600-1780230600@unitytriangle.org
SUMMARY:Power of Eight | Prayer Group
DESCRIPTION:Based on the book: \nThe Power of Eight: Harnessing the Miraculous Energies of a Small Group to Heal Others\, Your Life\, and the World\nWhat we send out into the universe comes back to us\, magnified. Although the power of intention—the energy of positive thoughts—is widely accepted as an influential force in transforming lives\, the exponential power of group intention has never been explored\, until now. In The Power of Eight\, Lynne McTaggart\, an expert on the science of spirituality\, reveals her remarkable findings from ten years of experiments about how group intention can heal our lives—and change the world for the better. Drawing on hundreds of case studies\, the latest brain research\, and dozens of McTaggart’s own university studies\, The Power of Eight provides solid evidence showing that there is such a thing as a collective consciousness. \nUnity of the Triangle’s Power of Eight group is a spiritual community group with a focus on bringing the concept to life! \n\nPower of Eight Prayer Group\nSundays @ 12:30pm \nGreen Room\nContact: Susan Hunter\n\nAnyone interested in exploring the power of prayer\, for others and for themselves\, is welcome to join us.  For more information call/text Susan Hunter at 919-616-6888.
URL:https://unitytriangle.org/event/power-of-eight-group-2-2-2-2/2026-05-31/
LOCATION:Green Room
CATEGORIES:Prayer,Small Groups
ATTACH;FMTTYPE=image/jpeg:https://unitytriangle.org/wp-content/uploads/2024/08/Power-of-Eight-Group-Slide.jpg
END:VEVENT
END:VCALENDAR