BEGIN:VCALENDAR
VERSION:2.0
PRODID:-//Unity of the Triangle - ECPv6.15.18//NONSGML v1.0//EN
CALSCALE:GREGORIAN
METHOD:PUBLISH
X-ORIGINAL-URL:https://unitytriangle.org
X-WR-CALDESC:Events for Unity of the Triangle
REFRESH-INTERVAL;VALUE=DURATION:PT1H
X-Robots-Tag:noindex
X-PUBLISHED-TTL:PT1H
BEGIN:VTIMEZONE
TZID:America/New_York
BEGIN:DAYLIGHT
TZOFFSETFROM:-0500
TZOFFSETTO:-0400
TZNAME:EDT
DTSTART:20250309T070000
END:DAYLIGHT
BEGIN:STANDARD
TZOFFSETFROM:-0400
TZOFFSETTO:-0500
TZNAME:EST
DTSTART:20251102T060000
END:STANDARD
BEGIN:DAYLIGHT
TZOFFSETFROM:-0500
TZOFFSETTO:-0400
TZNAME:EDT
DTSTART:20260308T070000
END:DAYLIGHT
BEGIN:STANDARD
TZOFFSETFROM:-0400
TZOFFSETTO:-0500
TZNAME:EST
DTSTART:20261101T060000
END:STANDARD
BEGIN:DAYLIGHT
TZOFFSETFROM:-0500
TZOFFSETTO:-0400
TZNAME:EDT
DTSTART:20270314T070000
END:DAYLIGHT
BEGIN:STANDARD
TZOFFSETFROM:-0400
TZOFFSETTO:-0500
TZNAME:EST
DTSTART:20271107T060000
END:STANDARD
END:VTIMEZONE
BEGIN:VEVENT
DTSTART;TZID=America/New_York:20260215T123000
DTEND;TZID=America/New_York:20260215T133000
DTSTAMP:20260422T103354
CREATED:20260207T154107Z
LAST-MODIFIED:20260207T160805Z
UID:10012489-1771158600-1771162200@unitytriangle.org
SUMMARY:NextGen Unity of the Triangle (NGU)
DESCRIPTION:What is Next Generation of Unity (NGU)?\nNext Generation of Unity (NGU) is a ministry built by and for young adults growing throughout the Unity movement nationwide. NGU of the Triangle is a new small group at Unity of the Triangle that is part of the larger young adult movement. For anyone aged 18-40 seeking spirituality and activism in the Raleigh\, Durham\, Triangle area. This group helps bridge the gap from Y.O.U. and early adulthood\, and is led by Unity of the Triangle Youth Director\, Tia Redman. \nNGU of the Triangle\n🚀 MONTHLY MEETINGS EVERY THIRD SUNDAY! 🚀\n12:30pm – 1:30pm \nMultipurpose Room \n📍5570 Munford Road\, Raleigh\, NC 27612 \nThe NGU movement empowers\, connects\, and leads through: \n🌿 Retreats & service opportunities at Unity Village\n📚 Leadership development & local group support\n🤝 Stronger partnerships within the Unity movement\n🔗 A lasting foundation for future generations \nUnity of the Triangle Youth Director\, Tia Redman\, attended the Fall 2025 NGU Retreat and came back excited to start our chapter! \nPhoto from NGU Retreat at Unity Village\, Fall 2025 Credit: Unity Village \nJoin NGU of the Triangle the third Sunday of every month!
URL:https://unitytriangle.org/event/nextgen-unity-of-the-triangle-ngu/2026-02-15/
LOCATION:Unity of the Triangle\, 5570 Munford Road\, Raleigh\, NC\, 27612\, United States
CATEGORIES:Community Service,Small Groups,Social
ATTACH;FMTTYPE=image/jpeg:https://unitytriangle.org/wp-content/uploads/2026/02/NextGenUnity_calendarV2.jpg
END:VEVENT
BEGIN:VEVENT
DTSTART;TZID=America/New_York:20260218T100000
DTEND;TZID=America/New_York:20260218T120000
DTSTAMP:20260422T103354
CREATED:20260209T042001Z
LAST-MODIFIED:20260209T042407Z
UID:10012399-1771408800-1771416000@unitytriangle.org
SUMMARY:Oak City Cares Workday | Unity in the Community
DESCRIPTION:Unity in the Community calls us to serve as part of our mission of love\, service\, and personal transformation.\nVolunteer to Serve People Experiencing Homelessness With Oak City Cares Organization\nUnity of the Triangle partners with Oak City Cares for multiple service projects. This event is our monthly workday. We need 12 volunteers!  Email name and phone number to organizer Don Davage: davagedon@gmail.com. \n1430 South Wilmington Street\nRaleigh\, NC 27603 \nRead more about Unity’s partnership with Oak City Cares on our Unity in the Community page. \n 
URL:https://unitytriangle.org/event/oak-city-cares-workday-unity-in-the-community-2026-02-18/
LOCATION:NC
CATEGORIES:Community Service,Volunteer
ATTACH;FMTTYPE=image/jpeg:https://unitytriangle.org/wp-content/uploads/2025/11/OCC_calendar.jpg
END:VEVENT
BEGIN:VEVENT
DTSTART;TZID=America/New_York:20260222T133000
DTEND;TZID=America/New_York:20260222T150000
DTSTAMP:20260422T103354
CREATED:20260205T221604Z
LAST-MODIFIED:20260307T005912Z
UID:10012486-1771767000-1771772400@unitytriangle.org
SUMMARY:Unity for Humanity Kickoff | Raleigh Social Justice Group
DESCRIPTION:Unity for Humanity: A Spiritual Social Justice Group in Raleigh\nUnity for Humanity is a spiritual social justice group at Unity of the Triangle\, created to engage our Raleigh community in meaningful dialogue\, compassionate action\, and consciousness-raising around issues that affect our shared humanity. \nRooted in Unity principles\, this group invites thoughtful exploration of social justice issues through education\, spiritual practice\, and community-centered action. \nUnity for Humanity Kickoff Meeting: Immigration Awareness and Learning\nUnity of the Triangle will host a panel discussion about immigration in our community. Following up on our kickoff event in February\, we will now focus on social action around local immigration issues in the Raleigh\, Durham\, Chapel Hill region. \nEvent Details\n🗓️ Date: Sunday\, Feb 22\, 2026 \n⏰ Time: 1:o0–3:00 PM \n📍 Location: 5570 Munford Road Raleigh\, Unity of the Triangle\, Sanctuary \nThis kickoff event launches Unity for Humanity and introduces the group’s first focus: immigration awareness from a spiritual and compassionate perspective. The gathering is designed to raise awareness\, foster understanding\, and explore meaningful ways to respond with love and service. \nWhat to Expect at the Kickoff Program\nProgram Highlights\n\n\nHistorical Context: Neusom will share an overview of the history of immigration in the United States \n\n\nPanel Discussion: Immigration experts and community voices from within and beyond Unity \n\n\nBreakout Groups: Guided discussion centered on the question: \n“What needs to happen for us to feel more at peace around immigration — within our reach?” \n\n\nImmigration Awareness Through a Spiritual Lens\nThe issue of Immigration is one of the most complex and emotionally charged issues of our time. As a church community\, Unity of the Triangle approaches this topic not through fear or division\, but through spiritual principles of compassion\, dignity\, and oneness. \nUnity for Humanity seeks to: \n\nSupport those in our community who may be living in fear\nRaise collective consciousness around immigration\nExplore pathways toward peace\, understanding\, and action\n\nTopics may include: \n\nLegislation and advocacy\nDonating and mutual aid\nActivism and volunteering\nEducation and awareness\n\nBuilding Unity in a World Divided\nIn alignment with Unity of the Triangle’s 2026 theme\, “In a World Divided — Choose Unity\,” Unity for Humanity focuses on issues that often divide us and creates space for understanding\, empathy\, and healing connection. We will be surveying the group for future topics. \nFrom Awareness to Compassionate Action\nUnity for Humanity is not only about learning — it is about transformative\, values-aligned action all through a spiritual lens. \nThis is a space where awareness becomes action and unity becomes lived experience. \nWho Should Attend Unity for Humanity?\nThis spiritual social justice group is open to: \n\nThose interested in social justice and social action in Raleigh\nIndividuals seeking non-polarizing\, heart-centered dialogue\nSpiritual seekers wanting to turn compassion into action\nCommunity members drawn to healing division through unity\nNo prior experience in activism is required — only an open heart and willingness to engage\n\nJoin Unity for Humanity\nUnity for Humanity invites you to be part of a growing spiritually centered social action movement at Unity of the Triangle — one rooted in love\, service\, and personal transformation. \nUnity for Humanity Leadership Team\nUnity for Humanity is led by a committed leadership team dedicated to spiritual integrity\, inclusivity\, and compassionate social justice: \n\nUnity of the Triangle Rev. Tami Johns\nDevra Thomas\nKaren Thorsen\nJoset Wright-Lacy\nSandi Fitts\nCindy Sink\nShelly Leslie\n\nTogether\, we explore challenging issues with grace\, and with an intention for deepening understanding\, and creating unity in a divided world.
URL:https://unitytriangle.org/event/unity-for-humanity-raleigh-social-justice-group/
LOCATION:Sanctuary\, 5570 Munford Road\, Raleigh\, NC\, 27612
CATEGORIES:Community Service,Information Series,Personal Transformation,Small Groups,Social
ATTACH;FMTTYPE=image/jpeg:https://unitytriangle.org/wp-content/uploads/2026/02/unityforhumanity_calendar.jpg
GEO:35.8584704;-78.6998074
X-APPLE-STRUCTURED-LOCATION;VALUE=URI;X-ADDRESS=Sanctuary 5570 Munford Road Raleigh NC 27612;X-APPLE-RADIUS=500;X-TITLE=5570 Munford Road:geo:-78.6998074,35.8584704
END:VEVENT
END:VCALENDAR