BEGIN:VCALENDAR
VERSION:2.0
PRODID:-//Unity of the Triangle - ECPv6.15.18//NONSGML v1.0//EN
CALSCALE:GREGORIAN
METHOD:PUBLISH
X-ORIGINAL-URL:https://unitytriangle.org
X-WR-CALDESC:Events for Unity of the Triangle
REFRESH-INTERVAL;VALUE=DURATION:PT1H
X-Robots-Tag:noindex
X-PUBLISHED-TTL:PT1H
BEGIN:VTIMEZONE
TZID:America/New_York
BEGIN:DAYLIGHT
TZOFFSETFROM:-0500
TZOFFSETTO:-0400
TZNAME:EDT
DTSTART:20240310T070000
END:DAYLIGHT
BEGIN:STANDARD
TZOFFSETFROM:-0400
TZOFFSETTO:-0500
TZNAME:EST
DTSTART:20241103T060000
END:STANDARD
BEGIN:DAYLIGHT
TZOFFSETFROM:-0500
TZOFFSETTO:-0400
TZNAME:EDT
DTSTART:20250309T070000
END:DAYLIGHT
BEGIN:STANDARD
TZOFFSETFROM:-0400
TZOFFSETTO:-0500
TZNAME:EST
DTSTART:20251102T060000
END:STANDARD
BEGIN:DAYLIGHT
TZOFFSETFROM:-0500
TZOFFSETTO:-0400
TZNAME:EDT
DTSTART:20260308T070000
END:DAYLIGHT
BEGIN:STANDARD
TZOFFSETFROM:-0400
TZOFFSETTO:-0500
TZNAME:EST
DTSTART:20261101T060000
END:STANDARD
END:VTIMEZONE
BEGIN:VEVENT
DTSTART;VALUE=DATE:20250916
DTEND;VALUE=DATE:20250920
DTSTAMP:20260425T202039
CREATED:20250716T161851Z
LAST-MODIFIED:20250816T163633Z
UID:10011802-1757980800-1758326399@unitytriangle.org
SUMMARY:UMMAS Retreat at Lake Junaluska\, NC
DESCRIPTION:The 2025 UMMAS Retreat at Lake Junaluska\n \nUMMAS Retreats are more than just gatherings—they are sacred spaces held in love\, music\, wisdom\, and wonder. Though born from Unity ministers and leaders\, this retreat is open to all spiritual seekers. Whether you’re a longtime traveler on the path or just curious—this is for you. You’ll be grateful you said yes. UMMAS website \nWhat is Unity of the Triangle’s role at the UMMAS retreat?\nUnity of the Triangle ministers Neusom Holmes\, Michael Gadway\, and Ana Quintana lead the opening night ceremony and the Wednesday morning keynote. They will be presenting the One Presence\, One Power…Realized workshop. Rev. Tami is presenting a special workshop on Awakening Your Divine Potential. \n——– \nRetreat theme: Sacred Kaleidoscope  \nIntention: Shifting Perspectives to Experience Infinite Possibilities. One turn and everything changes! \nSponsored by the Unity Ministers of the Mid-Atlantic States \nWhen: Tuesday\, September 16th to Friday\, September 19th\, 2025\nEarly Bird Registration ends August 10th \nREGISTER HERE \n——-\nWhat is Unity Ministers of the Mid-Atlantic States? (UMMAS)\n\nA voluntary association of Unity ministers\, spiritual leaders\, and their spouses/partners in North Carolina\, South Carolina\, Georgia\, Tennessee and Alabama. The annual retreat is sponsored by UMMAS and open to anyone to attend. \nRead more about the organization at UMMAS.org and the retreat at unityretreat.us. \nREGISTER HERE on the UMMAS website. If you have any trouble registering\, please contact the UMMAS registrar.
URL:https://unitytriangle.org/event/ummas-retreat-at-lake-junaluska-nc/
LOCATION:Lake Junaluska\, NC\, Lake Junaluska\, NC\, United States
CATEGORIES:Information Series,Personal Transformation,Spiritual Education and Enrichment
ATTACH;FMTTYPE=image/jpeg:https://unitytriangle.org/wp-content/uploads/2025/07/2025-UMMAS-RETREAT_calendar.jpg
END:VEVENT
BEGIN:VEVENT
DTSTART;TZID=America/New_York:20250917T190000
DTEND;TZID=America/New_York:20250917T203000
DTSTAMP:20260425T202039
CREATED:20180116T190055Z
LAST-MODIFIED:20250614T135248Z
UID:10003178-1758135600-1758141000@unitytriangle.org
SUMMARY:Unity Choir Practice | In-Person and Online
DESCRIPTION:Join us for choir practice Wednesday nights in-person and on Zoom. Fellowship starts at 6:30 pm; rehearsal is from 7-8:30 pm. To learn more\, contact our Music Director\, Tim Smith\, at (919) 832-8324\, Ext. 107\, or email tim.smith@unitytriangle.org.
URL:https://unitytriangle.org/event/choir/2025-09-17/
LOCATION:NC
CATEGORIES:Adult Choir,Music,Virtual Event
ATTACH;FMTTYPE=image/jpeg:https://unitytriangle.org/wp-content/uploads/2019/12/IMG_2388.jpg
END:VEVENT
BEGIN:VEVENT
DTSTART;TZID=America/New_York:20250918T140000
DTEND;TZID=America/New_York:20250918T150000
DTSTAMP:20260425T202039
CREATED:20250413T225752Z
LAST-MODIFIED:20250706T202809Z
UID:10010702-1758204000-1758207600@unitytriangle.org
SUMMARY:A Course of Love | A Course in Miracles: Spiritual Community Group
DESCRIPTION:Most books enter our lives to inform us. A Course of Love enters our lives to transform us.\n“A Course of Love (ACOL) is one of those few: a book that changes lives. ACOL is a complete course on Self-knowledge leading to lasting benefits to your life. It’s not a book of mental concepts\, but one that reaches into your heart and works a transformation.” \n“A Course in Miracles and A Course of Love work hand-in-hand because the change of thinking taught within A Course in Miracles was a change of thinking about yourself. It attempted to dislodge the ego-mind that has provided you with an identity that you but think you are. A Course of Love then followed in order to reveal to you who you truly are.” \nThis Unity Community Group meets every Thursday at 2pm in the Green Room to discuss these two works.
URL:https://unitytriangle.org/event/a-course-of-love-a-course-in-miracles-spiritual-community-group/2025-09-18/
LOCATION:NC
CATEGORIES:Small Groups,Social
ATTACH;FMTTYPE=image/jpeg:https://unitytriangle.org/wp-content/uploads/2025/04/ACOL_ACIM-1.jpg
END:VEVENT
BEGIN:VEVENT
DTSTART;TZID=America/New_York:20250921T103000
DTEND;TZID=America/New_York:20250921T105000
DTSTAMP:20260425T202039
CREATED:20250508T203458Z
LAST-MODIFIED:20250508T203809Z
UID:10005971-1758450600-1758451800@unitytriangle.org
SUMMARY:Sunday Morning Meditation with Rev. Neusom Holmes
DESCRIPTION:A beautiful way to cleanse the week and prepare for The Sunday Experience! Join us before Sunday service for a 15-minute mediation in the Sanctuary with Rev. Neusom.
URL:https://unitytriangle.org/event/sunday-morning-meditation-led-by-rev-neusom-homes-2-2/2025-09-21/
LOCATION:Unity of the Triangle\, 5570 Munford Road\, Raleigh\, NC\, 27612\, United States
CATEGORIES:Meditation
ATTACH;FMTTYPE=image/jpeg:https://unitytriangle.org/wp-content/uploads/2022/03/Sunday-Meditations-with-Neusom-1.jpg
END:VEVENT
BEGIN:VEVENT
DTSTART;TZID=America/New_York:20250921T110000
DTEND;TZID=America/New_York:20250921T120000
DTSTAMP:20260425T202039
CREATED:20250917T014837Z
LAST-MODIFIED:20250917T015257Z
UID:10004746-1758452400-1758456000@unitytriangle.org
SUMMARY:The Sunday Experience Topic: A Life in Balance
DESCRIPTION:“A Life in Balance”\nWith Rev. Neusom Holmes & The Unity Choir\n11:00 am In-person and Online\nExploring equinox energy through meditation\, action\, play\, work\, joy\, and vulnerability. We’ll reflect on the rhythms of life and how balance creates space for growth. Discover ways to ground yourself in harmony as the seasons shift. \nAll are welcome! \nThe Sunday Experience is our dynamic spiritual highlight of the week! Lively music\, meditation\, and teachings that inspire spiritual growth. \nYou can watch the online 11am Sunday service here or on Facebook or Youtube.
URL:https://unitytriangle.org/event/in-person-sunday-service-09-21-2025/
LOCATION:NC
CATEGORIES:Services
ATTACH;FMTTYPE=image/jpeg:https://unitytriangle.org/wp-content/uploads/2025/04/Sunday-Experience-website-1500-x-1000-px.jpg
END:VEVENT
BEGIN:VEVENT
DTSTART;TZID=America/New_York:20250921T123000
DTEND;TZID=America/New_York:20250921T123000
DTSTAMP:20260425T202039
CREATED:20240812T145348Z
LAST-MODIFIED:20250710T030821Z
UID:10008830-1758457800-1758457800@unitytriangle.org
SUMMARY:Power of Eight | Prayer Group
DESCRIPTION:Based on the book: \nThe Power of Eight: Harnessing the Miraculous Energies of a Small Group to Heal Others\, Your Life\, and the World\nWhat we send out into the universe comes back to us\, magnified. Although the power of intention—the energy of positive thoughts—is widely accepted as an influential force in transforming lives\, the exponential power of group intention has never been explored\, until now. In The Power of Eight\, Lynne McTaggart\, an expert on the science of spirituality\, reveals her remarkable findings from ten years of experiments about how group intention can heal our lives—and change the world for the better. Drawing on hundreds of case studies\, the latest brain research\, and dozens of McTaggart’s own university studies\, The Power of Eight provides solid evidence showing that there is such a thing as a collective consciousness. \nUnity of the Triangle’s Power of Eight group is a spiritual community group with a focus on bringing the concept to life! \n\nPower of Eight Prayer Group\nSundays @ 12:30pm \nGreen Room\nContact: Bill Gernon\n\nAnyone interested in exploring the power of prayer\, for others and for themselves\, is welcome to join us.  For more information call/text Bill Gernon at 919-467-5368 or email to bendflo44@gmail.com.
URL:https://unitytriangle.org/event/power-of-eight-group-2/2025-09-21/
LOCATION:Green Room
CATEGORIES:Prayer,Small Groups
ATTACH;FMTTYPE=image/jpeg:https://unitytriangle.org/wp-content/uploads/2024/08/Power-of-Eight-Group-Slide.jpg
END:VEVENT
BEGIN:VEVENT
DTSTART;TZID=America/New_York:20250921T123000
DTEND;TZID=America/New_York:20250921T133000
DTSTAMP:20260425T202039
CREATED:20250402T173901Z
LAST-MODIFIED:20260116T010859Z
UID:10010572-1758457800-1758461400@unitytriangle.org
SUMMARY:Reiki Healing for Congregants
DESCRIPTION:What is Reiki Healing?\nReiki is a Japanese technique for stress reduction and relaxation that also promotes healing. It is administered by “laying on hands” and is based on the idea that an unseen “life force energy” flows through us and is what causes us to be alive. If one’s “life force energy” is low\, then we are more likely to get sick or feel stress\, and if it is high\, we are more capable of being happy and healthy. \nThe word Reiki is made of two Japanese words – Rei which means “God’s Wisdom or the Higher Power” and Ki which is “life force energy”. So Reiki is actually “spiritually guided life force energy.” \nSunday Reiki Sessions for Congregants!\nAre you feeling out of balance or stressed? To support the spiritual growth of our congregation\, we are excited to offer Reiki energy healing to our community. Unity of the Triangle is blessed to have many Reiki healers in our congregation. They will be offering 15-minute Reiki Healing chair sessions once a month for the congregation on the third Sunday of every month in the Meditation Room upstairs. Sign up is required and will be available day-of at the Welcome Desk in the lobby before Sunday service. These sessions will be popular! There are only six appointments\, so we recommend coming early to reserve your spot. \nA love offering is suggested. \nQuestions? Email tami.johns@unitytriangle.org or patrajim2022@gmail.com. \n  \n 
URL:https://unitytriangle.org/event/reiki-healing-for-congregants/2025-09-21/
LOCATION:Meditation Chapel\, 5570 Munford Road\, Raleigh\, NC\, 27612\, United States
CATEGORIES:Groups and Classes,Healing Services
ATTACH;FMTTYPE=image/jpeg:https://unitytriangle.org/wp-content/uploads/2025/04/REIKI-CHAIR-SESSIONS-Presentation.jpg
ORGANIZER;CN="Rev. Tami Johns":MAILTO:tami.johns@unitytriangle.org
END:VEVENT
BEGIN:VEVENT
DTSTART;TZID=America/New_York:20250921T123000
DTEND;TZID=America/New_York:20250921T133000
DTSTAMP:20260425T202039
CREATED:20250408T224246Z
LAST-MODIFIED:20250508T192642Z
UID:10011232-1758457800-1758461400@unitytriangle.org
SUMMARY:Veterans Community Group
DESCRIPTION:Where Veterans Connect\nUnity brings Veterans together with the intention to connect with others who have served\, and discuss spiritual topics. The group meets on the third Sunday of every month at 12:30. Room location will vary. Group leader is Mike Domino. Contact tami.johns@unitytriangle.org to join.\n\nWe invite you to invite veterans from the community to join this group. You do not have to attend Unity of the Triangle to participate\, though we would love to say hello and thank you for your service at church!
URL:https://unitytriangle.org/event/veterans-community-group/2025-09-21/
LOCATION:NC
CATEGORIES:Small Groups
ATTACH;FMTTYPE=image/jpeg:https://unitytriangle.org/wp-content/uploads/2025/04/Veterans-Group-1.jpg
END:VEVENT
BEGIN:VEVENT
DTSTART;TZID=America/New_York:20250923T140000
DTEND;TZID=America/New_York:20250923T160000
DTSTAMP:20260425T202039
CREATED:20250820T211918Z
LAST-MODIFIED:20250820T212416Z
UID:10010999-1758636000-1758643200@unitytriangle.org
SUMMARY:Game Day! | Presented by Silver Circle
DESCRIPTION:Looking for a new social activity?\nLet’s play a game! Unity’s Silver Circle group hosts this monthly gathering for laughs and fun times. We’ll play a variety of games and there will be snacks! Remember\, games are good for your brain. Friends are good for your soul! \n 
URL:https://unitytriangle.org/event/game-day-presented-by-silver-circle-2/2025-09-23/
LOCATION:Fellowship Hall
CATEGORIES:Small Groups,Social
ATTACH;FMTTYPE=image/jpeg:https://unitytriangle.org/wp-content/uploads/2025/05/Silver-Circle-CALENDAR.jpg
END:VEVENT
BEGIN:VEVENT
DTSTART;TZID=America/New_York:20250924T180000
DTEND;TZID=America/New_York:20250924T183000
DTSTAMP:20260425T202039
CREATED:20250529T023700Z
LAST-MODIFIED:20250807T191132Z
UID:10009199-1758736800-1758738600@unitytriangle.org
SUMMARY:Chanting and Kriya Yoga Meditation
DESCRIPTION:Join Rev. Michael Gadway each Wednesday night from 6PM – 6:30 PM for chanting and Kriya Yoga Meditation. \nWe will chant our way into meditation and then use the tools of Kriya Yoga to meditate together\, diving deep into the ocean of consciousness. \nRead more about Kriya Yoga on Rev. Michael’s website.
URL:https://unitytriangle.org/event/chanting-and-kriya-yoga-meditation-2-2/2025-09-24/
LOCATION:NC
CATEGORIES:Meditation
ATTACH;FMTTYPE=image/jpeg:https://unitytriangle.org/wp-content/uploads/2024/08/Kriya-MeditationREV020325.jpg
END:VEVENT
BEGIN:VEVENT
DTSTART;TZID=America/New_York:20250924T190000
DTEND;TZID=America/New_York:20250924T203000
DTSTAMP:20260425T202039
CREATED:20180116T190055Z
LAST-MODIFIED:20250614T135248Z
UID:10003179-1758740400-1758745800@unitytriangle.org
SUMMARY:Unity Choir Practice | In-Person and Online
DESCRIPTION:Join us for choir practice Wednesday nights in-person and on Zoom. Fellowship starts at 6:30 pm; rehearsal is from 7-8:30 pm. To learn more\, contact our Music Director\, Tim Smith\, at (919) 832-8324\, Ext. 107\, or email tim.smith@unitytriangle.org.
URL:https://unitytriangle.org/event/choir/2025-09-24/
LOCATION:NC
CATEGORIES:Adult Choir,Music,Virtual Event
ATTACH;FMTTYPE=image/jpeg:https://unitytriangle.org/wp-content/uploads/2019/12/IMG_2388.jpg
END:VEVENT
BEGIN:VEVENT
DTSTART;TZID=America/New_York:20250925T113000
DTEND;TZID=America/New_York:20250925T133000
DTSTAMP:20260425T202039
CREATED:20250905T182658Z
LAST-MODIFIED:20250905T182658Z
UID:10011944-1758799800-1758807000@unitytriangle.org
SUMMARY:Spiritual Dialogue with Rev. Michael Gadway
DESCRIPTION:September 25th Guest leader: Rev. Michael Gadway\nSpiritual seekers love this group!\nThis group meets every Thursday in-person\, to share\, discuss\, study\, and enjoy all aspects of spirituality together. The topics are fluid as the group decides what they want to explore next.  \nBring your bagged lunch and join us at 11:30am for a social gathering before the discussion.  \nDiscussion starts at 12:00pm. No need to register to join. All are welcome!
URL:https://unitytriangle.org/event/spiritual-dialogue-with-rev-michael-gadway/2025-09-25/
LOCATION:Unity of the Triangle\, 5570 Munford Road\, Raleigh\, NC\, 27612\, United States
CATEGORIES:Groups and Classes,Personal Transformation,Social,Special Events,Spiritual Education and Enrichment
ATTACH;FMTTYPE=image/jpeg:https://unitytriangle.org/wp-content/uploads/2025/09/Spiritual-Dialogue-with-Michael.jpg
END:VEVENT
BEGIN:VEVENT
DTSTART;TZID=America/New_York:20250925T140000
DTEND;TZID=America/New_York:20250925T150000
DTSTAMP:20260425T202039
CREATED:20250413T225752Z
LAST-MODIFIED:20250706T202809Z
UID:10010703-1758808800-1758812400@unitytriangle.org
SUMMARY:A Course of Love | A Course in Miracles: Spiritual Community Group
DESCRIPTION:Most books enter our lives to inform us. A Course of Love enters our lives to transform us.\n“A Course of Love (ACOL) is one of those few: a book that changes lives. ACOL is a complete course on Self-knowledge leading to lasting benefits to your life. It’s not a book of mental concepts\, but one that reaches into your heart and works a transformation.” \n“A Course in Miracles and A Course of Love work hand-in-hand because the change of thinking taught within A Course in Miracles was a change of thinking about yourself. It attempted to dislodge the ego-mind that has provided you with an identity that you but think you are. A Course of Love then followed in order to reveal to you who you truly are.” \nThis Unity Community Group meets every Thursday at 2pm in the Green Room to discuss these two works.
URL:https://unitytriangle.org/event/a-course-of-love-a-course-in-miracles-spiritual-community-group/2025-09-25/
LOCATION:NC
CATEGORIES:Small Groups,Social
ATTACH;FMTTYPE=image/jpeg:https://unitytriangle.org/wp-content/uploads/2025/04/ACOL_ACIM-1.jpg
END:VEVENT
BEGIN:VEVENT
DTSTART;TZID=America/New_York:20250928T100000
DTEND;TZID=America/New_York:20250928T104500
DTSTAMP:20260425T202039
CREATED:20250508T174249Z
LAST-MODIFIED:20250508T191956Z
UID:10011171-1759053600-1759056300@unitytriangle.org
SUMMARY:Silver Circle | Unity Community Group
DESCRIPTION:Everyone who’s aging is welcome! (That’s all of us!)\nSilver Circle is an intentional caring community of Unity-minded people who want to enjoy the aging process together and live our best lives! You’ll mostly find folks over 60 here\, but this group is open to everyone who is aging — all of us!  Silver Circle activities include classes for learning things we are interested in\, building community\, and having fun social gatherings. Silver Circle is an ongoing organization open to new adventures and activities. \nAll are welcome! Leader Kayelilly Middleton and Planning Team. \nMeets 4th Sunday of the month from 10:00-10:45 AM in the multipurpose room.
URL:https://unitytriangle.org/event/silver-circle-unity-community-group/2025-09-28/
LOCATION:NC
CATEGORIES:Small Groups,Social
ATTACH;FMTTYPE=image/jpeg:https://unitytriangle.org/wp-content/uploads/2025/05/Silver-Circle-CALENDAR-1.jpg
END:VEVENT
BEGIN:VEVENT
DTSTART;TZID=America/New_York:20250928T103000
DTEND;TZID=America/New_York:20250928T105000
DTSTAMP:20260425T202039
CREATED:20250508T203458Z
LAST-MODIFIED:20250508T203809Z
UID:10005972-1759055400-1759056600@unitytriangle.org
SUMMARY:Sunday Morning Meditation with Rev. Neusom Holmes
DESCRIPTION:A beautiful way to cleanse the week and prepare for The Sunday Experience! Join us before Sunday service for a 15-minute mediation in the Sanctuary with Rev. Neusom.
URL:https://unitytriangle.org/event/sunday-morning-meditation-led-by-rev-neusom-homes-2-2/2025-09-28/
LOCATION:Unity of the Triangle\, 5570 Munford Road\, Raleigh\, NC\, 27612\, United States
CATEGORIES:Meditation
ATTACH;FMTTYPE=image/jpeg:https://unitytriangle.org/wp-content/uploads/2022/03/Sunday-Meditations-with-Neusom-1.jpg
END:VEVENT
BEGIN:VEVENT
DTSTART;TZID=America/New_York:20250928T110000
DTEND;TZID=America/New_York:20250928T120000
DTSTAMP:20260425T202039
CREATED:20250924T022024Z
LAST-MODIFIED:20250924T022334Z
UID:10004747-1759057200-1759060800@unitytriangle.org
SUMMARY:The Sunday Experience: The Deeper Meaning and Purpose in Life | Rev. Michael Gadway
DESCRIPTION:Special Sunday Experience with Rev. Michael Gadway\nDharma: The Deeper Meaning and Purpose in Life\nIn Person and Online \nSunday\, Sept. 28 @ 11:00am \nWhat is Dharma?\nDharma is more than just “duty” or “rules.” In many spiritual traditions\, it means living in harmony with the deeper truth of who you are and why you’re here. It’s the path that naturally unfolds when your actions\, gifts\, and values line up with love\, wisdom\, and service. Dharma isn’t something imposed from outside; it’s discovered through listening within\, noticing what brings peace and meaning\, and following the call to contribute to the greater good. When you live your dharma\, life feels purposeful\, relationships deepen\, and even challenges become part of your growth into a fuller\, freer expression of Spirit. \nYou can watch the online 11am Sunday service here or on Facebook or Youtube. \n 
URL:https://unitytriangle.org/event/sunday-experience-sept-28/
LOCATION:NC
CATEGORIES:Services,Spiritual Education and Enrichment
ATTACH;FMTTYPE=image/jpeg:https://unitytriangle.org/wp-content/uploads/2025/09/Sunday-Experience-with-Michael-Gadway.jpg
END:VEVENT
BEGIN:VEVENT
DTSTART;TZID=America/New_York:20250928T123000
DTEND;TZID=America/New_York:20250928T123000
DTSTAMP:20260425T202039
CREATED:20240812T145348Z
LAST-MODIFIED:20250710T030821Z
UID:10008831-1759062600-1759062600@unitytriangle.org
SUMMARY:Power of Eight | Prayer Group
DESCRIPTION:Based on the book: \nThe Power of Eight: Harnessing the Miraculous Energies of a Small Group to Heal Others\, Your Life\, and the World\nWhat we send out into the universe comes back to us\, magnified. Although the power of intention—the energy of positive thoughts—is widely accepted as an influential force in transforming lives\, the exponential power of group intention has never been explored\, until now. In The Power of Eight\, Lynne McTaggart\, an expert on the science of spirituality\, reveals her remarkable findings from ten years of experiments about how group intention can heal our lives—and change the world for the better. Drawing on hundreds of case studies\, the latest brain research\, and dozens of McTaggart’s own university studies\, The Power of Eight provides solid evidence showing that there is such a thing as a collective consciousness. \nUnity of the Triangle’s Power of Eight group is a spiritual community group with a focus on bringing the concept to life! \n\nPower of Eight Prayer Group\nSundays @ 12:30pm \nGreen Room\nContact: Bill Gernon\n\nAnyone interested in exploring the power of prayer\, for others and for themselves\, is welcome to join us.  For more information call/text Bill Gernon at 919-467-5368 or email to bendflo44@gmail.com.
URL:https://unitytriangle.org/event/power-of-eight-group-2/2025-09-28/
LOCATION:Green Room
CATEGORIES:Prayer,Small Groups
ATTACH;FMTTYPE=image/jpeg:https://unitytriangle.org/wp-content/uploads/2024/08/Power-of-Eight-Group-Slide.jpg
END:VEVENT
BEGIN:VEVENT
DTSTART;TZID=America/New_York:20250928T123000
DTEND;TZID=America/New_York:20250928T133000
DTSTAMP:20260425T202039
CREATED:20250909T224029Z
LAST-MODIFIED:20250918T171321Z
UID:10011717-1759062600-1759066200@unitytriangle.org
SUMMARY:Millennials | Gen Y | Unity Community Group
DESCRIPTION:Calling all Millennials | Gen Y looking for more connection!\nCome join this group for lively and informative conversations\, and discussions on how to engage socially. Childcare is provided for meetings. \nContact leaders Elizabeth Chatfield (isabelgreen1@gmail.com) and Artemis Jamison (jamisonartemis@gmail.com) to join. \nMeets every 4th Sunday at 12:30pm in the Meditation Room.
URL:https://unitytriangle.org/event/millennials-gen-y-unity-community-group-2/2025-09-28/
LOCATION:NC
CATEGORIES:Small Groups
ATTACH;FMTTYPE=image/jpeg:https://unitytriangle.org/wp-content/uploads/2025/07/Millennials.jpg
END:VEVENT
BEGIN:VEVENT
DTSTART;TZID=America/New_York:20250928T130000
DTEND;TZID=America/New_York:20250928T150000
DTSTAMP:20260425T202039
CREATED:20250924T034225Z
LAST-MODIFIED:20250925T225334Z
UID:10012054-1759064400-1759071600@unitytriangle.org
SUMMARY:After Church Hangout | Sponsored by Unity Youth
DESCRIPTION:No Better Place to Celebrate Fall Than Pullen Park with the Unity Youth!\nSunday September 28\, 1:00 – 3:00\nMeet At the Field\nCome hangout with the Unikids\, Uniteens\, and Y.O.U after service. Have a picnic\, play on the playground\, ride the carousel\, train or paddle boats. Great way to connect with the Unity community after church. \nWhat can you do at Pullen Park?\nBuilt in 1887 on more than 66 acres\, Pullen Park is the first public park in North Carolina\, the 5th oldest operating amusement park in the U.S.\, and the 16th oldest in the world. \nSee all the amusements at Pullen Park. Reach out to tia.redman@unitytriangle.org for any questions about the hangout! \n 
URL:https://unitytriangle.org/event/after-church-hangout-sponsored-by-unity-youth/
LOCATION:NC
CATEGORIES:Social,Youth
ATTACH;FMTTYPE=image/jpeg:https://unitytriangle.org/wp-content/uploads/2025/09/After-Service-Hang-Unity-Youth.jpg
END:VEVENT
END:VCALENDAR