BEGIN:VCALENDAR
VERSION:2.0
PRODID:-//Unity of the Triangle - ECPv6.15.18//NONSGML v1.0//EN
CALSCALE:GREGORIAN
METHOD:PUBLISH
X-ORIGINAL-URL:https://unitytriangle.org
X-WR-CALDESC:Events for Unity of the Triangle
REFRESH-INTERVAL;VALUE=DURATION:PT1H
X-Robots-Tag:noindex
X-PUBLISHED-TTL:PT1H
BEGIN:VTIMEZONE
TZID:America/New_York
BEGIN:DAYLIGHT
TZOFFSETFROM:-0500
TZOFFSETTO:-0400
TZNAME:EDT
DTSTART:20240310T070000
END:DAYLIGHT
BEGIN:STANDARD
TZOFFSETFROM:-0400
TZOFFSETTO:-0500
TZNAME:EST
DTSTART:20241103T060000
END:STANDARD
BEGIN:DAYLIGHT
TZOFFSETFROM:-0500
TZOFFSETTO:-0400
TZNAME:EDT
DTSTART:20250309T070000
END:DAYLIGHT
BEGIN:STANDARD
TZOFFSETFROM:-0400
TZOFFSETTO:-0500
TZNAME:EST
DTSTART:20251102T060000
END:STANDARD
BEGIN:DAYLIGHT
TZOFFSETFROM:-0500
TZOFFSETTO:-0400
TZNAME:EDT
DTSTART:20260308T070000
END:DAYLIGHT
BEGIN:STANDARD
TZOFFSETFROM:-0400
TZOFFSETTO:-0500
TZNAME:EST
DTSTART:20261101T060000
END:STANDARD
END:VTIMEZONE
BEGIN:VEVENT
DTSTART;TZID=America/New_York:20250921T103000
DTEND;TZID=America/New_York:20250921T105000
DTSTAMP:20260425T235554
CREATED:20250508T203458Z
LAST-MODIFIED:20250508T203809Z
UID:10005971-1758450600-1758451800@unitytriangle.org
SUMMARY:Sunday Morning Meditation with Rev. Neusom Holmes
DESCRIPTION:A beautiful way to cleanse the week and prepare for The Sunday Experience! Join us before Sunday service for a 15-minute mediation in the Sanctuary with Rev. Neusom.
URL:https://unitytriangle.org/event/sunday-morning-meditation-led-by-rev-neusom-homes-2-2/2025-09-21/
LOCATION:Unity of the Triangle\, 5570 Munford Road\, Raleigh\, NC\, 27612\, United States
CATEGORIES:Meditation
ATTACH;FMTTYPE=image/jpeg:https://unitytriangle.org/wp-content/uploads/2022/03/Sunday-Meditations-with-Neusom-1.jpg
END:VEVENT
BEGIN:VEVENT
DTSTART;TZID=America/New_York:20250918T140000
DTEND;TZID=America/New_York:20250918T150000
DTSTAMP:20260425T235554
CREATED:20250413T225752Z
LAST-MODIFIED:20250706T202809Z
UID:10010702-1758204000-1758207600@unitytriangle.org
SUMMARY:A Course of Love | A Course in Miracles: Spiritual Community Group
DESCRIPTION:Most books enter our lives to inform us. A Course of Love enters our lives to transform us.\n“A Course of Love (ACOL) is one of those few: a book that changes lives. ACOL is a complete course on Self-knowledge leading to lasting benefits to your life. It’s not a book of mental concepts\, but one that reaches into your heart and works a transformation.” \n“A Course in Miracles and A Course of Love work hand-in-hand because the change of thinking taught within A Course in Miracles was a change of thinking about yourself. It attempted to dislodge the ego-mind that has provided you with an identity that you but think you are. A Course of Love then followed in order to reveal to you who you truly are.” \nThis Unity Community Group meets every Thursday at 2pm in the Green Room to discuss these two works.
URL:https://unitytriangle.org/event/a-course-of-love-a-course-in-miracles-spiritual-community-group/2025-09-18/
LOCATION:NC
CATEGORIES:Small Groups,Social
ATTACH;FMTTYPE=image/jpeg:https://unitytriangle.org/wp-content/uploads/2025/04/ACOL_ACIM-1.jpg
END:VEVENT
BEGIN:VEVENT
DTSTART;TZID=America/New_York:20250917T190000
DTEND;TZID=America/New_York:20250917T203000
DTSTAMP:20260425T235554
CREATED:20180116T190055Z
LAST-MODIFIED:20250614T135248Z
UID:10003178-1758135600-1758141000@unitytriangle.org
SUMMARY:Unity Choir Practice | In-Person and Online
DESCRIPTION:Join us for choir practice Wednesday nights in-person and on Zoom. Fellowship starts at 6:30 pm; rehearsal is from 7-8:30 pm. To learn more\, contact our Music Director\, Tim Smith\, at (919) 832-8324\, Ext. 107\, or email tim.smith@unitytriangle.org.
URL:https://unitytriangle.org/event/choir/2025-09-17/
LOCATION:NC
CATEGORIES:Adult Choir,Music,Virtual Event
ATTACH;FMTTYPE=image/jpeg:https://unitytriangle.org/wp-content/uploads/2019/12/IMG_2388.jpg
END:VEVENT
BEGIN:VEVENT
DTSTART;VALUE=DATE:20250916
DTEND;VALUE=DATE:20250920
DTSTAMP:20260425T235554
CREATED:20250716T161851Z
LAST-MODIFIED:20250816T163633Z
UID:10011802-1757980800-1758326399@unitytriangle.org
SUMMARY:UMMAS Retreat at Lake Junaluska\, NC
DESCRIPTION:The 2025 UMMAS Retreat at Lake Junaluska\n \nUMMAS Retreats are more than just gatherings—they are sacred spaces held in love\, music\, wisdom\, and wonder. Though born from Unity ministers and leaders\, this retreat is open to all spiritual seekers. Whether you’re a longtime traveler on the path or just curious—this is for you. You’ll be grateful you said yes. UMMAS website \nWhat is Unity of the Triangle’s role at the UMMAS retreat?\nUnity of the Triangle ministers Neusom Holmes\, Michael Gadway\, and Ana Quintana lead the opening night ceremony and the Wednesday morning keynote. They will be presenting the One Presence\, One Power…Realized workshop. Rev. Tami is presenting a special workshop on Awakening Your Divine Potential. \n——– \nRetreat theme: Sacred Kaleidoscope  \nIntention: Shifting Perspectives to Experience Infinite Possibilities. One turn and everything changes! \nSponsored by the Unity Ministers of the Mid-Atlantic States \nWhen: Tuesday\, September 16th to Friday\, September 19th\, 2025\nEarly Bird Registration ends August 10th \nREGISTER HERE \n——-\nWhat is Unity Ministers of the Mid-Atlantic States? (UMMAS)\n\nA voluntary association of Unity ministers\, spiritual leaders\, and their spouses/partners in North Carolina\, South Carolina\, Georgia\, Tennessee and Alabama. The annual retreat is sponsored by UMMAS and open to anyone to attend. \nRead more about the organization at UMMAS.org and the retreat at unityretreat.us. \nREGISTER HERE on the UMMAS website. If you have any trouble registering\, please contact the UMMAS registrar.
URL:https://unitytriangle.org/event/ummas-retreat-at-lake-junaluska-nc/
LOCATION:Lake Junaluska\, NC\, Lake Junaluska\, NC\, United States
CATEGORIES:Information Series,Personal Transformation,Spiritual Education and Enrichment
ATTACH;FMTTYPE=image/jpeg:https://unitytriangle.org/wp-content/uploads/2025/07/2025-UMMAS-RETREAT_calendar.jpg
END:VEVENT
END:VCALENDAR