BEGIN:VCALENDAR
VERSION:2.0
PRODID:-//Unity of the Triangle - ECPv6.15.18//NONSGML v1.0//EN
CALSCALE:GREGORIAN
METHOD:PUBLISH
X-WR-CALNAME:Unity of the Triangle
X-ORIGINAL-URL:https://unitytriangle.org
X-WR-CALDESC:Events for Unity of the Triangle
REFRESH-INTERVAL;VALUE=DURATION:PT1H
X-Robots-Tag:noindex
X-PUBLISHED-TTL:PT1H
BEGIN:VTIMEZONE
TZID:America/New_York
BEGIN:DAYLIGHT
TZOFFSETFROM:-0500
TZOFFSETTO:-0400
TZNAME:EDT
DTSTART:20250309T070000
END:DAYLIGHT
BEGIN:STANDARD
TZOFFSETFROM:-0400
TZOFFSETTO:-0500
TZNAME:EST
DTSTART:20251102T060000
END:STANDARD
BEGIN:DAYLIGHT
TZOFFSETFROM:-0500
TZOFFSETTO:-0400
TZNAME:EDT
DTSTART:20260308T070000
END:DAYLIGHT
BEGIN:STANDARD
TZOFFSETFROM:-0400
TZOFFSETTO:-0500
TZNAME:EST
DTSTART:20261101T060000
END:STANDARD
BEGIN:DAYLIGHT
TZOFFSETFROM:-0500
TZOFFSETTO:-0400
TZNAME:EDT
DTSTART:20270314T070000
END:DAYLIGHT
BEGIN:STANDARD
TZOFFSETFROM:-0400
TZOFFSETTO:-0500
TZNAME:EST
DTSTART:20271107T060000
END:STANDARD
END:VTIMEZONE
BEGIN:VEVENT
DTSTART;TZID=America/New_York:20260517T123000
DTEND;TZID=America/New_York:20260517T133000
DTSTAMP:20260423T174039
CREATED:20250402T173901Z
LAST-MODIFIED:20260116T010859Z
UID:10012390-1779021000-1779024600@unitytriangle.org
SUMMARY:Reiki Healing for Congregants
DESCRIPTION:What is Reiki Healing?\nReiki is a Japanese technique for stress reduction and relaxation that also promotes healing. It is administered by “laying on hands” and is based on the idea that an unseen “life force energy” flows through us and is what causes us to be alive. If one’s “life force energy” is low\, then we are more likely to get sick or feel stress\, and if it is high\, we are more capable of being happy and healthy. \nThe word Reiki is made of two Japanese words – Rei which means “God’s Wisdom or the Higher Power” and Ki which is “life force energy”. So Reiki is actually “spiritually guided life force energy.” \nSunday Reiki Sessions for Congregants!\nAre you feeling out of balance or stressed? To support the spiritual growth of our congregation\, we are excited to offer Reiki energy healing to our community. Unity of the Triangle is blessed to have many Reiki healers in our congregation. They will be offering 15-minute Reiki Healing chair sessions once a month for the congregation on the third Sunday of every month in the Meditation Room upstairs. Sign up is required and will be available day-of at the Welcome Desk in the lobby before Sunday service. These sessions will be popular! There are only six appointments\, so we recommend coming early to reserve your spot. \nA love offering is suggested. \nQuestions? Email tami.johns@unitytriangle.org or patrajim2022@gmail.com. \n  \n 
URL:https://unitytriangle.org/event/reiki-healing-for-congregants/2026-05-17/
LOCATION:Meditation Chapel\, 5570 Munford Road\, Raleigh\, NC\, 27612\, United States
CATEGORIES:Groups and Classes,Healing Services
ATTACH;FMTTYPE=image/jpeg:https://unitytriangle.org/wp-content/uploads/2025/04/REIKI-CHAIR-SESSIONS-Presentation.jpg
ORGANIZER;CN="Rev. Tami Johns":MAILTO:tami.johns@unitytriangle.org
END:VEVENT
BEGIN:VEVENT
DTSTART;TZID=America/New_York:20260621T123000
DTEND;TZID=America/New_York:20260621T133000
DTSTAMP:20260423T174039
CREATED:20250402T173901Z
LAST-MODIFIED:20260116T010859Z
UID:10012391-1782045000-1782048600@unitytriangle.org
SUMMARY:Reiki Healing for Congregants
DESCRIPTION:What is Reiki Healing?\nReiki is a Japanese technique for stress reduction and relaxation that also promotes healing. It is administered by “laying on hands” and is based on the idea that an unseen “life force energy” flows through us and is what causes us to be alive. If one’s “life force energy” is low\, then we are more likely to get sick or feel stress\, and if it is high\, we are more capable of being happy and healthy. \nThe word Reiki is made of two Japanese words – Rei which means “God’s Wisdom or the Higher Power” and Ki which is “life force energy”. So Reiki is actually “spiritually guided life force energy.” \nSunday Reiki Sessions for Congregants!\nAre you feeling out of balance or stressed? To support the spiritual growth of our congregation\, we are excited to offer Reiki energy healing to our community. Unity of the Triangle is blessed to have many Reiki healers in our congregation. They will be offering 15-minute Reiki Healing chair sessions once a month for the congregation on the third Sunday of every month in the Meditation Room upstairs. Sign up is required and will be available day-of at the Welcome Desk in the lobby before Sunday service. These sessions will be popular! There are only six appointments\, so we recommend coming early to reserve your spot. \nA love offering is suggested. \nQuestions? Email tami.johns@unitytriangle.org or patrajim2022@gmail.com. \n  \n 
URL:https://unitytriangle.org/event/reiki-healing-for-congregants/2026-06-21/
LOCATION:Meditation Chapel\, 5570 Munford Road\, Raleigh\, NC\, 27612\, United States
CATEGORIES:Groups and Classes,Healing Services
ATTACH;FMTTYPE=image/jpeg:https://unitytriangle.org/wp-content/uploads/2025/04/REIKI-CHAIR-SESSIONS-Presentation.jpg
ORGANIZER;CN="Rev. Tami Johns":MAILTO:tami.johns@unitytriangle.org
END:VEVENT
BEGIN:VEVENT
DTSTART;TZID=America/New_York:20260719T123000
DTEND;TZID=America/New_York:20260719T133000
DTSTAMP:20260423T174039
CREATED:20250402T173901Z
LAST-MODIFIED:20260116T010859Z
UID:10012392-1784464200-1784467800@unitytriangle.org
SUMMARY:Reiki Healing for Congregants
DESCRIPTION:What is Reiki Healing?\nReiki is a Japanese technique for stress reduction and relaxation that also promotes healing. It is administered by “laying on hands” and is based on the idea that an unseen “life force energy” flows through us and is what causes us to be alive. If one’s “life force energy” is low\, then we are more likely to get sick or feel stress\, and if it is high\, we are more capable of being happy and healthy. \nThe word Reiki is made of two Japanese words – Rei which means “God’s Wisdom or the Higher Power” and Ki which is “life force energy”. So Reiki is actually “spiritually guided life force energy.” \nSunday Reiki Sessions for Congregants!\nAre you feeling out of balance or stressed? To support the spiritual growth of our congregation\, we are excited to offer Reiki energy healing to our community. Unity of the Triangle is blessed to have many Reiki healers in our congregation. They will be offering 15-minute Reiki Healing chair sessions once a month for the congregation on the third Sunday of every month in the Meditation Room upstairs. Sign up is required and will be available day-of at the Welcome Desk in the lobby before Sunday service. These sessions will be popular! There are only six appointments\, so we recommend coming early to reserve your spot. \nA love offering is suggested. \nQuestions? Email tami.johns@unitytriangle.org or patrajim2022@gmail.com. \n  \n 
URL:https://unitytriangle.org/event/reiki-healing-for-congregants/2026-07-19/
LOCATION:Meditation Chapel\, 5570 Munford Road\, Raleigh\, NC\, 27612\, United States
CATEGORIES:Groups and Classes,Healing Services
ATTACH;FMTTYPE=image/jpeg:https://unitytriangle.org/wp-content/uploads/2025/04/REIKI-CHAIR-SESSIONS-Presentation.jpg
ORGANIZER;CN="Rev. Tami Johns":MAILTO:tami.johns@unitytriangle.org
END:VEVENT
BEGIN:VEVENT
DTSTART;TZID=America/New_York:20260816T123000
DTEND;TZID=America/New_York:20260816T133000
DTSTAMP:20260423T174039
CREATED:20250402T173901Z
LAST-MODIFIED:20260116T010859Z
UID:10012393-1786883400-1786887000@unitytriangle.org
SUMMARY:Reiki Healing for Congregants
DESCRIPTION:What is Reiki Healing?\nReiki is a Japanese technique for stress reduction and relaxation that also promotes healing. It is administered by “laying on hands” and is based on the idea that an unseen “life force energy” flows through us and is what causes us to be alive. If one’s “life force energy” is low\, then we are more likely to get sick or feel stress\, and if it is high\, we are more capable of being happy and healthy. \nThe word Reiki is made of two Japanese words – Rei which means “God’s Wisdom or the Higher Power” and Ki which is “life force energy”. So Reiki is actually “spiritually guided life force energy.” \nSunday Reiki Sessions for Congregants!\nAre you feeling out of balance or stressed? To support the spiritual growth of our congregation\, we are excited to offer Reiki energy healing to our community. Unity of the Triangle is blessed to have many Reiki healers in our congregation. They will be offering 15-minute Reiki Healing chair sessions once a month for the congregation on the third Sunday of every month in the Meditation Room upstairs. Sign up is required and will be available day-of at the Welcome Desk in the lobby before Sunday service. These sessions will be popular! There are only six appointments\, so we recommend coming early to reserve your spot. \nA love offering is suggested. \nQuestions? Email tami.johns@unitytriangle.org or patrajim2022@gmail.com. \n  \n 
URL:https://unitytriangle.org/event/reiki-healing-for-congregants/2026-08-16/
LOCATION:Meditation Chapel\, 5570 Munford Road\, Raleigh\, NC\, 27612\, United States
CATEGORIES:Groups and Classes,Healing Services
ATTACH;FMTTYPE=image/jpeg:https://unitytriangle.org/wp-content/uploads/2025/04/REIKI-CHAIR-SESSIONS-Presentation.jpg
ORGANIZER;CN="Rev. Tami Johns":MAILTO:tami.johns@unitytriangle.org
END:VEVENT
BEGIN:VEVENT
DTSTART;TZID=America/New_York:20260920T123000
DTEND;TZID=America/New_York:20260920T133000
DTSTAMP:20260423T174039
CREATED:20250402T173901Z
LAST-MODIFIED:20260116T010859Z
UID:10012394-1789907400-1789911000@unitytriangle.org
SUMMARY:Reiki Healing for Congregants
DESCRIPTION:What is Reiki Healing?\nReiki is a Japanese technique for stress reduction and relaxation that also promotes healing. It is administered by “laying on hands” and is based on the idea that an unseen “life force energy” flows through us and is what causes us to be alive. If one’s “life force energy” is low\, then we are more likely to get sick or feel stress\, and if it is high\, we are more capable of being happy and healthy. \nThe word Reiki is made of two Japanese words – Rei which means “God’s Wisdom or the Higher Power” and Ki which is “life force energy”. So Reiki is actually “spiritually guided life force energy.” \nSunday Reiki Sessions for Congregants!\nAre you feeling out of balance or stressed? To support the spiritual growth of our congregation\, we are excited to offer Reiki energy healing to our community. Unity of the Triangle is blessed to have many Reiki healers in our congregation. They will be offering 15-minute Reiki Healing chair sessions once a month for the congregation on the third Sunday of every month in the Meditation Room upstairs. Sign up is required and will be available day-of at the Welcome Desk in the lobby before Sunday service. These sessions will be popular! There are only six appointments\, so we recommend coming early to reserve your spot. \nA love offering is suggested. \nQuestions? Email tami.johns@unitytriangle.org or patrajim2022@gmail.com. \n  \n 
URL:https://unitytriangle.org/event/reiki-healing-for-congregants/2026-09-20/
LOCATION:Meditation Chapel\, 5570 Munford Road\, Raleigh\, NC\, 27612\, United States
CATEGORIES:Groups and Classes,Healing Services
ATTACH;FMTTYPE=image/jpeg:https://unitytriangle.org/wp-content/uploads/2025/04/REIKI-CHAIR-SESSIONS-Presentation.jpg
ORGANIZER;CN="Rev. Tami Johns":MAILTO:tami.johns@unitytriangle.org
END:VEVENT
BEGIN:VEVENT
DTSTART;TZID=America/New_York:20261018T123000
DTEND;TZID=America/New_York:20261018T133000
DTSTAMP:20260423T174039
CREATED:20250402T173901Z
LAST-MODIFIED:20260116T010859Z
UID:10012395-1792326600-1792330200@unitytriangle.org
SUMMARY:Reiki Healing for Congregants
DESCRIPTION:What is Reiki Healing?\nReiki is a Japanese technique for stress reduction and relaxation that also promotes healing. It is administered by “laying on hands” and is based on the idea that an unseen “life force energy” flows through us and is what causes us to be alive. If one’s “life force energy” is low\, then we are more likely to get sick or feel stress\, and if it is high\, we are more capable of being happy and healthy. \nThe word Reiki is made of two Japanese words – Rei which means “God’s Wisdom or the Higher Power” and Ki which is “life force energy”. So Reiki is actually “spiritually guided life force energy.” \nSunday Reiki Sessions for Congregants!\nAre you feeling out of balance or stressed? To support the spiritual growth of our congregation\, we are excited to offer Reiki energy healing to our community. Unity of the Triangle is blessed to have many Reiki healers in our congregation. They will be offering 15-minute Reiki Healing chair sessions once a month for the congregation on the third Sunday of every month in the Meditation Room upstairs. Sign up is required and will be available day-of at the Welcome Desk in the lobby before Sunday service. These sessions will be popular! There are only six appointments\, so we recommend coming early to reserve your spot. \nA love offering is suggested. \nQuestions? Email tami.johns@unitytriangle.org or patrajim2022@gmail.com. \n  \n 
URL:https://unitytriangle.org/event/reiki-healing-for-congregants/2026-10-18/
LOCATION:Meditation Chapel\, 5570 Munford Road\, Raleigh\, NC\, 27612\, United States
CATEGORIES:Groups and Classes,Healing Services
ATTACH;FMTTYPE=image/jpeg:https://unitytriangle.org/wp-content/uploads/2025/04/REIKI-CHAIR-SESSIONS-Presentation.jpg
ORGANIZER;CN="Rev. Tami Johns":MAILTO:tami.johns@unitytriangle.org
END:VEVENT
BEGIN:VEVENT
DTSTART;TZID=America/New_York:20261115T123000
DTEND;TZID=America/New_York:20261115T133000
DTSTAMP:20260423T174039
CREATED:20250402T173901Z
LAST-MODIFIED:20260116T010859Z
UID:10012396-1794745800-1794749400@unitytriangle.org
SUMMARY:Reiki Healing for Congregants
DESCRIPTION:What is Reiki Healing?\nReiki is a Japanese technique for stress reduction and relaxation that also promotes healing. It is administered by “laying on hands” and is based on the idea that an unseen “life force energy” flows through us and is what causes us to be alive. If one’s “life force energy” is low\, then we are more likely to get sick or feel stress\, and if it is high\, we are more capable of being happy and healthy. \nThe word Reiki is made of two Japanese words – Rei which means “God’s Wisdom or the Higher Power” and Ki which is “life force energy”. So Reiki is actually “spiritually guided life force energy.” \nSunday Reiki Sessions for Congregants!\nAre you feeling out of balance or stressed? To support the spiritual growth of our congregation\, we are excited to offer Reiki energy healing to our community. Unity of the Triangle is blessed to have many Reiki healers in our congregation. They will be offering 15-minute Reiki Healing chair sessions once a month for the congregation on the third Sunday of every month in the Meditation Room upstairs. Sign up is required and will be available day-of at the Welcome Desk in the lobby before Sunday service. These sessions will be popular! There are only six appointments\, so we recommend coming early to reserve your spot. \nA love offering is suggested. \nQuestions? Email tami.johns@unitytriangle.org or patrajim2022@gmail.com. \n  \n 
URL:https://unitytriangle.org/event/reiki-healing-for-congregants/2026-11-15/
LOCATION:Meditation Chapel\, 5570 Munford Road\, Raleigh\, NC\, 27612\, United States
CATEGORIES:Groups and Classes,Healing Services
ATTACH;FMTTYPE=image/jpeg:https://unitytriangle.org/wp-content/uploads/2025/04/REIKI-CHAIR-SESSIONS-Presentation.jpg
ORGANIZER;CN="Rev. Tami Johns":MAILTO:tami.johns@unitytriangle.org
END:VEVENT
BEGIN:VEVENT
DTSTART;TZID=America/New_York:20261220T123000
DTEND;TZID=America/New_York:20261220T133000
DTSTAMP:20260423T174039
CREATED:20250402T173901Z
LAST-MODIFIED:20260116T010859Z
UID:10012397-1797769800-1797773400@unitytriangle.org
SUMMARY:Reiki Healing for Congregants
DESCRIPTION:What is Reiki Healing?\nReiki is a Japanese technique for stress reduction and relaxation that also promotes healing. It is administered by “laying on hands” and is based on the idea that an unseen “life force energy” flows through us and is what causes us to be alive. If one’s “life force energy” is low\, then we are more likely to get sick or feel stress\, and if it is high\, we are more capable of being happy and healthy. \nThe word Reiki is made of two Japanese words – Rei which means “God’s Wisdom or the Higher Power” and Ki which is “life force energy”. So Reiki is actually “spiritually guided life force energy.” \nSunday Reiki Sessions for Congregants!\nAre you feeling out of balance or stressed? To support the spiritual growth of our congregation\, we are excited to offer Reiki energy healing to our community. Unity of the Triangle is blessed to have many Reiki healers in our congregation. They will be offering 15-minute Reiki Healing chair sessions once a month for the congregation on the third Sunday of every month in the Meditation Room upstairs. Sign up is required and will be available day-of at the Welcome Desk in the lobby before Sunday service. These sessions will be popular! There are only six appointments\, so we recommend coming early to reserve your spot. \nA love offering is suggested. \nQuestions? Email tami.johns@unitytriangle.org or patrajim2022@gmail.com. \n  \n 
URL:https://unitytriangle.org/event/reiki-healing-for-congregants/2026-12-20/
LOCATION:Meditation Chapel\, 5570 Munford Road\, Raleigh\, NC\, 27612\, United States
CATEGORIES:Groups and Classes,Healing Services
ATTACH;FMTTYPE=image/jpeg:https://unitytriangle.org/wp-content/uploads/2025/04/REIKI-CHAIR-SESSIONS-Presentation.jpg
ORGANIZER;CN="Rev. Tami Johns":MAILTO:tami.johns@unitytriangle.org
END:VEVENT
END:VCALENDAR