BEGIN:VCALENDAR
VERSION:2.0
PRODID:-//Unity of the Triangle - ECPv6.15.18//NONSGML v1.0//EN
CALSCALE:GREGORIAN
METHOD:PUBLISH
X-WR-CALNAME:Unity of the Triangle
X-ORIGINAL-URL:https://unitytriangle.org
X-WR-CALDESC:Events for Unity of the Triangle
REFRESH-INTERVAL;VALUE=DURATION:PT1H
X-Robots-Tag:noindex
X-PUBLISHED-TTL:PT1H
BEGIN:VTIMEZONE
TZID:America/New_York
BEGIN:DAYLIGHT
TZOFFSETFROM:-0500
TZOFFSETTO:-0400
TZNAME:EDT
DTSTART:20250309T070000
END:DAYLIGHT
BEGIN:STANDARD
TZOFFSETFROM:-0400
TZOFFSETTO:-0500
TZNAME:EST
DTSTART:20251102T060000
END:STANDARD
BEGIN:DAYLIGHT
TZOFFSETFROM:-0500
TZOFFSETTO:-0400
TZNAME:EDT
DTSTART:20260308T070000
END:DAYLIGHT
BEGIN:STANDARD
TZOFFSETFROM:-0400
TZOFFSETTO:-0500
TZNAME:EST
DTSTART:20261101T060000
END:STANDARD
BEGIN:DAYLIGHT
TZOFFSETFROM:-0500
TZOFFSETTO:-0400
TZNAME:EDT
DTSTART:20270314T070000
END:DAYLIGHT
BEGIN:STANDARD
TZOFFSETFROM:-0400
TZOFFSETTO:-0500
TZNAME:EST
DTSTART:20271107T060000
END:STANDARD
BEGIN:DAYLIGHT
TZOFFSETFROM:-0500
TZOFFSETTO:-0400
TZNAME:EDT
DTSTART:20280312T070000
END:DAYLIGHT
BEGIN:STANDARD
TZOFFSETFROM:-0400
TZOFFSETTO:-0500
TZNAME:EST
DTSTART:20281105T060000
END:STANDARD
BEGIN:DAYLIGHT
TZOFFSETFROM:-0500
TZOFFSETTO:-0400
TZNAME:EDT
DTSTART:20290311T070000
END:DAYLIGHT
BEGIN:STANDARD
TZOFFSETFROM:-0400
TZOFFSETTO:-0500
TZNAME:EST
DTSTART:20291104T060000
END:STANDARD
END:VTIMEZONE
BEGIN:VEVENT
DTSTART;TZID=America/New_York:20260426T123000
DTEND;TZID=America/New_York:20260426T133000
DTSTAMP:20260423T151013
CREATED:20260122T174623Z
LAST-MODIFIED:20260122T174624Z
UID:10011968-1777206600-1777210200@unitytriangle.org
SUMMARY:Millennials | Gen Y | Unity Community Group
DESCRIPTION:Calling all Millennials | Gen Y looking for more connection!\nCome join this group for lively and informative conversations\, and discussions on how to engage socially. Childcare is provided for meetings. \nContact leaders Elizabeth Chatfield (isabelgreen1@gmail.com) and Artemis Jamison (jamisonartemis@gmail.com) to join. \nMeets every 4th Sunday at 12:30pm in the Meditation Room.
URL:https://unitytriangle.org/event/millennials-gen-y-unity-community-group-2-2/2026-04-26/
CATEGORIES:Small Groups
ATTACH;FMTTYPE=image/jpeg:https://unitytriangle.org/wp-content/uploads/2025/07/Millennials.jpg
END:VEVENT
BEGIN:VEVENT
DTSTART;TZID=America/New_York:20260524T123000
DTEND;TZID=America/New_York:20260524T133000
DTSTAMP:20260423T151013
CREATED:20260122T174623Z
LAST-MODIFIED:20260122T174624Z
UID:10011969-1779625800-1779629400@unitytriangle.org
SUMMARY:Millennials | Gen Y | Unity Community Group
DESCRIPTION:Calling all Millennials | Gen Y looking for more connection!\nCome join this group for lively and informative conversations\, and discussions on how to engage socially. Childcare is provided for meetings. \nContact leaders Elizabeth Chatfield (isabelgreen1@gmail.com) and Artemis Jamison (jamisonartemis@gmail.com) to join. \nMeets every 4th Sunday at 12:30pm in the Meditation Room.
URL:https://unitytriangle.org/event/millennials-gen-y-unity-community-group-2-2/2026-05-24/
CATEGORIES:Small Groups
ATTACH;FMTTYPE=image/jpeg:https://unitytriangle.org/wp-content/uploads/2025/07/Millennials.jpg
END:VEVENT
BEGIN:VEVENT
DTSTART;TZID=America/New_York:20260628T123000
DTEND;TZID=America/New_York:20260628T133000
DTSTAMP:20260423T151013
CREATED:20260122T174623Z
LAST-MODIFIED:20260122T174624Z
UID:10011970-1782649800-1782653400@unitytriangle.org
SUMMARY:Millennials | Gen Y | Unity Community Group
DESCRIPTION:Calling all Millennials | Gen Y looking for more connection!\nCome join this group for lively and informative conversations\, and discussions on how to engage socially. Childcare is provided for meetings. \nContact leaders Elizabeth Chatfield (isabelgreen1@gmail.com) and Artemis Jamison (jamisonartemis@gmail.com) to join. \nMeets every 4th Sunday at 12:30pm in the Meditation Room.
URL:https://unitytriangle.org/event/millennials-gen-y-unity-community-group-2-2/2026-06-28/
CATEGORIES:Small Groups
ATTACH;FMTTYPE=image/jpeg:https://unitytriangle.org/wp-content/uploads/2025/07/Millennials.jpg
END:VEVENT
BEGIN:VEVENT
DTSTART;TZID=America/New_York:20260726T123000
DTEND;TZID=America/New_York:20260726T133000
DTSTAMP:20260423T151013
CREATED:20260122T174623Z
LAST-MODIFIED:20260122T174624Z
UID:10011971-1785069000-1785072600@unitytriangle.org
SUMMARY:Millennials | Gen Y | Unity Community Group
DESCRIPTION:Calling all Millennials | Gen Y looking for more connection!\nCome join this group for lively and informative conversations\, and discussions on how to engage socially. Childcare is provided for meetings. \nContact leaders Elizabeth Chatfield (isabelgreen1@gmail.com) and Artemis Jamison (jamisonartemis@gmail.com) to join. \nMeets every 4th Sunday at 12:30pm in the Meditation Room.
URL:https://unitytriangle.org/event/millennials-gen-y-unity-community-group-2-2/2026-07-26/
CATEGORIES:Small Groups
ATTACH;FMTTYPE=image/jpeg:https://unitytriangle.org/wp-content/uploads/2025/07/Millennials.jpg
END:VEVENT
BEGIN:VEVENT
DTSTART;TZID=America/New_York:20260823T123000
DTEND;TZID=America/New_York:20260823T133000
DTSTAMP:20260423T151013
CREATED:20260122T174623Z
LAST-MODIFIED:20260122T174624Z
UID:10011972-1787488200-1787491800@unitytriangle.org
SUMMARY:Millennials | Gen Y | Unity Community Group
DESCRIPTION:Calling all Millennials | Gen Y looking for more connection!\nCome join this group for lively and informative conversations\, and discussions on how to engage socially. Childcare is provided for meetings. \nContact leaders Elizabeth Chatfield (isabelgreen1@gmail.com) and Artemis Jamison (jamisonartemis@gmail.com) to join. \nMeets every 4th Sunday at 12:30pm in the Meditation Room.
URL:https://unitytriangle.org/event/millennials-gen-y-unity-community-group-2-2/2026-08-23/
CATEGORIES:Small Groups
ATTACH;FMTTYPE=image/jpeg:https://unitytriangle.org/wp-content/uploads/2025/07/Millennials.jpg
END:VEVENT
BEGIN:VEVENT
DTSTART;TZID=America/New_York:20260927T123000
DTEND;TZID=America/New_York:20260927T133000
DTSTAMP:20260423T151013
CREATED:20260122T174623Z
LAST-MODIFIED:20260122T174624Z
UID:10011973-1790512200-1790515800@unitytriangle.org
SUMMARY:Millennials | Gen Y | Unity Community Group
DESCRIPTION:Calling all Millennials | Gen Y looking for more connection!\nCome join this group for lively and informative conversations\, and discussions on how to engage socially. Childcare is provided for meetings. \nContact leaders Elizabeth Chatfield (isabelgreen1@gmail.com) and Artemis Jamison (jamisonartemis@gmail.com) to join. \nMeets every 4th Sunday at 12:30pm in the Meditation Room.
URL:https://unitytriangle.org/event/millennials-gen-y-unity-community-group-2-2/2026-09-27/
CATEGORIES:Small Groups
ATTACH;FMTTYPE=image/jpeg:https://unitytriangle.org/wp-content/uploads/2025/07/Millennials.jpg
END:VEVENT
BEGIN:VEVENT
DTSTART;TZID=America/New_York:20261025T123000
DTEND;TZID=America/New_York:20261025T133000
DTSTAMP:20260423T151013
CREATED:20260122T174623Z
LAST-MODIFIED:20260122T174624Z
UID:10011974-1792931400-1792935000@unitytriangle.org
SUMMARY:Millennials | Gen Y | Unity Community Group
DESCRIPTION:Calling all Millennials | Gen Y looking for more connection!\nCome join this group for lively and informative conversations\, and discussions on how to engage socially. Childcare is provided for meetings. \nContact leaders Elizabeth Chatfield (isabelgreen1@gmail.com) and Artemis Jamison (jamisonartemis@gmail.com) to join. \nMeets every 4th Sunday at 12:30pm in the Meditation Room.
URL:https://unitytriangle.org/event/millennials-gen-y-unity-community-group-2-2/2026-10-25/
CATEGORIES:Small Groups
ATTACH;FMTTYPE=image/jpeg:https://unitytriangle.org/wp-content/uploads/2025/07/Millennials.jpg
END:VEVENT
BEGIN:VEVENT
DTSTART;TZID=America/New_York:20261122T123000
DTEND;TZID=America/New_York:20261122T133000
DTSTAMP:20260423T151013
CREATED:20260122T174623Z
LAST-MODIFIED:20260122T174624Z
UID:10011975-1795350600-1795354200@unitytriangle.org
SUMMARY:Millennials | Gen Y | Unity Community Group
DESCRIPTION:Calling all Millennials | Gen Y looking for more connection!\nCome join this group for lively and informative conversations\, and discussions on how to engage socially. Childcare is provided for meetings. \nContact leaders Elizabeth Chatfield (isabelgreen1@gmail.com) and Artemis Jamison (jamisonartemis@gmail.com) to join. \nMeets every 4th Sunday at 12:30pm in the Meditation Room.
URL:https://unitytriangle.org/event/millennials-gen-y-unity-community-group-2-2/2026-11-22/
CATEGORIES:Small Groups
ATTACH;FMTTYPE=image/jpeg:https://unitytriangle.org/wp-content/uploads/2025/07/Millennials.jpg
END:VEVENT
BEGIN:VEVENT
DTSTART;TZID=America/New_York:20261227T123000
DTEND;TZID=America/New_York:20261227T133000
DTSTAMP:20260423T151013
CREATED:20260122T174623Z
LAST-MODIFIED:20260122T174624Z
UID:10011976-1798374600-1798378200@unitytriangle.org
SUMMARY:Millennials | Gen Y | Unity Community Group
DESCRIPTION:Calling all Millennials | Gen Y looking for more connection!\nCome join this group for lively and informative conversations\, and discussions on how to engage socially. Childcare is provided for meetings. \nContact leaders Elizabeth Chatfield (isabelgreen1@gmail.com) and Artemis Jamison (jamisonartemis@gmail.com) to join. \nMeets every 4th Sunday at 12:30pm in the Meditation Room.
URL:https://unitytriangle.org/event/millennials-gen-y-unity-community-group-2-2/2026-12-27/
CATEGORIES:Small Groups
ATTACH;FMTTYPE=image/jpeg:https://unitytriangle.org/wp-content/uploads/2025/07/Millennials.jpg
END:VEVENT
BEGIN:VEVENT
DTSTART;TZID=America/New_York:20270124T123000
DTEND;TZID=America/New_York:20270124T133000
DTSTAMP:20260423T151013
CREATED:20260122T174623Z
LAST-MODIFIED:20260122T174624Z
UID:10011977-1800793800-1800797400@unitytriangle.org
SUMMARY:Millennials | Gen Y | Unity Community Group
DESCRIPTION:Calling all Millennials | Gen Y looking for more connection!\nCome join this group for lively and informative conversations\, and discussions on how to engage socially. Childcare is provided for meetings. \nContact leaders Elizabeth Chatfield (isabelgreen1@gmail.com) and Artemis Jamison (jamisonartemis@gmail.com) to join. \nMeets every 4th Sunday at 12:30pm in the Meditation Room.
URL:https://unitytriangle.org/event/millennials-gen-y-unity-community-group-2-2/2027-01-24/
CATEGORIES:Small Groups
ATTACH;FMTTYPE=image/jpeg:https://unitytriangle.org/wp-content/uploads/2025/07/Millennials.jpg
END:VEVENT
BEGIN:VEVENT
DTSTART;TZID=America/New_York:20270228T123000
DTEND;TZID=America/New_York:20270228T133000
DTSTAMP:20260423T151013
CREATED:20260122T174623Z
LAST-MODIFIED:20260122T174624Z
UID:10011978-1803817800-1803821400@unitytriangle.org
SUMMARY:Millennials | Gen Y | Unity Community Group
DESCRIPTION:Calling all Millennials | Gen Y looking for more connection!\nCome join this group for lively and informative conversations\, and discussions on how to engage socially. Childcare is provided for meetings. \nContact leaders Elizabeth Chatfield (isabelgreen1@gmail.com) and Artemis Jamison (jamisonartemis@gmail.com) to join. \nMeets every 4th Sunday at 12:30pm in the Meditation Room.
URL:https://unitytriangle.org/event/millennials-gen-y-unity-community-group-2-2/2027-02-28/
CATEGORIES:Small Groups
ATTACH;FMTTYPE=image/jpeg:https://unitytriangle.org/wp-content/uploads/2025/07/Millennials.jpg
END:VEVENT
BEGIN:VEVENT
DTSTART;TZID=America/New_York:20270328T123000
DTEND;TZID=America/New_York:20270328T133000
DTSTAMP:20260423T151013
CREATED:20260122T174623Z
LAST-MODIFIED:20260122T174624Z
UID:10011979-1806237000-1806240600@unitytriangle.org
SUMMARY:Millennials | Gen Y | Unity Community Group
DESCRIPTION:Calling all Millennials | Gen Y looking for more connection!\nCome join this group for lively and informative conversations\, and discussions on how to engage socially. Childcare is provided for meetings. \nContact leaders Elizabeth Chatfield (isabelgreen1@gmail.com) and Artemis Jamison (jamisonartemis@gmail.com) to join. \nMeets every 4th Sunday at 12:30pm in the Meditation Room.
URL:https://unitytriangle.org/event/millennials-gen-y-unity-community-group-2-2/2027-03-28/
CATEGORIES:Small Groups
ATTACH;FMTTYPE=image/jpeg:https://unitytriangle.org/wp-content/uploads/2025/07/Millennials.jpg
END:VEVENT
BEGIN:VEVENT
DTSTART;TZID=America/New_York:20270425T123000
DTEND;TZID=America/New_York:20270425T133000
DTSTAMP:20260423T151013
CREATED:20260122T174623Z
LAST-MODIFIED:20260122T174624Z
UID:10011980-1808656200-1808659800@unitytriangle.org
SUMMARY:Millennials | Gen Y | Unity Community Group
DESCRIPTION:Calling all Millennials | Gen Y looking for more connection!\nCome join this group for lively and informative conversations\, and discussions on how to engage socially. Childcare is provided for meetings. \nContact leaders Elizabeth Chatfield (isabelgreen1@gmail.com) and Artemis Jamison (jamisonartemis@gmail.com) to join. \nMeets every 4th Sunday at 12:30pm in the Meditation Room.
URL:https://unitytriangle.org/event/millennials-gen-y-unity-community-group-2-2/2027-04-25/
CATEGORIES:Small Groups
ATTACH;FMTTYPE=image/jpeg:https://unitytriangle.org/wp-content/uploads/2025/07/Millennials.jpg
END:VEVENT
BEGIN:VEVENT
DTSTART;TZID=America/New_York:20270523T123000
DTEND;TZID=America/New_York:20270523T133000
DTSTAMP:20260423T151013
CREATED:20260122T174623Z
LAST-MODIFIED:20260122T174624Z
UID:10011981-1811075400-1811079000@unitytriangle.org
SUMMARY:Millennials | Gen Y | Unity Community Group
DESCRIPTION:Calling all Millennials | Gen Y looking for more connection!\nCome join this group for lively and informative conversations\, and discussions on how to engage socially. Childcare is provided for meetings. \nContact leaders Elizabeth Chatfield (isabelgreen1@gmail.com) and Artemis Jamison (jamisonartemis@gmail.com) to join. \nMeets every 4th Sunday at 12:30pm in the Meditation Room.
URL:https://unitytriangle.org/event/millennials-gen-y-unity-community-group-2-2/2027-05-23/
CATEGORIES:Small Groups
ATTACH;FMTTYPE=image/jpeg:https://unitytriangle.org/wp-content/uploads/2025/07/Millennials.jpg
END:VEVENT
BEGIN:VEVENT
DTSTART;TZID=America/New_York:20270627T123000
DTEND;TZID=America/New_York:20270627T133000
DTSTAMP:20260423T151013
CREATED:20260122T174623Z
LAST-MODIFIED:20260122T174624Z
UID:10011982-1814099400-1814103000@unitytriangle.org
SUMMARY:Millennials | Gen Y | Unity Community Group
DESCRIPTION:Calling all Millennials | Gen Y looking for more connection!\nCome join this group for lively and informative conversations\, and discussions on how to engage socially. Childcare is provided for meetings. \nContact leaders Elizabeth Chatfield (isabelgreen1@gmail.com) and Artemis Jamison (jamisonartemis@gmail.com) to join. \nMeets every 4th Sunday at 12:30pm in the Meditation Room.
URL:https://unitytriangle.org/event/millennials-gen-y-unity-community-group-2-2/2027-06-27/
CATEGORIES:Small Groups
ATTACH;FMTTYPE=image/jpeg:https://unitytriangle.org/wp-content/uploads/2025/07/Millennials.jpg
END:VEVENT
BEGIN:VEVENT
DTSTART;TZID=America/New_York:20270725T123000
DTEND;TZID=America/New_York:20270725T133000
DTSTAMP:20260423T151013
CREATED:20260122T174623Z
LAST-MODIFIED:20260122T174624Z
UID:10011983-1816518600-1816522200@unitytriangle.org
SUMMARY:Millennials | Gen Y | Unity Community Group
DESCRIPTION:Calling all Millennials | Gen Y looking for more connection!\nCome join this group for lively and informative conversations\, and discussions on how to engage socially. Childcare is provided for meetings. \nContact leaders Elizabeth Chatfield (isabelgreen1@gmail.com) and Artemis Jamison (jamisonartemis@gmail.com) to join. \nMeets every 4th Sunday at 12:30pm in the Meditation Room.
URL:https://unitytriangle.org/event/millennials-gen-y-unity-community-group-2-2/2027-07-25/
CATEGORIES:Small Groups
ATTACH;FMTTYPE=image/jpeg:https://unitytriangle.org/wp-content/uploads/2025/07/Millennials.jpg
END:VEVENT
BEGIN:VEVENT
DTSTART;TZID=America/New_York:20270822T123000
DTEND;TZID=America/New_York:20270822T133000
DTSTAMP:20260423T151013
CREATED:20260122T174623Z
LAST-MODIFIED:20260122T174624Z
UID:10011984-1818937800-1818941400@unitytriangle.org
SUMMARY:Millennials | Gen Y | Unity Community Group
DESCRIPTION:Calling all Millennials | Gen Y looking for more connection!\nCome join this group for lively and informative conversations\, and discussions on how to engage socially. Childcare is provided for meetings. \nContact leaders Elizabeth Chatfield (isabelgreen1@gmail.com) and Artemis Jamison (jamisonartemis@gmail.com) to join. \nMeets every 4th Sunday at 12:30pm in the Meditation Room.
URL:https://unitytriangle.org/event/millennials-gen-y-unity-community-group-2-2/2027-08-22/
CATEGORIES:Small Groups
ATTACH;FMTTYPE=image/jpeg:https://unitytriangle.org/wp-content/uploads/2025/07/Millennials.jpg
END:VEVENT
BEGIN:VEVENT
DTSTART;TZID=America/New_York:20270926T123000
DTEND;TZID=America/New_York:20270926T133000
DTSTAMP:20260423T151013
CREATED:20260122T174623Z
LAST-MODIFIED:20260122T174624Z
UID:10011985-1821961800-1821965400@unitytriangle.org
SUMMARY:Millennials | Gen Y | Unity Community Group
DESCRIPTION:Calling all Millennials | Gen Y looking for more connection!\nCome join this group for lively and informative conversations\, and discussions on how to engage socially. Childcare is provided for meetings. \nContact leaders Elizabeth Chatfield (isabelgreen1@gmail.com) and Artemis Jamison (jamisonartemis@gmail.com) to join. \nMeets every 4th Sunday at 12:30pm in the Meditation Room.
URL:https://unitytriangle.org/event/millennials-gen-y-unity-community-group-2-2/2027-09-26/
CATEGORIES:Small Groups
ATTACH;FMTTYPE=image/jpeg:https://unitytriangle.org/wp-content/uploads/2025/07/Millennials.jpg
END:VEVENT
BEGIN:VEVENT
DTSTART;TZID=America/New_York:20271024T123000
DTEND;TZID=America/New_York:20271024T133000
DTSTAMP:20260423T151013
CREATED:20260122T174623Z
LAST-MODIFIED:20260122T174624Z
UID:10011986-1824381000-1824384600@unitytriangle.org
SUMMARY:Millennials | Gen Y | Unity Community Group
DESCRIPTION:Calling all Millennials | Gen Y looking for more connection!\nCome join this group for lively and informative conversations\, and discussions on how to engage socially. Childcare is provided for meetings. \nContact leaders Elizabeth Chatfield (isabelgreen1@gmail.com) and Artemis Jamison (jamisonartemis@gmail.com) to join. \nMeets every 4th Sunday at 12:30pm in the Meditation Room.
URL:https://unitytriangle.org/event/millennials-gen-y-unity-community-group-2-2/2027-10-24/
CATEGORIES:Small Groups
ATTACH;FMTTYPE=image/jpeg:https://unitytriangle.org/wp-content/uploads/2025/07/Millennials.jpg
END:VEVENT
BEGIN:VEVENT
DTSTART;TZID=America/New_York:20271128T123000
DTEND;TZID=America/New_York:20271128T133000
DTSTAMP:20260423T151013
CREATED:20260122T174623Z
LAST-MODIFIED:20260122T174624Z
UID:10011987-1827405000-1827408600@unitytriangle.org
SUMMARY:Millennials | Gen Y | Unity Community Group
DESCRIPTION:Calling all Millennials | Gen Y looking for more connection!\nCome join this group for lively and informative conversations\, and discussions on how to engage socially. Childcare is provided for meetings. \nContact leaders Elizabeth Chatfield (isabelgreen1@gmail.com) and Artemis Jamison (jamisonartemis@gmail.com) to join. \nMeets every 4th Sunday at 12:30pm in the Meditation Room.
URL:https://unitytriangle.org/event/millennials-gen-y-unity-community-group-2-2/2027-11-28/
CATEGORIES:Small Groups
ATTACH;FMTTYPE=image/jpeg:https://unitytriangle.org/wp-content/uploads/2025/07/Millennials.jpg
END:VEVENT
BEGIN:VEVENT
DTSTART;TZID=America/New_York:20271226T123000
DTEND;TZID=America/New_York:20271226T133000
DTSTAMP:20260423T151013
CREATED:20260122T174623Z
LAST-MODIFIED:20260122T174624Z
UID:10011988-1829824200-1829827800@unitytriangle.org
SUMMARY:Millennials | Gen Y | Unity Community Group
DESCRIPTION:Calling all Millennials | Gen Y looking for more connection!\nCome join this group for lively and informative conversations\, and discussions on how to engage socially. Childcare is provided for meetings. \nContact leaders Elizabeth Chatfield (isabelgreen1@gmail.com) and Artemis Jamison (jamisonartemis@gmail.com) to join. \nMeets every 4th Sunday at 12:30pm in the Meditation Room.
URL:https://unitytriangle.org/event/millennials-gen-y-unity-community-group-2-2/2027-12-26/
CATEGORIES:Small Groups
ATTACH;FMTTYPE=image/jpeg:https://unitytriangle.org/wp-content/uploads/2025/07/Millennials.jpg
END:VEVENT
BEGIN:VEVENT
DTSTART;TZID=America/New_York:20280123T123000
DTEND;TZID=America/New_York:20280123T133000
DTSTAMP:20260423T151013
CREATED:20260122T174623Z
LAST-MODIFIED:20260122T174624Z
UID:10011989-1832243400-1832247000@unitytriangle.org
SUMMARY:Millennials | Gen Y | Unity Community Group
DESCRIPTION:Calling all Millennials | Gen Y looking for more connection!\nCome join this group for lively and informative conversations\, and discussions on how to engage socially. Childcare is provided for meetings. \nContact leaders Elizabeth Chatfield (isabelgreen1@gmail.com) and Artemis Jamison (jamisonartemis@gmail.com) to join. \nMeets every 4th Sunday at 12:30pm in the Meditation Room.
URL:https://unitytriangle.org/event/millennials-gen-y-unity-community-group-2-2/2028-01-23/
CATEGORIES:Small Groups
ATTACH;FMTTYPE=image/jpeg:https://unitytriangle.org/wp-content/uploads/2025/07/Millennials.jpg
END:VEVENT
BEGIN:VEVENT
DTSTART;TZID=America/New_York:20280227T123000
DTEND;TZID=America/New_York:20280227T133000
DTSTAMP:20260423T151013
CREATED:20260122T174623Z
LAST-MODIFIED:20260122T174624Z
UID:10011990-1835267400-1835271000@unitytriangle.org
SUMMARY:Millennials | Gen Y | Unity Community Group
DESCRIPTION:Calling all Millennials | Gen Y looking for more connection!\nCome join this group for lively and informative conversations\, and discussions on how to engage socially. Childcare is provided for meetings. \nContact leaders Elizabeth Chatfield (isabelgreen1@gmail.com) and Artemis Jamison (jamisonartemis@gmail.com) to join. \nMeets every 4th Sunday at 12:30pm in the Meditation Room.
URL:https://unitytriangle.org/event/millennials-gen-y-unity-community-group-2-2/2028-02-27/
CATEGORIES:Small Groups
ATTACH;FMTTYPE=image/jpeg:https://unitytriangle.org/wp-content/uploads/2025/07/Millennials.jpg
END:VEVENT
BEGIN:VEVENT
DTSTART;TZID=America/New_York:20280326T123000
DTEND;TZID=America/New_York:20280326T133000
DTSTAMP:20260423T151013
CREATED:20260122T174623Z
LAST-MODIFIED:20260122T174624Z
UID:10011991-1837686600-1837690200@unitytriangle.org
SUMMARY:Millennials | Gen Y | Unity Community Group
DESCRIPTION:Calling all Millennials | Gen Y looking for more connection!\nCome join this group for lively and informative conversations\, and discussions on how to engage socially. Childcare is provided for meetings. \nContact leaders Elizabeth Chatfield (isabelgreen1@gmail.com) and Artemis Jamison (jamisonartemis@gmail.com) to join. \nMeets every 4th Sunday at 12:30pm in the Meditation Room.
URL:https://unitytriangle.org/event/millennials-gen-y-unity-community-group-2-2/2028-03-26/
CATEGORIES:Small Groups
ATTACH;FMTTYPE=image/jpeg:https://unitytriangle.org/wp-content/uploads/2025/07/Millennials.jpg
END:VEVENT
BEGIN:VEVENT
DTSTART;TZID=America/New_York:20280423T123000
DTEND;TZID=America/New_York:20280423T133000
DTSTAMP:20260423T151013
CREATED:20260122T174623Z
LAST-MODIFIED:20260122T174624Z
UID:10011992-1840105800-1840109400@unitytriangle.org
SUMMARY:Millennials | Gen Y | Unity Community Group
DESCRIPTION:Calling all Millennials | Gen Y looking for more connection!\nCome join this group for lively and informative conversations\, and discussions on how to engage socially. Childcare is provided for meetings. \nContact leaders Elizabeth Chatfield (isabelgreen1@gmail.com) and Artemis Jamison (jamisonartemis@gmail.com) to join. \nMeets every 4th Sunday at 12:30pm in the Meditation Room.
URL:https://unitytriangle.org/event/millennials-gen-y-unity-community-group-2-2/2028-04-23/
CATEGORIES:Small Groups
ATTACH;FMTTYPE=image/jpeg:https://unitytriangle.org/wp-content/uploads/2025/07/Millennials.jpg
END:VEVENT
BEGIN:VEVENT
DTSTART;TZID=America/New_York:20280528T123000
DTEND;TZID=America/New_York:20280528T133000
DTSTAMP:20260423T151013
CREATED:20260122T174623Z
LAST-MODIFIED:20260122T174624Z
UID:10011993-1843129800-1843133400@unitytriangle.org
SUMMARY:Millennials | Gen Y | Unity Community Group
DESCRIPTION:Calling all Millennials | Gen Y looking for more connection!\nCome join this group for lively and informative conversations\, and discussions on how to engage socially. Childcare is provided for meetings. \nContact leaders Elizabeth Chatfield (isabelgreen1@gmail.com) and Artemis Jamison (jamisonartemis@gmail.com) to join. \nMeets every 4th Sunday at 12:30pm in the Meditation Room.
URL:https://unitytriangle.org/event/millennials-gen-y-unity-community-group-2-2/2028-05-28/
CATEGORIES:Small Groups
ATTACH;FMTTYPE=image/jpeg:https://unitytriangle.org/wp-content/uploads/2025/07/Millennials.jpg
END:VEVENT
BEGIN:VEVENT
DTSTART;TZID=America/New_York:20280625T123000
DTEND;TZID=America/New_York:20280625T133000
DTSTAMP:20260423T151013
CREATED:20260122T174623Z
LAST-MODIFIED:20260122T174624Z
UID:10011994-1845549000-1845552600@unitytriangle.org
SUMMARY:Millennials | Gen Y | Unity Community Group
DESCRIPTION:Calling all Millennials | Gen Y looking for more connection!\nCome join this group for lively and informative conversations\, and discussions on how to engage socially. Childcare is provided for meetings. \nContact leaders Elizabeth Chatfield (isabelgreen1@gmail.com) and Artemis Jamison (jamisonartemis@gmail.com) to join. \nMeets every 4th Sunday at 12:30pm in the Meditation Room.
URL:https://unitytriangle.org/event/millennials-gen-y-unity-community-group-2-2/2028-06-25/
CATEGORIES:Small Groups
ATTACH;FMTTYPE=image/jpeg:https://unitytriangle.org/wp-content/uploads/2025/07/Millennials.jpg
END:VEVENT
BEGIN:VEVENT
DTSTART;TZID=America/New_York:20280723T123000
DTEND;TZID=America/New_York:20280723T133000
DTSTAMP:20260423T151013
CREATED:20260122T174623Z
LAST-MODIFIED:20260122T174624Z
UID:10011995-1847968200-1847971800@unitytriangle.org
SUMMARY:Millennials | Gen Y | Unity Community Group
DESCRIPTION:Calling all Millennials | Gen Y looking for more connection!\nCome join this group for lively and informative conversations\, and discussions on how to engage socially. Childcare is provided for meetings. \nContact leaders Elizabeth Chatfield (isabelgreen1@gmail.com) and Artemis Jamison (jamisonartemis@gmail.com) to join. \nMeets every 4th Sunday at 12:30pm in the Meditation Room.
URL:https://unitytriangle.org/event/millennials-gen-y-unity-community-group-2-2/2028-07-23/
CATEGORIES:Small Groups
ATTACH;FMTTYPE=image/jpeg:https://unitytriangle.org/wp-content/uploads/2025/07/Millennials.jpg
END:VEVENT
BEGIN:VEVENT
DTSTART;TZID=America/New_York:20280827T123000
DTEND;TZID=America/New_York:20280827T133000
DTSTAMP:20260423T151013
CREATED:20260122T174623Z
LAST-MODIFIED:20260122T174624Z
UID:10011996-1850992200-1850995800@unitytriangle.org
SUMMARY:Millennials | Gen Y | Unity Community Group
DESCRIPTION:Calling all Millennials | Gen Y looking for more connection!\nCome join this group for lively and informative conversations\, and discussions on how to engage socially. Childcare is provided for meetings. \nContact leaders Elizabeth Chatfield (isabelgreen1@gmail.com) and Artemis Jamison (jamisonartemis@gmail.com) to join. \nMeets every 4th Sunday at 12:30pm in the Meditation Room.
URL:https://unitytriangle.org/event/millennials-gen-y-unity-community-group-2-2/2028-08-27/
CATEGORIES:Small Groups
ATTACH;FMTTYPE=image/jpeg:https://unitytriangle.org/wp-content/uploads/2025/07/Millennials.jpg
END:VEVENT
BEGIN:VEVENT
DTSTART;TZID=America/New_York:20280924T123000
DTEND;TZID=America/New_York:20280924T133000
DTSTAMP:20260423T151013
CREATED:20260122T174623Z
LAST-MODIFIED:20260122T174624Z
UID:10011997-1853411400-1853415000@unitytriangle.org
SUMMARY:Millennials | Gen Y | Unity Community Group
DESCRIPTION:Calling all Millennials | Gen Y looking for more connection!\nCome join this group for lively and informative conversations\, and discussions on how to engage socially. Childcare is provided for meetings. \nContact leaders Elizabeth Chatfield (isabelgreen1@gmail.com) and Artemis Jamison (jamisonartemis@gmail.com) to join. \nMeets every 4th Sunday at 12:30pm in the Meditation Room.
URL:https://unitytriangle.org/event/millennials-gen-y-unity-community-group-2-2/2028-09-24/
CATEGORIES:Small Groups
ATTACH;FMTTYPE=image/jpeg:https://unitytriangle.org/wp-content/uploads/2025/07/Millennials.jpg
END:VEVENT
END:VCALENDAR