BEGIN:VCALENDAR
VERSION:2.0
PRODID:-//Unity of the Triangle - ECPv6.15.18//NONSGML v1.0//EN
CALSCALE:GREGORIAN
METHOD:PUBLISH
X-WR-CALNAME:Unity of the Triangle
X-ORIGINAL-URL:https://unitytriangle.org
X-WR-CALDESC:Events for Unity of the Triangle
REFRESH-INTERVAL;VALUE=DURATION:PT1H
X-Robots-Tag:noindex
X-PUBLISHED-TTL:PT1H
BEGIN:VTIMEZONE
TZID:America/New_York
BEGIN:DAYLIGHT
TZOFFSETFROM:-0500
TZOFFSETTO:-0400
TZNAME:EDT
DTSTART:20240310T070000
END:DAYLIGHT
BEGIN:STANDARD
TZOFFSETFROM:-0400
TZOFFSETTO:-0500
TZNAME:EST
DTSTART:20241103T060000
END:STANDARD
BEGIN:DAYLIGHT
TZOFFSETFROM:-0500
TZOFFSETTO:-0400
TZNAME:EDT
DTSTART:20250309T070000
END:DAYLIGHT
BEGIN:STANDARD
TZOFFSETFROM:-0400
TZOFFSETTO:-0500
TZNAME:EST
DTSTART:20251102T060000
END:STANDARD
BEGIN:DAYLIGHT
TZOFFSETFROM:-0500
TZOFFSETTO:-0400
TZNAME:EDT
DTSTART:20260308T070000
END:DAYLIGHT
BEGIN:STANDARD
TZOFFSETFROM:-0400
TZOFFSETTO:-0500
TZNAME:EST
DTSTART:20261101T060000
END:STANDARD
END:VTIMEZONE
BEGIN:VEVENT
DTSTART;VALUE=DATE:20251026
DTEND;VALUE=DATE:20251027
DTSTAMP:20260424T012841
CREATED:20251018T160929Z
LAST-MODIFIED:20251018T160929Z
UID:10012099-1761436800-1761523199@unitytriangle.org
SUMMARY:Fall Art Exhibit
DESCRIPTION:Magic of the Seasons\nFall Art Exhibit\nStarting October 26\, 2025\n  \n\n\n\nFeaturing two dimensional works of art in mixed mediums submitted by Unity of the Triangle congregants. We invite you to walk around the Fellowship Hall to see the wonderfully artistic expressions created by folks in our spiritual community. Study one that really calls to you\, seek out its creator\, ask them about their work of art. Maybe you will make a new friend! \n\n\n\n\nAll are welcome.\n\nArtist submissions:\nSunday\, October 19. 10:00am. – 1:00pm\nWednesday\, October 22\, 1:30pm – 4:00pm\n\nQuestions about art submissions or the exhibit: reach out to Karen Thorsen at kthorsen1434@gmail.com
URL:https://unitytriangle.org/event/fall-art-exhibit/
LOCATION:Fellowship Hall
CATEGORIES:Art
ATTACH;FMTTYPE=image/jpeg:https://unitytriangle.org/wp-content/uploads/2025/10/Fall25-Art-Exhibit_calendar.jpg
END:VEVENT
END:VCALENDAR