BEGIN:VCALENDAR
VERSION:2.0
PRODID:-//Unity of the Triangle - ECPv6.15.18//NONSGML v1.0//EN
CALSCALE:GREGORIAN
METHOD:PUBLISH
X-ORIGINAL-URL:https://unitytriangle.org
X-WR-CALDESC:Events for Unity of the Triangle
REFRESH-INTERVAL;VALUE=DURATION:PT1H
X-Robots-Tag:noindex
X-PUBLISHED-TTL:PT1H
BEGIN:VTIMEZONE
TZID:America/New_York
BEGIN:DAYLIGHT
TZOFFSETFROM:-0500
TZOFFSETTO:-0400
TZNAME:EDT
DTSTART:20250309T070000
END:DAYLIGHT
BEGIN:STANDARD
TZOFFSETFROM:-0400
TZOFFSETTO:-0500
TZNAME:EST
DTSTART:20251102T060000
END:STANDARD
BEGIN:DAYLIGHT
TZOFFSETFROM:-0500
TZOFFSETTO:-0400
TZNAME:EDT
DTSTART:20260308T070000
END:DAYLIGHT
BEGIN:STANDARD
TZOFFSETFROM:-0400
TZOFFSETTO:-0500
TZNAME:EST
DTSTART:20261101T060000
END:STANDARD
BEGIN:DAYLIGHT
TZOFFSETFROM:-0500
TZOFFSETTO:-0400
TZNAME:EDT
DTSTART:20270314T070000
END:DAYLIGHT
BEGIN:STANDARD
TZOFFSETFROM:-0400
TZOFFSETTO:-0500
TZNAME:EST
DTSTART:20271107T060000
END:STANDARD
END:VTIMEZONE
BEGIN:VEVENT
DTSTART;TZID=America/New_York:20260112T190000
DTEND;TZID=America/New_York:20260112T203000
DTSTAMP:20260425T102722
CREATED:20250508T210546Z
LAST-MODIFIED:20251208T041437Z
UID:10011331-1768244400-1768249800@unitytriangle.org
SUMMARY:Worthy LGBTQ+ | Community Spiritual Group
DESCRIPTION:A Unity group for the LGBTQ+ Community\, Allies and Advocates\nWe share common interests in Faith\, Identity\, Support\, Service\, and Social Engagement. An inclusive\, safe space for all people to see themselves as dynamic expressions of God! All are welcome\, whether you attend Unity of the Triangle or not! \nLeader Quincy Garbutt and Steering Committee. \nMeets the 2nd Monday of the month at 7:00pm in the Multipurpose room.
URL:https://unitytriangle.org/event/worthy-lgbtq-community-spiritual-group/2026-01-12/
LOCATION:Multipurpose Room
CATEGORIES:Small Groups,Social
ATTACH;FMTTYPE=image/jpeg:https://unitytriangle.org/wp-content/uploads/2025/05/Worthy-Calendar_new-logo.jpg
END:VEVENT
END:VCALENDAR