BEGIN:VCALENDAR
VERSION:2.0
PRODID:-//Unity of the Triangle - ECPv6.15.18//NONSGML v1.0//EN
CALSCALE:GREGORIAN
METHOD:PUBLISH
X-WR-CALNAME:Unity of the Triangle
X-ORIGINAL-URL:https://unitytriangle.org
X-WR-CALDESC:Events for Unity of the Triangle
REFRESH-INTERVAL;VALUE=DURATION:PT1H
X-Robots-Tag:noindex
X-PUBLISHED-TTL:PT1H
BEGIN:VTIMEZONE
TZID:America/New_York
BEGIN:DAYLIGHT
TZOFFSETFROM:-0500
TZOFFSETTO:-0400
TZNAME:EDT
DTSTART:20240310T070000
END:DAYLIGHT
BEGIN:STANDARD
TZOFFSETFROM:-0400
TZOFFSETTO:-0500
TZNAME:EST
DTSTART:20241103T060000
END:STANDARD
BEGIN:DAYLIGHT
TZOFFSETFROM:-0500
TZOFFSETTO:-0400
TZNAME:EDT
DTSTART:20250309T070000
END:DAYLIGHT
BEGIN:STANDARD
TZOFFSETFROM:-0400
TZOFFSETTO:-0500
TZNAME:EST
DTSTART:20251102T060000
END:STANDARD
BEGIN:DAYLIGHT
TZOFFSETFROM:-0500
TZOFFSETTO:-0400
TZNAME:EDT
DTSTART:20260308T070000
END:DAYLIGHT
BEGIN:STANDARD
TZOFFSETFROM:-0400
TZOFFSETTO:-0500
TZNAME:EST
DTSTART:20261101T060000
END:STANDARD
END:VTIMEZONE
BEGIN:VEVENT
DTSTART;TZID=America/New_York:20251116T100000
DTEND;TZID=America/New_York:20251116T133000
DTSTAMP:20260420T051038
CREATED:20251104T024719Z
LAST-MODIFIED:20260409T225332Z
UID:10012168-1763287200-1763299800@unitytriangle.org
SUMMARY:2025 Holiday Market | Benefitting The Higher Shelf Bookstore
DESCRIPTION:The Higher Shelf Bookstore & Gifts Presents\n2025 HOLIDAY MARKET\nONE DAY ONLY! \nSunday\, November 16\, 2025\n10:00 am – 1:30pm\n \nOur 2025 Holiday Market offers art\, well-priced jewelry\, pottery\, and other unique gifts\, many handcrafted by our fellow congregants. You’ll be awed by the artistic talents in our congregation! \nWhat types of things are available at the 2025 Holiday Market?\n\n		\n		\n			\n				\n			\n			\n				\n			\n			\n				\n			\n			\n				\n			\n			\n				\n			\n			\n				\n			\n			\n				\n			\n			\n		\n\nThese artisans consign their works in the bookstore\, giving a portion of proceeds back to Unity. Come on out and shop for some truly unique gifts for your loved ones this holiday season! \nThe annual Holiday Market will feature new\, additional items to what’s pictured here. \n 
URL:https://unitytriangle.org/event/2025-holiday-market/
LOCATION:Unity of the Triangle\, 5570 Munford Road\, Raleigh\, NC\, 27612\, United States
CATEGORIES:Art,Social,Special Events
ATTACH;FMTTYPE=image/jpeg:https://unitytriangle.org/wp-content/uploads/2025/11/holiday-market-2025_calendarV2.jpg
END:VEVENT
END:VCALENDAR