BEGIN:VCALENDAR
VERSION:2.0
PRODID:-//Unity of the Triangle - ECPv6.15.18//NONSGML v1.0//EN
CALSCALE:GREGORIAN
METHOD:PUBLISH
X-WR-CALNAME:Unity of the Triangle
X-ORIGINAL-URL:https://unitytriangle.org
X-WR-CALDESC:Events for Unity of the Triangle
REFRESH-INTERVAL;VALUE=DURATION:PT1H
X-Robots-Tag:noindex
X-PUBLISHED-TTL:PT1H
BEGIN:VTIMEZONE
TZID:America/New_York
BEGIN:DAYLIGHT
TZOFFSETFROM:-0500
TZOFFSETTO:-0400
TZNAME:EDT
DTSTART:20240310T070000
END:DAYLIGHT
BEGIN:STANDARD
TZOFFSETFROM:-0400
TZOFFSETTO:-0500
TZNAME:EST
DTSTART:20241103T060000
END:STANDARD
BEGIN:DAYLIGHT
TZOFFSETFROM:-0500
TZOFFSETTO:-0400
TZNAME:EDT
DTSTART:20250309T070000
END:DAYLIGHT
BEGIN:STANDARD
TZOFFSETFROM:-0400
TZOFFSETTO:-0500
TZNAME:EST
DTSTART:20251102T060000
END:STANDARD
BEGIN:DAYLIGHT
TZOFFSETFROM:-0500
TZOFFSETTO:-0400
TZNAME:EDT
DTSTART:20260308T070000
END:DAYLIGHT
BEGIN:STANDARD
TZOFFSETFROM:-0400
TZOFFSETTO:-0500
TZNAME:EST
DTSTART:20261101T060000
END:STANDARD
END:VTIMEZONE
BEGIN:VEVENT
DTSTART;TZID=America/New_York:20251206T100000
DTEND;TZID=America/New_York:20251206T113000
DTSTAMP:20260425T002453
CREATED:20251118T155109Z
LAST-MODIFIED:20251118T155442Z
UID:10011831-1765015200-1765020600@unitytriangle.org
SUMMARY:Sisterhood Saturday | Celebration Potluck Brunch
DESCRIPTION:What a year it’s been for Sisterhood Saturday! We started in the summer with this experimental women’s ministry\, and it’s picked up energy and a following since that very first day. For our December meeting\, we’re going to exchange our usual activities and focus on celebrating what we’re building together. As always\, we invite you to bring a friend! \nCelebrating the Birth & Growth of Sisterhood Saturday!\nSaturday\, December 6\n10:00 – 11:30am \nFellowship Hall \nPlease bring a brunch dish to share & a friend!  \nWe anticipate 50 -75 people. \nWhat is Sisterhood Saturday?\nSisterhood Saturday is an interactive women’s ministry led by Unity’s Interfaith minister Rev. Tami Johns. With a spiritual message\, music\, prayer\, reflection\, and meaningful dialogue\, we invite women of all ages to a sacred space of connection\, spiritual growth and renewal. \nOn the first Saturday of each month\, we invite women of all ages to explore your spirituality\, express your authentic self\, and feel the power of being truly seen. This circle of women holds space for one another. We recommend bringing a journal to capture insights\, inspiration\, and moments of self-discovery. \nCarrying on The Tradition\nFor generations\, women have gathered with their grandmothers\, aunts\, sisters\, and friends to navigate life’s joys and seasons together. Let’s carry on that tradition! Come as you are. Bring the women in your life—or come to find your new circle of sisterhood. \nIf you’d like to offer feedback or submit a testimonial of your Sisterhood Saturday experience to help spread the word about this ministry\, please email Tami.johns@unitytriangle.org.
URL:https://unitytriangle.org/event/sisterhood-saturday-with-rev-tami-johns-12-06-2025/
LOCATION:Fellowship Hall
CATEGORIES:Services,Small Groups
ATTACH;FMTTYPE=image/jpeg:https://unitytriangle.org/wp-content/uploads/2025/11/Sisterhood-Sat-Dec-6.jpg
END:VEVENT
END:VCALENDAR