BEGIN:VCALENDAR
VERSION:2.0
PRODID:-//Unity of the Triangle - ECPv6.15.18//NONSGML v1.0//EN
CALSCALE:GREGORIAN
METHOD:PUBLISH
X-WR-CALNAME:Unity of the Triangle
X-ORIGINAL-URL:https://unitytriangle.org
X-WR-CALDESC:Events for Unity of the Triangle
REFRESH-INTERVAL;VALUE=DURATION:PT1H
X-Robots-Tag:noindex
X-PUBLISHED-TTL:PT1H
BEGIN:VTIMEZONE
TZID:America/New_York
BEGIN:DAYLIGHT
TZOFFSETFROM:-0500
TZOFFSETTO:-0400
TZNAME:EDT
DTSTART:20250309T070000
END:DAYLIGHT
BEGIN:STANDARD
TZOFFSETFROM:-0400
TZOFFSETTO:-0500
TZNAME:EST
DTSTART:20251102T060000
END:STANDARD
BEGIN:DAYLIGHT
TZOFFSETFROM:-0500
TZOFFSETTO:-0400
TZNAME:EDT
DTSTART:20260308T070000
END:DAYLIGHT
BEGIN:STANDARD
TZOFFSETFROM:-0400
TZOFFSETTO:-0500
TZNAME:EST
DTSTART:20261101T060000
END:STANDARD
BEGIN:DAYLIGHT
TZOFFSETFROM:-0500
TZOFFSETTO:-0400
TZNAME:EDT
DTSTART:20270314T070000
END:DAYLIGHT
BEGIN:STANDARD
TZOFFSETFROM:-0400
TZOFFSETTO:-0500
TZNAME:EST
DTSTART:20271107T060000
END:STANDARD
END:VTIMEZONE
BEGIN:VEVENT
DTSTART;TZID=America/New_York:20260307T100000
DTEND;TZID=America/New_York:20260307T113000
DTSTAMP:20260424T185049
CREATED:20260222T230301Z
LAST-MODIFIED:20260225T030104Z
UID:10011834-1772877600-1772883000@unitytriangle.org
SUMMARY:Sisterhood Saturday | "Self-Care" With Rev. Tami Johns & Guest Speaker
DESCRIPTION:Sisterhood Saturday\nWith Rev. Tami Johns & Guest Speaker Debra Loban\n🗓️ March 7\, 2026 \n⌛️ 10:00am – 11:30am \n📍5570 Munford Road\, Raleigh\, 27612 \n  \nThe monthly women’s ministry at Unity of the Triangle continues to inspire\, uplift\, and educate! This month features guest speaker\, Debra Loban\, sharing about her book\, Six Laws of Self-Care. If you are tired of tips and tricks on the topic of self-care and want to create a practice that manages all your dimensions\, addresses all areas of your life\, and honors your inner voice\, then join us! Bring a journal to capture your insights and reflect on deep\, meaningful questions. We invite you to bring a friend!  \nWho is Debra Loban?\n \n  \nDebra Loban is a licensed psychotherapist and executive coach who brings over two decades of experience to the mental health and wellness field. At Duke University\, she empowers individuals with effective self-care strategies. Her expertise also extends to enhancing emotional intelligence and managerial impact for leaders\, and developing impactful wellness programs for companies in the Raleigh-Durham area. \nDebra’s book is available on Amazon and she will also have copies available at the event. \n  \n\nWhat is Sisterhood Saturday?\nSisterhood Saturday is an interactive women’s ministry led by Unity’s Interfaith minister Rev. Tami Johns. With a spiritual message\, music\, prayer\, reflection\, and meaningful dialogue\, we invite women of all ages to a sacred space of connection\, spiritual growth and renewal. \nOn the first Saturday of each month\, we invite women of all ages to explore your spirituality\, express your authentic self\, and feel the power of being truly seen. This circle of women holds space for one another. We recommend bringing a journal to capture insights\, inspiration\, and moments of self-discovery. \nCarrying on The Tradition\nFor generations\, women have gathered with their grandmothers\, aunts\, sisters\, and friends to navigate life’s joys and seasons together. Let’s carry on that tradition! Come as you are. Bring the women in your life—or come to find your new circle of sisterhood. \nHelp Spread The Word About Sisterhood Saturday by Leaving A Google Review!\nThis special women’s ministry is reaching all kinds of women in our community. If you’d love to help spread the word\, we would be most grateful for a Google Review.  \nIf you’d like to offer personal feedback\, or have ideas and suggestions about Sisterhood Saturday\, please email Tami.johns@unitytriangle.org.
URL:https://unitytriangle.org/event/sisterhood-saturday-with-rev-tami-johns-3-7-26/
LOCATION:Fellowship Hall
CATEGORIES:Services,Small Groups
ATTACH;FMTTYPE=image/jpeg:https://unitytriangle.org/wp-content/uploads/2025/07/Sisterhood-Sat-Monthly.jpg
END:VEVENT
END:VCALENDAR