BEGIN:VCALENDAR
VERSION:2.0
PRODID:-//Unity of the Triangle - ECPv6.15.18//NONSGML v1.0//EN
CALSCALE:GREGORIAN
METHOD:PUBLISH
X-ORIGINAL-URL:https://unitytriangle.org
X-WR-CALDESC:Events for Unity of the Triangle
REFRESH-INTERVAL;VALUE=DURATION:PT1H
X-Robots-Tag:noindex
X-PUBLISHED-TTL:PT1H
BEGIN:VTIMEZONE
TZID:America/New_York
BEGIN:DAYLIGHT
TZOFFSETFROM:-0500
TZOFFSETTO:-0400
TZNAME:EDT
DTSTART:20240310T070000
END:DAYLIGHT
BEGIN:STANDARD
TZOFFSETFROM:-0400
TZOFFSETTO:-0500
TZNAME:EST
DTSTART:20241103T060000
END:STANDARD
BEGIN:DAYLIGHT
TZOFFSETFROM:-0500
TZOFFSETTO:-0400
TZNAME:EDT
DTSTART:20250309T070000
END:DAYLIGHT
BEGIN:STANDARD
TZOFFSETFROM:-0400
TZOFFSETTO:-0500
TZNAME:EST
DTSTART:20251102T060000
END:STANDARD
BEGIN:DAYLIGHT
TZOFFSETFROM:-0500
TZOFFSETTO:-0400
TZNAME:EDT
DTSTART:20260308T070000
END:DAYLIGHT
BEGIN:STANDARD
TZOFFSETFROM:-0400
TZOFFSETTO:-0500
TZNAME:EST
DTSTART:20261101T060000
END:STANDARD
END:VTIMEZONE
BEGIN:VEVENT
DTSTART;TZID=America/New_York:20251127T140000
DTEND;TZID=America/New_York:20251127T160000
DTSTAMP:20260424T081204
CREATED:20251111T175709Z
LAST-MODIFIED:20251112T150249Z
UID:10012187-1764252000-1764259200@unitytriangle.org
SUMMARY:Thanksgiving Potluck | All Are Welcome!
DESCRIPTION:For decades\, Unity has hosted a Thanksgiving Potluck\, creating a special holiday tradition for our church family and guests. This year\, we celebrate unity in our community and gratitude for each other. We know were we are gathered\, there is a powerful vibration created that is generating love and belonging all around us. \nCommunity\, Celebration\, Gratitude\nUnity of the Triangle’s Annual Thanksgiving Potluck\nThursday\, November 27\, 2025 \nAppetizers @ 2pm \nDinner @ 3pm \nFellowship Hall \nYou are encouraged to extend an invitation to someone who is seeking community and belonging. All are welcome at our Thanksgiving Potluck. When everyone brings a dish to share\, our bountiful table expands to have enough for all. \nWhat should I bring to the Unity Thanksgiving Potluck?\nThe church will provide the turkeys & water\, coffee and hot tea.\nBring: an appetizer\, side dish\, salad\, or dessert… and your own alcoholic beverage\nPlease label your dish with the ingredients and note if it’s gluten and/or dairy free\, vegan\, vegetarian\, etc. \nVolunteers needed\nMany hands make light work! Your assistance is requested for: setting up tables & chairs\, putting food out on the buffet tables\, greeting at the door & clean up\nIf you would like to assist contact: Susan Siegmann: heartsong0405@gmail.com \nNew Here? What is Unity?\nLearn more about our spiritual community\, our beliefs\, and other ways to participate in community groups\, spiritual education workshops\, and other events. All are welcome here! \nWe are a spiritual community awakening to our Divine nature through love\, service and personal transformation.
URL:https://unitytriangle.org/event/thanksgiving-potluck-all-are-welcome/
LOCATION:Unity of the Triangle\, 5570 Munford Road\, Raleigh\, NC\, 27612\, United States
CATEGORIES:Holiday Events,Social,Special Events
ATTACH;FMTTYPE=image/jpeg:https://unitytriangle.org/wp-content/uploads/2025/11/2025-Thanksgiving-Potluck_calendarv2.jpg
END:VEVENT
END:VCALENDAR