BEGIN:VCALENDAR
VERSION:2.0
PRODID:-//Unity of the Triangle - ECPv6.15.18//NONSGML v1.0//EN
CALSCALE:GREGORIAN
METHOD:PUBLISH
X-ORIGINAL-URL:https://unitytriangle.org
X-WR-CALDESC:Events for Unity of the Triangle
REFRESH-INTERVAL;VALUE=DURATION:PT1H
X-Robots-Tag:noindex
X-PUBLISHED-TTL:PT1H
BEGIN:VTIMEZONE
TZID:America/New_York
BEGIN:DAYLIGHT
TZOFFSETFROM:-0500
TZOFFSETTO:-0400
TZNAME:EDT
DTSTART:20250309T070000
END:DAYLIGHT
BEGIN:STANDARD
TZOFFSETFROM:-0400
TZOFFSETTO:-0500
TZNAME:EST
DTSTART:20251102T060000
END:STANDARD
BEGIN:DAYLIGHT
TZOFFSETFROM:-0500
TZOFFSETTO:-0400
TZNAME:EDT
DTSTART:20260308T070000
END:DAYLIGHT
BEGIN:STANDARD
TZOFFSETFROM:-0400
TZOFFSETTO:-0500
TZNAME:EST
DTSTART:20261101T060000
END:STANDARD
BEGIN:DAYLIGHT
TZOFFSETFROM:-0500
TZOFFSETTO:-0400
TZNAME:EDT
DTSTART:20270314T070000
END:DAYLIGHT
BEGIN:STANDARD
TZOFFSETFROM:-0400
TZOFFSETTO:-0500
TZNAME:EST
DTSTART:20271107T060000
END:STANDARD
END:VTIMEZONE
BEGIN:VEVENT
DTSTART;TZID=America/New_York:20260210T130000
DTEND;TZID=America/New_York:20260210T150000
DTSTAMP:20260424T004941
CREATED:20260126T040710Z
LAST-MODIFIED:20260126T041210Z
UID:10012436-1770728400-1770735600@unitytriangle.org
SUMMARY:Aging With Wisdom: Fall Prevention | FREE  Senior Wellness Series in Raleigh
DESCRIPTION:Aging With Wisdom is a Senior Wellness Series in Raleigh\nPresented by Silver Circle at Unity of the Triangle\nAging is not about slowing down—it’s about living well\, staying connected\, and making thoughtful choices that support independence. Aging with Wisdom: Senior Wellness Series in Raleigh is created for adults 60+ who want to age with confidence\, clarity\, and peace of mind. \nFree workshops are held the second Tuesdays of the month: January 13\, February 10\, March 10\, April 14\, 2025 at Unity of the Triangle. \nFall Prevention — A Senior Wellness Workshop in Raleigh\nWith Ayden Jones\, Aging Specialist\nFebruary 10\, 2026 | 1:00–3:00 PM | FREE \nUnity of the Triangle \nAyden is a Fall Prevention Consultant who holds a degree in Health and Wellness Promotion from UNC-Asheville with a focus on Healthy Aging. She has 15 years experience as a  dedicated aging services professional. She brings meaningful experience and a passion for helping people\, and is excited to teach us about evidence-based fall prevention strategies. \nMore about Ayden Jones\n\nCredentialed as a Master Trainer in the A Matter of Balance Program\nHospice Volunteer\nConscious Dying Coach\nHealthy Aging Program consultant and advocate\nMember of Unity of the Triangle\n\nWho Should Come To This Free Senior Wellness Workshop in Raleigh?\nIf you’re an independent adult who wants to live fully today while approaching the future with purpose\, clarity\, and peace of mind\, this free workshop is for you! \nEvent Details\nDate: February 10Time: 1:00–3:00 PMCost: FREELocation:Unity of the Triangle5570 Munford RoadRaleigh\, NC \nAccessible parking\, elevator on premises. \nA free aging well workshop for adults 60+ in Raleigh. \nA Welcoming Senior Wellness Experience at Unity of the Triangle\nUnity of the Triangle is proud to offer senior wellness programs in Raleigh that support aging well\, independence\, and lifelong learning. The Aging with Wisdom series creates a welcoming space for older adults seeking connection\, clarity\, and confidence. \nThe series is presented by Silver Circle\, a Unity of the Triangle small group that embraces aging with vitality\, vigor\, curiosity\, and learning. They regularly meet on the second Tuesdays of the month in the multi-purpose room at the church. All are welcome. \nUPCOMING SENIOR WELLNESS WORKSHOPS AT UNITY OF THE TRIANGLE\nMarch 10: Decluttering\, Downsizing & Aging-in-Place\, with Senior Real Estate Specialist\, Deb McCutcheon\, 2:00-4:00pm \nApril 14: Ask Me Anything w/Geriatric Nurse Alison Weatherman\, 2:00-4:00pm
URL:https://unitytriangle.org/event/aging-with-wisdom-fall-prevention-free-senior-wellness-event-in-raleigh/
CATEGORIES:Information Series,Small Groups,Workshop
ATTACH;FMTTYPE=image/jpeg:https://unitytriangle.org/wp-content/uploads/2026/01/AgingWithWisdom_wellness_FEB_slide.jpg
END:VEVENT
END:VCALENDAR