BEGIN:VCALENDAR
VERSION:2.0
PRODID:-//Unity of the Triangle - ECPv6.15.18//NONSGML v1.0//EN
CALSCALE:GREGORIAN
METHOD:PUBLISH
X-ORIGINAL-URL:https://unitytriangle.org
X-WR-CALDESC:Events for Unity of the Triangle
REFRESH-INTERVAL;VALUE=DURATION:PT1H
X-Robots-Tag:noindex
X-PUBLISHED-TTL:PT1H
BEGIN:VTIMEZONE
TZID:America/New_York
BEGIN:DAYLIGHT
TZOFFSETFROM:-0500
TZOFFSETTO:-0400
TZNAME:EDT
DTSTART:20250309T070000
END:DAYLIGHT
BEGIN:STANDARD
TZOFFSETFROM:-0400
TZOFFSETTO:-0500
TZNAME:EST
DTSTART:20251102T060000
END:STANDARD
BEGIN:DAYLIGHT
TZOFFSETFROM:-0500
TZOFFSETTO:-0400
TZNAME:EDT
DTSTART:20260308T070000
END:DAYLIGHT
BEGIN:STANDARD
TZOFFSETFROM:-0400
TZOFFSETTO:-0500
TZNAME:EST
DTSTART:20261101T060000
END:STANDARD
BEGIN:DAYLIGHT
TZOFFSETFROM:-0500
TZOFFSETTO:-0400
TZNAME:EDT
DTSTART:20270314T070000
END:DAYLIGHT
BEGIN:STANDARD
TZOFFSETFROM:-0400
TZOFFSETTO:-0500
TZNAME:EST
DTSTART:20271107T060000
END:STANDARD
END:VTIMEZONE
BEGIN:VEVENT
DTSTART;TZID=America/New_York:20260426T100000
DTEND;TZID=America/New_York:20260426T104500
DTSTAMP:20260423T183238
CREATED:20260122T173721Z
LAST-MODIFIED:20260122T173722Z
UID:10011178-1777197600-1777200300@unitytriangle.org
SUMMARY:Silver Circle | Unity Community Group
DESCRIPTION:Everyone who’s aging is welcome! (That’s all of us!)\nSilver Circle is an intentional caring community of Unity-minded people who want to enjoy the aging process together and live our best lives! You’ll mostly find folks over 60 here\, but this group is open to everyone who is aging — all of us!  Silver Circle activities include classes for learning things we are interested in\, building community\, and having fun social gatherings. Silver Circle is an ongoing organization open to new adventures and activities. \nAll are welcome! Leader Kayelilly Middleton and Planning Team. \nMeets 4th Sunday of the month from 10:00-10:45 AM in the multipurpose room.
URL:https://unitytriangle.org/event/silver-circle-unity-community-group-3/2026-04-26/
CATEGORIES:Small Groups,Social
ATTACH;FMTTYPE=image/jpeg:https://unitytriangle.org/wp-content/uploads/2025/05/Silver-Circle-CALENDAR-1.jpg
END:VEVENT
BEGIN:VEVENT
DTSTART;TZID=America/New_York:20260428T140000
DTEND;TZID=America/New_York:20260428T160000
DTSTAMP:20260423T183238
CREATED:20250820T211918Z
LAST-MODIFIED:20250820T212416Z
UID:10011006-1777384800-1777392000@unitytriangle.org
SUMMARY:Game Day! | Presented by Silver Circle
DESCRIPTION:Looking for a new social activity?\nLet’s play a game! Unity’s Silver Circle group hosts this monthly gathering for laughs and fun times. We’ll play a variety of games and there will be snacks! Remember\, games are good for your brain. Friends are good for your soul! \n 
URL:https://unitytriangle.org/event/game-day-presented-by-silver-circle-2/2026-04-28/
LOCATION:Fellowship Hall
CATEGORIES:Small Groups,Social
ATTACH;FMTTYPE=image/jpeg:https://unitytriangle.org/wp-content/uploads/2025/05/Silver-Circle-CALENDAR.jpg
END:VEVENT
END:VCALENDAR