BEGIN:VCALENDAR
VERSION:2.0
PRODID:-//Unity of the Triangle - ECPv6.15.18//NONSGML v1.0//EN
CALSCALE:GREGORIAN
METHOD:PUBLISH
X-ORIGINAL-URL:https://unitytriangle.org
X-WR-CALDESC:Events for Unity of the Triangle
REFRESH-INTERVAL;VALUE=DURATION:PT1H
X-Robots-Tag:noindex
X-PUBLISHED-TTL:PT1H
BEGIN:VTIMEZONE
TZID:America/New_York
BEGIN:DAYLIGHT
TZOFFSETFROM:-0500
TZOFFSETTO:-0400
TZNAME:EDT
DTSTART:20240310T070000
END:DAYLIGHT
BEGIN:STANDARD
TZOFFSETFROM:-0400
TZOFFSETTO:-0500
TZNAME:EST
DTSTART:20241103T060000
END:STANDARD
BEGIN:DAYLIGHT
TZOFFSETFROM:-0500
TZOFFSETTO:-0400
TZNAME:EDT
DTSTART:20250309T070000
END:DAYLIGHT
BEGIN:STANDARD
TZOFFSETFROM:-0400
TZOFFSETTO:-0500
TZNAME:EST
DTSTART:20251102T060000
END:STANDARD
BEGIN:DAYLIGHT
TZOFFSETFROM:-0500
TZOFFSETTO:-0400
TZNAME:EDT
DTSTART:20260308T070000
END:DAYLIGHT
BEGIN:STANDARD
TZOFFSETFROM:-0400
TZOFFSETTO:-0500
TZNAME:EST
DTSTART:20261101T060000
END:STANDARD
END:VTIMEZONE
BEGIN:VEVENT
DTSTART;TZID=America/New_York:20251116T123000
DTEND;TZID=America/New_York:20251116T133000
DTSTAMP:20260424T035209
CREATED:20250408T224246Z
LAST-MODIFIED:20250508T192642Z
UID:10011234-1763296200-1763299800@unitytriangle.org
SUMMARY:Veterans Community Group
DESCRIPTION:Where Veterans Connect\nUnity brings Veterans together with the intention to connect with others who have served\, and discuss spiritual topics. The group meets on the third Sunday of every month at 12:30. Room location will vary. Group leader is Mike Domino. Contact tami.johns@unitytriangle.org to join.\n\nWe invite you to invite veterans from the community to join this group. You do not have to attend Unity of the Triangle to participate\, though we would love to say hello and thank you for your service at church!
URL:https://unitytriangle.org/event/veterans-community-group/2025-11-16/
CATEGORIES:Small Groups
ATTACH;FMTTYPE=image/jpeg:https://unitytriangle.org/wp-content/uploads/2025/04/Veterans-Group-1.jpg
END:VEVENT
END:VCALENDAR