BEGIN:VCALENDAR
VERSION:2.0
PRODID:-//Unity of the Triangle - ECPv6.15.18//NONSGML v1.0//EN
CALSCALE:GREGORIAN
METHOD:PUBLISH
X-ORIGINAL-URL:https://unitytriangle.org
X-WR-CALDESC:Events for Unity of the Triangle
REFRESH-INTERVAL;VALUE=DURATION:PT1H
X-Robots-Tag:noindex
X-PUBLISHED-TTL:PT1H
BEGIN:VTIMEZONE
TZID:America/New_York
BEGIN:DAYLIGHT
TZOFFSETFROM:-0500
TZOFFSETTO:-0400
TZNAME:EDT
DTSTART:20240310T070000
END:DAYLIGHT
BEGIN:STANDARD
TZOFFSETFROM:-0400
TZOFFSETTO:-0500
TZNAME:EST
DTSTART:20241103T060000
END:STANDARD
BEGIN:DAYLIGHT
TZOFFSETFROM:-0500
TZOFFSETTO:-0400
TZNAME:EDT
DTSTART:20250309T070000
END:DAYLIGHT
BEGIN:STANDARD
TZOFFSETFROM:-0400
TZOFFSETTO:-0500
TZNAME:EST
DTSTART:20251102T060000
END:STANDARD
BEGIN:DAYLIGHT
TZOFFSETFROM:-0500
TZOFFSETTO:-0400
TZNAME:EDT
DTSTART:20260308T070000
END:DAYLIGHT
BEGIN:STANDARD
TZOFFSETFROM:-0400
TZOFFSETTO:-0500
TZNAME:EST
DTSTART:20261101T060000
END:STANDARD
BEGIN:DAYLIGHT
TZOFFSETFROM:-0500
TZOFFSETTO:-0400
TZNAME:EDT
DTSTART:20270314T070000
END:DAYLIGHT
BEGIN:STANDARD
TZOFFSETFROM:-0400
TZOFFSETTO:-0500
TZNAME:EST
DTSTART:20271107T060000
END:STANDARD
END:VTIMEZONE
BEGIN:VEVENT
DTSTART;TZID=America/New_York:20260404T100000
DTEND;TZID=America/New_York:20260404T113000
DTSTAMP:20260424T172729
CREATED:20260330T000032Z
LAST-MODIFIED:20260330T002019Z
UID:10011835-1775296800-1775302200@unitytriangle.org
SUMMARY:Sisterhood Saturday | "Finding the Goddess Within" With Rev. Tami Johns & Tia Redman
DESCRIPTION:SISTERHOOD SATURDAY\nWith Rev. Tami Johns & Guest Speaker Tia Redman\n“Finding The Goddess Within”\n🗓️ April 4\, 2026 \n⌛️ 10:00am – 11:30am \n📍5570 Munford Road\, Raleigh\, 27612 \n  \nThe monthly women’s ministry at Unity of the Triangle continues to inspire\, uplift\, and educate! This month features guest speaker\, Tia Redman with an informative\, creative\, and fun as we explore how to find the Goddess within. Before the time of Jesus we still celebrated Easter\, only instead of celebrating a person\, we celebrated the return of spring. We will be diving into the celebration of the core values that the season of spring brings such as fertility\, rebirth\, and the dawn of new life. Taking inspiration from the goddess Eostre\, the mother of spring\, Tia shows us how to to find ways to truly love ourselves\, our bodies\, and the women around us. \nSisters\, bring a younger friend\, and a journal to capture your insights and reflect on deep\, meaningful questions. \nWho is Tia Redman?\n \n  \nTia is the Youth Director at Unity of the Triangle. She was raised in Unity and graduated from the Y.O.U program in 2016\, originally from the Delray Beach\, FL\, chapter. After graduating\, she moved to Orlando to pursue her dreams of working at Disney World and Universal Studios\, as well as receiving her degree in dance and the performing arts. Today she continues her journey in the circus arts while also raising her daughter. She is excited to lead the Unity of the Triangle Youth Ministry that celebrates every young person as a unique\, creative expression of the divine. \nWhat is Sisterhood Saturday?\nSisterhood Saturday is an interactive women’s ministry led by Unity’s Interfaith minister Rev. Tami Johns. With a spiritual message\, music\, prayer\, reflection\, and meaningful dialogue\, we invite women of all ages to a sacred space of connection\, spiritual growth and renewal. \nOn the first Saturday of each month\, we invite women of all ages to explore your spirituality\, express your authentic self\, and feel the power of being truly seen. This circle of women holds space for one another. We recommend bringing a journal to capture insights\, inspiration\, and moments of self-discovery. \nCarrying on The Tradition\nFor generations\, women have gathered with their grandmothers\, aunts\, sisters\, and friends to navigate life’s joys and seasons together. Let’s carry on that tradition! Come as you are. Bring the women in your life—or come to find your new circle of sisterhood. \nHelp Spread The Word About Sisterhood Saturday by Leaving A Google Review!\nThis special women’s ministry is reaching all kinds of women in our community. If you’d love to help spread the word\, we would be most grateful for a Google Review.  \nIf you’d like to offer personal feedback\, or have ideas and suggestions about Sisterhood Saturday\, please email Tami.johns@unitytriangle.org.
URL:https://unitytriangle.org/event/sisterhood-saturday-with-rev-tami-johns-04-04-2026/
LOCATION:Fellowship Hall
CATEGORIES:Services,Small Groups
ATTACH;FMTTYPE=image/jpeg:https://unitytriangle.org/wp-content/uploads/2026/03/Sisterhood-Sat-april-4.jpg
END:VEVENT
BEGIN:VEVENT
DTSTART;TZID=America/New_York:20260307T100000
DTEND;TZID=America/New_York:20260307T113000
DTSTAMP:20260424T172729
CREATED:20260222T230301Z
LAST-MODIFIED:20260225T030104Z
UID:10011834-1772877600-1772883000@unitytriangle.org
SUMMARY:Sisterhood Saturday | "Self-Care" With Rev. Tami Johns & Guest Speaker
DESCRIPTION:Sisterhood Saturday\nWith Rev. Tami Johns & Guest Speaker Debra Loban\n🗓️ March 7\, 2026 \n⌛️ 10:00am – 11:30am \n📍5570 Munford Road\, Raleigh\, 27612 \n  \nThe monthly women’s ministry at Unity of the Triangle continues to inspire\, uplift\, and educate! This month features guest speaker\, Debra Loban\, sharing about her book\, Six Laws of Self-Care. If you are tired of tips and tricks on the topic of self-care and want to create a practice that manages all your dimensions\, addresses all areas of your life\, and honors your inner voice\, then join us! Bring a journal to capture your insights and reflect on deep\, meaningful questions. We invite you to bring a friend!  \nWho is Debra Loban?\n \n  \nDebra Loban is a licensed psychotherapist and executive coach who brings over two decades of experience to the mental health and wellness field. At Duke University\, she empowers individuals with effective self-care strategies. Her expertise also extends to enhancing emotional intelligence and managerial impact for leaders\, and developing impactful wellness programs for companies in the Raleigh-Durham area. \nDebra’s book is available on Amazon and she will also have copies available at the event. \n  \n\nWhat is Sisterhood Saturday?\nSisterhood Saturday is an interactive women’s ministry led by Unity’s Interfaith minister Rev. Tami Johns. With a spiritual message\, music\, prayer\, reflection\, and meaningful dialogue\, we invite women of all ages to a sacred space of connection\, spiritual growth and renewal. \nOn the first Saturday of each month\, we invite women of all ages to explore your spirituality\, express your authentic self\, and feel the power of being truly seen. This circle of women holds space for one another. We recommend bringing a journal to capture insights\, inspiration\, and moments of self-discovery. \nCarrying on The Tradition\nFor generations\, women have gathered with their grandmothers\, aunts\, sisters\, and friends to navigate life’s joys and seasons together. Let’s carry on that tradition! Come as you are. Bring the women in your life—or come to find your new circle of sisterhood. \nHelp Spread The Word About Sisterhood Saturday by Leaving A Google Review!\nThis special women’s ministry is reaching all kinds of women in our community. If you’d love to help spread the word\, we would be most grateful for a Google Review.  \nIf you’d like to offer personal feedback\, or have ideas and suggestions about Sisterhood Saturday\, please email Tami.johns@unitytriangle.org.
URL:https://unitytriangle.org/event/sisterhood-saturday-with-rev-tami-johns-3-7-26/
LOCATION:Fellowship Hall
CATEGORIES:Services,Small Groups
ATTACH;FMTTYPE=image/jpeg:https://unitytriangle.org/wp-content/uploads/2025/07/Sisterhood-Sat-Monthly.jpg
END:VEVENT
BEGIN:VEVENT
DTSTART;TZID=America/New_York:20260207T100000
DTEND;TZID=America/New_York:20260207T113000
DTSTAMP:20260424T172729
CREATED:20260202T232633Z
LAST-MODIFIED:20260203T001055Z
UID:10011833-1770458400-1770463800@unitytriangle.org
SUMMARY:Sisterhood Saturday | "Open Hearts" With Rev. Tami Johns
DESCRIPTION:On the first Saturday of each month\, we invite women of all ages to explore your spirituality\, express your authentic self\, and feel the power of being truly seen. Sisterhood Saturday is circle of women holds space for one another. We recommend bringing a journal to capture insights\, inspiration\, and moments of self-discovery. \n\nSisterhood Saturday\n“Open Hearts”\nFebruary 7\, 2025\n10:00am -11:30am\nFellowship Hall\n📍5570 Munford Road\, Raleigh\, NC 27612 \n\nThis month’s topic is based on Marianne Williamson’s A Return to Love. Together\, we will ask and discuss are we willing to: \n\nforgive others\, release fear and open our hearts to receive the miracles that are meant for us?\nshift our perspective from fear to love to widen our world and let love lead?\nlive in the present moment to be the person we are capable of being?\n\n\nWhat is Sisterhood Saturday?\nSisterhood Saturday is an interactive women’s ministry led by Unity’s Interfaith minister Rev. Tami Johns. With a spiritual message\, music\, prayer\, reflection\, and meaningful dialogue\, we invite women of all ages to a sacred space of connection\, spiritual growth and renewal. \nCarrying on The Tradition\nFor generations\, women have gathered with their grandmothers\, aunts\, sisters\, and friends to navigate life’s joys and seasons together. Let’s carry on that tradition! Come as you are. Bring the women in your life—or come to find your new circle of sisterhood. \nIf you’d like to offer feedback or submit a testimonial of your Sisterhood Saturday experience to help spread the word about this ministry\, please email Tami.johns@unitytriangle.org. If you’ve participated in Sisterhood Saturday and had an experience you’d like to share\, please consider leaving a google review! 
URL:https://unitytriangle.org/event/sisterhood-saturday-with-rev-tami-johns-02-07-26/
LOCATION:Fellowship Hall
CATEGORIES:Services,Small Groups
ATTACH;FMTTYPE=image/jpeg:https://unitytriangle.org/wp-content/uploads/2025/07/Sisterhood-Sat-Monthly.jpg
END:VEVENT
BEGIN:VEVENT
DTSTART;TZID=America/New_York:20260103T100000
DTEND;TZID=America/New_York:20260103T113000
DTSTAMP:20260424T172729
CREATED:20251226T204709Z
LAST-MODIFIED:20251226T205218Z
UID:10011832-1767434400-1767439800@unitytriangle.org
SUMMARY:Sisterhood Saturday | With Rev. Tami Johns
DESCRIPTION:On the first Saturday of each month\, we invite women of all ages to explore your spirituality\, express your authentic self\, and feel the power of being truly seen. Sisterhood Saturday is circle of women holds space for one another. We recommend bringing a journal to capture insights\, inspiration\, and moments of self-discovery. As we begin setting our intentions for 2026\, January is the perfect time to consider what is mine to do. \nSisterhood Saturday\n“What Is Mine To Do?”\nJan 3\, 2025\n10:00am -11:30am\nFellowship Hall\n📍5570 Munford Road\, Raleigh\, NC 27612 \nYou are a unique expression of God. You carry gifts that no one else can offer. Your purpose is to let that divine life show through real\, concrete actions. When you move from head to heart and sit with the question “what is mine to do\,” you align with the highest good for yourself\, for others\, and for the world. You begin to live more authentically\, guided by Spirit instead of constant activity. This question starts quietly. In that stillness\, guidance does not feel like effort. It feels like a calm\, steady nudge. You listen deeply and let important reflection questions rise in your heart. This spiritual discernment process focuses on:\n\n\nWhat:  that which keeps us out of the why and how \n\n\nIs Mine: that which keeps us in personal responsibility and accountability \n\n\nTo do: that which keeps us in action to live out our authentic purpose \n\n\nYour task is to listen deeply and say yes to the divine idea knocking at the door of your awareness. Join other sisters as we explore this spiritual discernment process. \nWhat is Sisterhood Saturday?\nSisterhood Saturday is an interactive women’s ministry led by Unity’s Interfaith minister Rev. Tami Johns. With a spiritual message\, music\, prayer\, reflection\, and meaningful dialogue\, we invite women of all ages to a sacred space of connection\, spiritual growth and renewal. \nCarrying on The Tradition\nFor generations\, women have gathered with their grandmothers\, aunts\, sisters\, and friends to navigate life’s joys and seasons together. Let’s carry on that tradition! Come as you are. Bring the women in your life—or come to find your new circle of sisterhood. \nIf you’d like to offer feedback or submit a testimonial of your Sisterhood Saturday experience to help spread the word about this ministry\, please email Tami.johns@unitytriangle.org. If you’ve participated in Sisterhood Saturday and had an experience you’d like to share\, please consider leaving a google review! 
URL:https://unitytriangle.org/event/sisterhood-saturday-with-rev-tami-johns-01-03-2026/
LOCATION:Fellowship Hall
CATEGORIES:Services,Small Groups
ATTACH;FMTTYPE=image/jpeg:https://unitytriangle.org/wp-content/uploads/2025/07/Sisterhood-Sat-Monthly.jpg
END:VEVENT
BEGIN:VEVENT
DTSTART;TZID=America/New_York:20251206T100000
DTEND;TZID=America/New_York:20251206T113000
DTSTAMP:20260424T172729
CREATED:20251118T155109Z
LAST-MODIFIED:20251118T155442Z
UID:10011831-1765015200-1765020600@unitytriangle.org
SUMMARY:Sisterhood Saturday | Celebration Potluck Brunch
DESCRIPTION:What a year it’s been for Sisterhood Saturday! We started in the summer with this experimental women’s ministry\, and it’s picked up energy and a following since that very first day. For our December meeting\, we’re going to exchange our usual activities and focus on celebrating what we’re building together. As always\, we invite you to bring a friend! \nCelebrating the Birth & Growth of Sisterhood Saturday!\nSaturday\, December 6\n10:00 – 11:30am \nFellowship Hall \nPlease bring a brunch dish to share & a friend!  \nWe anticipate 50 -75 people. \nWhat is Sisterhood Saturday?\nSisterhood Saturday is an interactive women’s ministry led by Unity’s Interfaith minister Rev. Tami Johns. With a spiritual message\, music\, prayer\, reflection\, and meaningful dialogue\, we invite women of all ages to a sacred space of connection\, spiritual growth and renewal. \nOn the first Saturday of each month\, we invite women of all ages to explore your spirituality\, express your authentic self\, and feel the power of being truly seen. This circle of women holds space for one another. We recommend bringing a journal to capture insights\, inspiration\, and moments of self-discovery. \nCarrying on The Tradition\nFor generations\, women have gathered with their grandmothers\, aunts\, sisters\, and friends to navigate life’s joys and seasons together. Let’s carry on that tradition! Come as you are. Bring the women in your life—or come to find your new circle of sisterhood. \nIf you’d like to offer feedback or submit a testimonial of your Sisterhood Saturday experience to help spread the word about this ministry\, please email Tami.johns@unitytriangle.org.
URL:https://unitytriangle.org/event/sisterhood-saturday-with-rev-tami-johns-12-06-2025/
LOCATION:Fellowship Hall
CATEGORIES:Services,Small Groups
ATTACH;FMTTYPE=image/jpeg:https://unitytriangle.org/wp-content/uploads/2025/11/Sisterhood-Sat-Dec-6.jpg
END:VEVENT
BEGIN:VEVENT
DTSTART;TZID=America/New_York:20251101T100000
DTEND;TZID=America/New_York:20251101T113000
DTSTAMP:20260424T172729
CREATED:20251021T212427Z
LAST-MODIFIED:20251021T213244Z
UID:10011830-1761991200-1761996600@unitytriangle.org
SUMMARY:Sisterhood Saturday | With Rev. Tami Johns & Guest Speaker
DESCRIPTION:Interactive Women’s Ministry\nSisterhood Saturday with special guest speaker: Joset Wright-Lacy\nNovember 1\, 2025\n10:00-11:30am \nSanctuary \nUnity’s own Joset Wright-Lacy will lead a conversation about The Feminine Mystique based on the blockbuster book written by Betty Friedan in 1963. That book pushed the boundaries of telling women what they could be if they could live beyond the expectations of society. In an era when self-reflection by women was considered selfish\, the Feminine Mystique encouraged women to explore their options and opportunities.  \nWe’ve come a long way! But many women are still trying to figure out the myriad choices available. On Saturday\, we’ll explore how to unlock the key to finding your authentic self. When we discover our true self\, we understand what guides\, what energizes us and what frees us. The benefits of living from a place of self-knowledge are well worth the “dig” into self. And when we do that\, we can really shine. \nWhat is Sisterhood Saturday?\nAn interactive women’s ministry led by Unity’s Interfaith minister Rev. Tami Johns. With a spiritual message\, music\, prayer\, reflection\, and meaningful dialogue\, we invite women of all ages to a sacred space of connection\, spiritual growth\, renewal\, love\, and personal transformation. \nMake First Saturday of the Month A Sisterhood Saturday!  \nOn the first Saturday of each month\, we invite women of all ages to explore your spirituality\, express your authentic self\, and feel the power of being truly seen. This circle of women holds space for one another. We recommend bringing a journal to capture insights\, inspiration\, and moments of self-discovery. \nCarrying on The Tradition\nFor generations\, women have gathered with their grandmothers\, aunts\, sisters\, and friends to navigate life’s joys and seasons together. Let’s carry on that tradition! Come as you are. Bring the women in your life—or come to find your new circle of sisterhood. \nIf you’d like to offer feedback or submit a testimonial of your Sisterhood Saturday experience to help spread the word about this ministry\, please email Tami.johns@unitytriangle.org.
URL:https://unitytriangle.org/event/sisterhood-saturday-with-rev-tami-johns-nov-1-2025/
LOCATION:Sanctuary\, 5570 Munford Road\, Raleigh\, NC\, 27612
CATEGORIES:Services,Small Groups
ATTACH;FMTTYPE=image/jpeg:https://unitytriangle.org/wp-content/uploads/2025/10/Sisterhood-Sat-Joset-1.jpg
GEO:35.8584704;-78.6998074
X-APPLE-STRUCTURED-LOCATION;VALUE=URI;X-ADDRESS=Sanctuary 5570 Munford Road Raleigh NC 27612;X-APPLE-RADIUS=500;X-TITLE=5570 Munford Road:geo:-78.6998074,35.8584704
END:VEVENT
BEGIN:VEVENT
DTSTART;TZID=America/New_York:20251004T100000
DTEND;TZID=America/New_York:20251004T113000
DTSTAMP:20260424T172729
CREATED:20250926T220359Z
LAST-MODIFIED:20250926T231007Z
UID:10011829-1759572000-1759577400@unitytriangle.org
SUMMARY:Sisterhood Saturday | With Rev. Tami Johns
DESCRIPTION:What is Sisterhood Saturday?\nAn interactive women’s ministry led by Unity’s Interfaith minister Rev. Tami Johns. With a spiritual message\, music\, prayer\, reflection\, and meaningful dialogue\, we invite women of all ages to a sacred space of connection\, spiritual growth and renewal. On the first Saturday of each month\, we invite women of all ages to explore your spirituality\, express your authentic self\, and feel the power of being truly seen. This circle of women holds space for one another. We recommend bringing a journal to capture insights\, inspiration\, and moments of self-discovery. \nSaturday\, October 4\nAre you living your life on purpose\, the one your soul came here to experience?\n10:00 – 11:30am in the Fellowship Hall\nParker Palmer\, in his book Let Your Life Speak\, says\, “Before you tell your life what you intend to do with it\, listen for what it intends to do with you.” We will discuss vocation in terms of spirituality and how you live your life in alignment with God\, truth\, or a higher meaning. \nFind Your New Circle of Sisterhood\nFor generations\, women have gathered with their grandmothers\, aunts\, sisters\, and friends to navigate life’s joys and seasons together. Let’s carry on that tradition! Come as you are. Bring the women in your life—or come to find your new circle of sisterhood. \nIf you’d like to offer feedback or submit a testimonial of your Sisterhood Saturday experience to help spread the word about this ministry\, please email Tami.johns@unitytriangle.org.
URL:https://unitytriangle.org/event/sisterhood-saturday-with-rev-tami-johns-oct4/
LOCATION:Fellowship Hall
CATEGORIES:Services,Small Groups
ATTACH;FMTTYPE=image/jpeg:https://unitytriangle.org/wp-content/uploads/2025/07/Sisterhood-Sat-Monthly.jpg
END:VEVENT
END:VCALENDAR