BEGIN:VCALENDAR
VERSION:2.0
PRODID:-//Unity of the Triangle - ECPv6.15.18//NONSGML v1.0//EN
CALSCALE:GREGORIAN
METHOD:PUBLISH
X-ORIGINAL-URL:https://unitytriangle.org
X-WR-CALDESC:Events for Unity of the Triangle
REFRESH-INTERVAL;VALUE=DURATION:PT1H
X-Robots-Tag:noindex
X-PUBLISHED-TTL:PT1H
BEGIN:VTIMEZONE
TZID:America/New_York
BEGIN:DAYLIGHT
TZOFFSETFROM:-0500
TZOFFSETTO:-0400
TZNAME:EDT
DTSTART:20240310T070000
END:DAYLIGHT
BEGIN:STANDARD
TZOFFSETFROM:-0400
TZOFFSETTO:-0500
TZNAME:EST
DTSTART:20241103T060000
END:STANDARD
BEGIN:DAYLIGHT
TZOFFSETFROM:-0500
TZOFFSETTO:-0400
TZNAME:EDT
DTSTART:20250309T070000
END:DAYLIGHT
BEGIN:STANDARD
TZOFFSETFROM:-0400
TZOFFSETTO:-0500
TZNAME:EST
DTSTART:20251102T060000
END:STANDARD
BEGIN:DAYLIGHT
TZOFFSETFROM:-0500
TZOFFSETTO:-0400
TZNAME:EDT
DTSTART:20260308T070000
END:DAYLIGHT
BEGIN:STANDARD
TZOFFSETFROM:-0400
TZOFFSETTO:-0500
TZNAME:EST
DTSTART:20261101T060000
END:STANDARD
END:VTIMEZONE
BEGIN:VEVENT
DTSTART;TZID=America/New_York:20251023T180000
DTEND;TZID=America/New_York:20251023T193000
DTSTAMP:20260425T235247
CREATED:20250929T163636Z
LAST-MODIFIED:20250929T163636Z
UID:10012066-1761242400-1761247800@unitytriangle.org
SUMMARY:Yoga Event - Stillness for Strength
DESCRIPTION:In a world that prizes constant movement and productivity\, we often overlook the quiet power of stillness. However\,  in yoga philosophy\, stillness is not passive — it is a profound form of strength. \nJoin Bridge2Yoga for this complimentary 90-minute restorative yoga special event.  This time of self care is designed to help you reconnect with your body\, calm your mind\, and cultivate inner resilience through deep rest. This immersive session blends gentle movement\, long-held supportive postures\, breath-work\, and yogic wisdom to guide you inward. \nWe’ll explore the balance between strength and ease — and how true power often comes not from pushing harder\, but from learning to pause\, to breathe\, and to just be. Whether you’re a seasoned practitioner or new to restorative yoga\, this workshop will give you tools to reduce your stress and strengthen your nervous system. \nRegister for this free event HERE.  You must register to attend this Event.  Details also posted at Bridge2yoga.com \nBring your Yoga mat\, a small blanket and maybe a pillow to keep you comfortable.  Hot tea available afterwards.
URL:https://unitytriangle.org/event/yoga-event-stillness-for-strength/
LOCATION:Fellowship Hall
CATEGORIES:Yoga
ATTACH;FMTTYPE=image/png:https://unitytriangle.org/wp-content/uploads/2025/09/UnityOctWorkshop2025.png
END:VEVENT
END:VCALENDAR